Workbook

Sheet INTRODUCTION
A1: PASTURE & GRAZING MANAGEMENT CALCULATION SHEETS
A4: Enter data or dates into the cells coloured yellow
A6: Cells coloured blue will have values calculated automatically
A9: Click on the TABS (eg. PGR, WUE) below to move between worksheets
A11: Worksheets are all linked so data from each table is transferred to the other tables
A13: Print-out sheets are set up for you to print to have a hard copy if required
A15: The calculation sheets are to calculate values to manually enter into your Pasture Checklist
A16: Values are NOT stored in this spreadsheet, it is for calculation purposes only
A18: Developed by Lewis Kahn & Judi Earl of AIMS
A20: © Copyright, Agricultural Information and Monitoring Services 2005.
A21: Apart from any use permitted under the Copyright Act 1968, no part may be reproduced or altered
A22: by any process, nor may any other exclusive right be exercised, without the permission of AIMS.
... A39: Tel: 0409 151 969

Sheet PGR
A1: PASTURE GROWTH RATE
F2: AIMS: 0409 151 069
A3: Information required:
A4: 1. Paddock area (ha) | C4: 4. DSE rating for stock type
A5: 2. Length of period (days) | C5: 5. Herbage mass at start of period
A6: 3. Number and type of stock during period | C6: 6. Desired herbage mass at end of period
A8: Example table | D8: Enter your data in this table
A9: Paddock area (ha) | B9: 50 | C9: E | D9: Paddock area (ha)
A10: Start of period (date) | B10: 44562 | D10: Start of period (date)
A11: End of period (date) | B11: 44652 | D11: End of period (date)
A12: Length of period (days) | B12: =B11-B10 -> 90 | C12: D | D12: Length of period (days) | E12: =E11-E10 -> 0 | F12: =F11-F10 -> 0
A13: Start herbage mass (kg DM/ha) | B13: 1200 | C13: G | D13: Start herbage mass (kg DM/ha) | L13: Weaners
A14: End herbage mass (kg DM/ha) | B14: 2500 | C14: F | D14: End herbage mass (kg DM/ha) | L14: Hoggets
A15: Type of stock units - graze event 1 | B15: pregnant ewes | D15: Type of stock units - graze event 1 | L15: Ewes
A16: DSE/head | B16: 1.1 | C16: A1 | D16: DSE/head | L16: Ewes pregnant
A17: Number of stock units | B17: 600 | C17: B1 | D17: Number of stock units | L17: Ewes lactating
A18: Days in period grazed | B18: 20 | C18: C1 | D18: Days in period grazed | L18: Wethers
A19: Stocking rate (DSE/ha) - graze event 1 | B19: =(B16*B17*(B18/B12))/B9 -> 2.9333333 | D19: Stocking rate (DSE/ha) - graze event 1 | E19: =(E16*E17*(E18/E12))/E9 -> #DIV/0! | F19: =(F16*F17*(F18/F12))/F9 -> #DIV/0! | L19: Steers
A20: Type of stock units - graze event 2 | B20: pregnant ewes | D20: Type of stock units - graze event 2 | L20: Heifers
A21: DSE/head | B21: 1.1 | C21: A2 | D21: DSE/head | L21: Cows
A22: Number of stock units | B22: 600 | C22: B2 | D22: Number of stock units | L22: Cows pregnant
A23: Days in period grazed | B23: 50 | C23: C2 | D23: Days in period grazed | L23: Cows lactating
A24: Stocking rate (DSE/ha) - graze event 2 | B24: =(B21*B22*(B23/B12))/B9 -> 7.3333333 | D24: Stocking rate (DSE/ha) - graze event 2 | E24: =(E21*E22*(E23/E12))/E9 -> #DIV/0! | F24: =(F21*F22*(F23/F12))/F9 -> #DIV/0! | L24: Bulls
A25: Type of stock units - graze event 3 | B25: pregnant ewes | D25: Type of stock units - graze event3
A26: DSE/head | B26: 1.1 | C26: A3 | D26: DSE/head
A27: Number of stock units | B27: 600 | C27: B3 | D27: Number of stock units
A28: Days in period grazed | B28: 20 | C28: C3 | D28: Days in period grazed
A29: Stocking rate (DSE/ha) - graze event 3 | B29: =(B26*B27*(B28/B12))/B9 -> 2.9333333 | D29: Stocking rate (DSE/ha) - graze event 3 | E29: =(E26*E27*(E28/E12))/E9 -> #DIV/0! | F29: =(F26*F27*(F28/F12))/F9 -> #DIV/0!
A30: Pasture growth rate (kg DM/ha/d) | B30: =((B14-B13)/B12)+B19+B24+B29 -> 27.644444 | D30: Pasture growth rate (kg DM/ha/d) | E30: =((E14-E13)/E12)+E19+E24+E29 -> #DIV/0! | F30: =((F14-F13)/F12)+F19+F24+F29 -> #DIV/0!
A32: Stocking rate -1 = [DSE/hd'A1' x number of stock units'B1' x (days in period grazed 'C1' ÷ length of period'D')] ÷ paddock area 'E'
A34: Stocking rate -2 = [DSE/hd'A2' x number of stock units'B2' x (days in period grazed 'C2' ÷ length of period'D')] ÷ paddock area 'E'
A36: Stocking rate -3 = [DSE/hd'A3' x number of stock units'B3' x (days in period grazed 'C3' ÷ length of period'D')] ÷ paddock area 'E'
A38: Pasture growth rate = [(end herbage 'F' - start herbage 'G') ÷ length of period 'D'] + stocking rate -1 + stocking rate -2 + stocking rate -3
A40: If there were more than 3 grazing events then add stocking rate -4, etc to include all events

Sheet WUE
A1: WATER USE EFFICIENCY
A3: Information required: | F3: AIMS: 0409 151 069
A4: 1. Rainfall in the period (mm)
A5: 2. Pasture growth rate over the period (kg DM/ha/d)
A8: Example table | F8: Enter your data in this table
A9: Rainfall in the period (mm) | B9: 250 | D9: C | F9: Rainfall in the period (mm)
A10: Start of period (date) | B10: 44562 | F10: Start of period (date) | G10: =+PGR!E10 -> 0
A11: End of period (date) | B11: 44652 | F11: End of period (date) | G11: =+PGR!E11 -> 0
A12: Length of period (days) | B12: =+B11-B10 -> 90 | D12: B | F12: Length of period (days) | G12: =+G11-G10 -> 0
A13: Pasture growth rate (kg DM/ha/d) | B13: 28 | D13: A | F13: Pasture growth rate (kg DM/ha/d) | G13: =+PGR!E30 -> #DIV/0!
A14: Water use efficiency (kg DM/ha/mm) | B14: =+(B13*B12)/B9 -> 10.08 | F14: Water use efficiency (kg DM/ha/mm) | G14: =+(G13*G12)/G9 -> #DIV/0!
A16: Water use efficiency = (pasture growth rate 'A' x length of period 'B') ÷ rainfall 'C'
A18: When deciding the volume of rainfall that has fallen in the measurement period a few practical issues should be considered. These are:
A19: 1. All rainfall events in the week prior to the start of the period SHOULD be included because this rain will aid pasture growth during the measurement period.
A20: 2. All rainfall events in the last week of the measurement period SHOULD NOT be included because it is unlikely that these events will significantly affect pasture growth rate.

Sheet Utilisation
A1: PASTURE UTILISATION
A3: Information required: | F3: AIMS: 0409 151 069
A4: 1.Stocking rate in the period (DSE/ha)
A5: 2. Pasture growth rate over the period (kg DM/ha/d)
A8: Example table | F8: Enter your data in this table
A9: Stocking rate in the period (DSE/ha) | B9: 13.1 | D9: A | F9: Stocking rate in the period (DSE/ha) | G9: =+PGR!E19+PGR!E24+PGR!E29 -> #DIV/0!
A10: Start of period (date) | B10: 44562 | F10: Start of period (date) | G10: =+PGR!E10 -> 0
A11: End of period (date) | B11: 44652 | F11: End of period (date) | G11: =+PGR!E11 -> 0
A12: Length of period (days) | B12: =+B11-B10 -> 90 | F12: Length of period (days) | G12: =+G11-G10 -> 0
A13: Pasture growth rate (kg DM/ha/d) | B13: 28 | D13: B | F13: Pasture growth rate (kg DM/ha/d) | G13: =+PGR!E30 -> #DIV/0!
A14: Pasture utilisation (%) | B14: =+(B9/B13)*100 -> 46.785714 | F14: Pasture utilisation (%) | G14: =+(G9/G13)*100 -> #DIV/0!
A16: Pasture utilisation = (stocking rate 'A' ÷ pasture growth rate 'B') x 100
A18: Pasture utilisation should only be calculated over a period of at least 6 months. Keep in mind that utilisation will be greater over the non-growing period of
A19: winter and less over the rest of the year. The values in the pasture checklist refer to annual utilisation.

Sheet Feed Budget
A1: FEED BUDGETING
F2: AIMS: 0409 151 069
A3: Information required:
A4: 1. Farm area (ha) | C4: 4. DSE rating for stock type
A5: 2. Length of period (days) | C5: 5. Herbage mass at start of period
A6: 3.Type of stock during period | C6: 6. Desired herbage mass at end of period
A8: Example table | F8: Enter your data in this table
A9: Farm area (ha) | B9: 50 | D9: F | F9: Farm area (ha)
A10: Start of period (date) | B10: 44652 | F10: Start of period (date) | N10: Weaners
A11: End of period (date) | B11: 44835 | F11: End of period (date) | N11: Hoggets
A12: Length of period (days) | B12: =+B11-B10 -> 183 | D12: C | F12: Length of period (days) | G12: =+G11-G10 -> 0 | N12: Ewes
A13: Start herbage mass (kg DM/ha) | B13: 2500 | D13: A | F13: Start herbage mass (kg DM/ha) | N13: Ewes pregnant
A14: Desired end herbage mass (kg DM/ha) | B14: 1000 | D14: B | F14: Desired end herbage mass (kg DM/ha) | N14: Ewes lactating
A15: Pasture growth rate (kg DM/ha/d) | B15: 3 | D15: D | F15: Pasture growth rate (kg DM/ha/d) | N15: Wethers
A16: Available feed (kg DM/ha/d) | B16: =+((B13-B14)/B12)+B15 -> 11.196721 | F16: Available feed (kg DM/ha/d) | G16: =+((G13-G14)/G12)+G15 -> #DIV/0! | N16: Steers
A17: Type of stock | B17: pregnant ewes | F17: Type of stock | N17: Heifers
A18: DSE/head | B18: 1.1 | D18: E | F18: DSE/head | N18: Cows
A19: Number of stock units/ha | B19: =+B16/B18 -> 10.178838 | F19: Number of stock units/ha | G19: =+G16/G18 -> #DIV/0! | N19: Cows pregnant
A20: Number of stock units | B20: =+B19*B9 -> 508.94188 | F20: Number of stock units | G20: =+G19*G9 -> #DIV/0! | N20: Cows lactating
N21: Bulls
A22: Available feed = [(start herbage 'A' - end herbage 'B') ÷ length of period 'C'] + pasture growth rate 'D'
A23: Number of stock/ha = (available feed ÷ DSE per head 'E')
A24: Number of stock units= (number of stock units/ha x paddock area 'F')

Sheet DSE tables
A1: DSE rating for dry cattle
A2: Weight of steer or dry heifer | B2: Growth rate | C2: DSE rating
A3: (kg) | B3: (kg/day)
A4: 200 | B4: 0 | C4: 3.5
A5: 250 | B5: 0 | C5: 4.5
A6: 300 | B6: 0 | C6: 5.5
A7: 350 | B7: 0 | C7: 6.5
A8: 400 | B8: 0 | C8: 7.5
A10: 200 | B10: 0.5 | C10: 6
A11: 250 | B11: 0.5 | C11: 7
A12: 300 | B12: 0.5 | C12: 8
A13: 350 | B13: 0.5 | C13: 9
A14: 400 | B14: 0.5 | C14: 10
A16: 200 | B16: 1 | C16: Not likely
A17: 250 | B17: 1 | C17: 9.5
A18: 300 | B18: 1 | C18: 10.5
A19: 350 | B19: 1 | C19: 11.5
A20: 400 | B20: 1 | C20: 12.5
A23: DSE rating for cows
A24: Weight of cow | B24: Pregancy/ lactation | C24: DSE rating
A25: (kg)
A26: 400 | B26: dry | C26: 7.5
A27: 400 | B27: pregnant early | C27: 8
A28: 400 | B28: pregnant late | C28: 9.5
A29: 400 | B29: lactating early | C29: 14
A30: 400 | B30: lactating late | C30: 17
A32: 500 | B32: dry | C32: 9.5
A33: 500 | B33: pregnant early | C33: 10
A34: 500 | B34: pregnant late | C34: 11.5
A35: 500 | B35: lactating early | C35: 16
A36: 500 | B36: lactating late | C36: 19
A40: DSE rating for dry sheep
A41: Weight of sheep | B41: Growth rate | C41: DSE rating
A42: (kg) | B42: (g/day)
A43: 30 | B43: 0 | C43: 0.7
A44: 40 | B44: 0 | C44: 0.8
A45: 50 | B45: 0 | C45: 1
A46: 60 | B46: 0 | C46: 1.2
A48: 30 | B48: 50 | C48: 0.9
A49: 40 | B49: 50 | C49: 1
A50: 50 | B50: 50 | C50: 1.3
A51: 60 | B51: 50 | C51: 1.5
A53: 30 | B53: 100 | C53: 1.1
A54: 40 | B54: 100 | C54: 1.2
A55: 50 | B55: 100 | C55: 1.5
A56: 60 | B56: 100 | C56: 1.7
A58: DSE rating for ewes
A59: Weight of ewe | B59: Pregancy/ lactation | C59: DSE rating
A60: (kg)
A61: 40 | B61: dry | C61: 0.8
A62: 40 | B62: pregnant - single | C62: 1
A63: 40 | B63: pregnant - twin | C63: 1.1
A64: 40 | B64: lactating – single | C64: 2
A65: 40 | B65: lactating – twin | C65: 2.6
A67: 50 | B67: dry | C67: 1
A68: 50 | B68: pregnant - single | C68: 1.1
A69: 50 | B69: pregnant - twin | C69: 1.2
A70: 50 | B70: lactating – single | C70: 2.2
A71: 50 | B71: lactating – twin | C71: 2.8
A73: 60 | B73: dry | C73: 1.2
A74: 60 | B74: pregnant - single | C74: 1.3
... A77: 60 | B77: lactating – twin | C77: 3

Sheet Print-out sheets
A1: PASTURE GROWTH RATE | P1: WATER USE EFFICIENCY | Y1: UTILISATION | AI1: FEED BUDGET
B2: Paddock names | Q2: Paddock names | Z2: Paddock names | AJ2: Paddock names
A4: Your table | P4: Your table | Y4: Your table | AI4: Your table
A5: Paddock area (ha) | P5: Rainfall in the period (mm) | Y5: Stocking rate in the period (DSE/ha) | AI5: Farm area (ha)
A6: Start of period (date) | P6: Start of period (date) | Y6: Start of period (date) | AI6: Start of period (date)
A7: End of period (date) | P7: End of period (date) | Y7: End of period (date) | AI7: End of period (date)
A8: Length of period (days) | P8: Length of period (days) | Y8: Length of period (days) | AI8: Length of period (days)
A9: Start herbage mass (kg DM/ha) | P9: Pasture growth rate (kg DM/ha/d) | Y9: Pasture growth rate (kg DM/ha/d) | AI9: Start herbage mass (kg DM/ha)
A10: End herbage mass (kg DM/ha) | P10: Water use efficiency (kg DM/ha/mm) | Y10: Pasture utilisation (%) | AI10: Desired end herbage mass (kg DM/ha)
A11: Type of stock units - graze 1 | AI11: Pasture growth rate (kg DM/ha/d)
A12: DSE/head | AI12: Available feed (kg DM/ha/d)
A13: Number of stock units | AI13: Type of stock
A14: Days in period grazed | Q14: Paddock names | Z14: Paddock names | AI14: DSE/head
A15: Stocking rate (DSE/ha) -graze 1 | AI15: Number of stock units/ha
A16: Type of stock units - graze 2 | P16: Your table | Y16: Your table | AI16: Number of stock units
A17: DSE/head | P17: Rainfall in the period (mm) | Y17: Stocking rate in the period (DSE/ha)
A18: Number of stock units | P18: Start of period (date) | Y18: Start of period (date)
A19: Days in period grazed | P19: End of period (date) | Y19: End of period (date)
A20: Stocking rate (DSE/ha) - graze 2 | P20: Length of period (days) | Y20: Length of period (days)
A21: Type of stock units - graze 3 | P21: Pasture growth rate (kg DM/ha/d) | Y21: Pasture growth rate (kg DM/ha/d)
A22: DSE/head | P22: Water use efficiency (kg DM/ha/mm) | Y22: Pasture utilisation (%)
A23: Number of stock units
A24: Days in period grazed
A25: Stocking rate (DSE/ha) - graze 3
A26: Pasture growth rate (kg DM/ha/d)
