Workbook

Sheet Welcome!
C2: Welcome to the Graze Plan Calculator!
C5: Starting Page
C6: This software will assist you to complete a feed budget and grazing plan. You will need
C7: to enter some information in the various sheets such as "Group Names & Year", etc
C8: .... and then return to this home page and select a month to start the planning process.
B11: (i) | F11: =IF(LEN('Group Name and Year'!E8)>1,IF(LEN('Paddock Names'!C11)>0,IF('Growth Rates'!D11>0,IF('Herbage Mass Residual'!D11>0,"Choose a Month"," "),""),""),"<-- Start Here") -> <-- Start Here | H11: Jan | I11: Feb | J11: Mar
B13: (i) | F13: =IF(LEN('Paddock Names'!C11)<1,IF(LEN(F11)=0,"<-- Continue Here",""),"") | H13: Apr | I13: May | J13: June
B15: (i) | F15: =IF(LEN('Growth Rates'!D11)=0,IF(LEN(F13)>0,"","<-- Continue Here"),"") | H15: July | I15: Aug | J15: Sep
B17: (i) | F17: =IF(LEN('Herbage Mass Residual'!D11)=0,IF(LEN(F15)>0,"","<--Continue Here"),"") | H17: Oct | I17: Nov | J17: Dec
B25: Version 1.2v
B26: BETA
A28: © Agricultural Information and Monitoring Services 2007
A29: This work is copyright. Apart from any use permitted under the Copyright Act 1968, no part may be reproduced by any process,
A30: nor may any other exclusive right be exercised, without the permission of the authors.
A31: Agricultural Information and Monitoring Services PO Box 277, Guyra NSW.
A33: Note: This software requires that your computer is set to Australian Date formatting.
A34: To check this setting click Start --> Control Panel --> Regional and Language options.

Sheet Group Name and Year
B2: Group Name and Year
C6: Please enter a Stock Group name in the blue box below.
C8: Stock Group Name: | F8: (I)
C12: Please set the date you'd like to start using the system from.
C14: Calendar Year: | E14: 2022
C16: Click the "Next" arrow above to continue …

Sheet Paddock Names
C2: Paddock Names and Sizes
C5: Now we need some paddock names and sizes
F8: 1
C10: Paddock Names: | D10: Paddock Sizes:
B11: 1 | E11: =IF(C11>0,(IF(F$8=1,"Ha",IF(F$8=2,"Ac",IF(F$8=3,"Sq","?")))),"")
B12: 2 | E12: =IF(C12>0,(IF(F$8=1,"Ha",IF(F$8=2,"Ac",IF(F$8=3,"Sq","?")))),"")
B13: 3 | E13: =IF(C13>0,(IF(F$8=1,"Ha",IF(F$8=2,"Ac",IF(F$8=3,"Sq","?")))),"")
B14: 4 | E14: =IF(C14>0,(IF(F$8=1,"Ha",IF(F$8=2,"Ac",IF(F$8=3,"Sq","?")))),"")
B15: 5 | E15: =IF(C15>0,(IF(F$8=1,"Ha",IF(F$8=2,"Ac",IF(F$8=3,"Sq","?")))),"")
B16: 6 | E16: =IF(C16>0,(IF(F$8=1,"Ha",IF(F$8=2,"Ac",IF(F$8=3,"Sq","?")))),"")
B17: 7 | E17: =IF(C17>0,(IF(F$8=1,"Ha",IF(F$8=2,"Ac",IF(F$8=3,"Sq","?")))),"")
B18: 8 | E18: =IF(C18>0,(IF(F$8=1,"Ha",IF(F$8=2,"Ac",IF(F$8=3,"Sq","?")))),"")
B19: 9 | E19: =IF(C19>0,(IF(F$8=1,"Ha",IF(F$8=2,"Ac",IF(F$8=3,"Sq","?")))),"")
B20: 10 | E20: =IF(C20>0,(IF(F$8=1,"Ha",IF(F$8=2,"Ac",IF(F$8=3,"Sq","?")))),"")
B21: 11 | E21: =IF(C21>0,(IF(F$8=1,"Ha",IF(F$8=2,"Ac",IF(F$8=3,"Sq","?")))),"")
B22: 12 | E22: =IF(C22>0,(IF(F$8=1,"Ha",IF(F$8=2,"Ac",IF(F$8=3,"Sq","?")))),"")
... B139: 129 | E139: =IF(C139>0,(IF(F$8=1,"Ha",IF(F$8=2,"Ac",IF(F$8=3,"Sq","?")))),"")
B140: 130 | C140: END RECORD | D140: 20 | E140: =IF(C140>0,(IF(F$8=1,"Ha",IF(F$8=2,"Ac",IF(F$8=3,"Sq","?")))),"") -> Ha

Sheet Growth Rates
C2: Daily Pasture Growth Rates | E2: (kg DM/ha/day)
C3: Average Daily Pasture Growth Rates per Month
C5: Now for a tricky bit. We need to try to work out what our monthly growth rates will be.
C6: Note: You can use default values for Coastal or Tablelands using the dropdown box below "Name"
B7: (i) | C7: Of course, we can't predict the future all that well, so you only need to fill in estimates for
C8: the months that you want this system to calculate for.
C9: Name | D9: =VALUE(CONCATENATE("01/01/",'Group Name and Year'!E14)) -> 44562 | E9: =D9+31 -> 44593 | F9: =E9+31 -> 44624 | G9: =F9+31 -> 44655 | H9: =G9+31 -> 44686 | I9: =H9+31 -> 44717 | J9: =I9+31 -> 44748 | K9: =J9+31 -> 44779 | L9: =K9+31 -> 44810 | ... O9: =N9+31 -> 44903 | R9: Lookup | S9: 2
D10: =VLOOKUP($S$9,$R$11:$AD$12,2,FALSE) -> 30 | E10: =VLOOKUP($S$9,$R$11:$AD$12,3,FALSE) -> 25 | F10: =VLOOKUP($S$9,$R$11:$AD$12,4,FALSE) -> 15 | G10: =VLOOKUP($S$9,$R$11:$AD$12,5,FALSE) -> 10 | H10: =VLOOKUP($S$9,$R$11:$AD$12,6,FALSE) -> 5 | I10: =VLOOKUP($S$9,$R$11:$AD$12,7,FALSE) -> 0 | J10: =VLOOKUP($S$9,$R$11:$AD$12,8,FALSE) -> 0 | K10: =VLOOKUP($S$9,$R$11:$AD$12,9,FALSE) -> 0 | L10: =VLOOKUP($S$9,$R$11:$AD$12,10,FALSE) -> 5 | M10: =VLOOKUP($S$9,$R$11:$AD$12,11,FALSE) -> 15 | N10: =VLOOKUP($S$9,$R$11:$AD$12,12,FALSE) -> 35 | O10: =VLOOKUP($S$9,$R$11:$AD$12,13,FALSE) -> 30 | S10: Jan | T10: Feb | U10: Mar | V10: Apr | W10: May | X10: Jun | Y10: Jul | Z10: Aug | AA10: Sep | AB10: Oct | AC10: Nov | AD10: Dec
B11: 1 | C11: =IF('Paddock Names'!C11>0,'Paddock Names'!C11,"") | D11: =D$10 -> 30 | E11: =E$10 -> 25 | F11: =F$10 -> 15 | G11: =G$10 -> 10 | H11: =H$10 -> 5 | I11: =I$10 -> 0 | J11: =J$10 -> 0 | K11: =K$10 -> 0 | ... N11: =N$10 -> 35 | O11: =O10 -> 30 | R11: 1 | S11: 50 | T11: 50 | U11: 30 | V11: 15 | W11: 10 | X11: 3 | Y11: 0 | Z11: 0 | AA11: 3 | AB11: 15 | AC11: 30 | AD11: 40 | AE11: Coastal
B12: 2 | C12: =IF('Paddock Names'!C12>0,'Paddock Names'!C12,"") | D12: =D$10 -> 30 | E12: =E$10 -> 25 | F12: =F$10 -> 15 | G12: =G$10 -> 10 | H12: =H$10 -> 5 | I12: =I$10 -> 0 | J12: =J$10 -> 0 | K12: =K$10 -> 0 | ... N12: =N$10 -> 35 | O12: =O11 -> 30 | R12: 2 | S12: 30 | T12: 25 | U12: 15 | V12: 10 | W12: 5 | X12: 0 | Y12: 0 | Z12: 0 | AA12: 5 | AB12: 15 | AC12: 35 | AD12: 30 | AE12: Tablelands
B13: 3 | C13: =IF('Paddock Names'!C13>0,'Paddock Names'!C13,"") | D13: =D$10 -> 30 | E13: =E$10 -> 25 | F13: =F$10 -> 15 | G13: =G$10 -> 10 | H13: =H$10 -> 5 | I13: =I$10 -> 0 | J13: =J$10 -> 0 | K13: =K$10 -> 0 | ... O13: =O$10 -> 30
B14: 4 | C14: =IF('Paddock Names'!C14>0,'Paddock Names'!C14,"") | D14: =D$10 -> 30 | E14: =E$10 -> 25 | F14: =F$10 -> 15 | G14: =G$10 -> 10 | H14: =H$10 -> 5 | I14: =I$10 -> 0 | J14: =J$10 -> 0 | K14: =K$10 -> 0 | ... O14: =O$10 -> 30
B15: 5 | C15: =IF('Paddock Names'!C15>0,'Paddock Names'!C15,"") | D15: =D$10 -> 30 | E15: =E$10 -> 25 | F15: =F$10 -> 15 | G15: =G$10 -> 10 | H15: =H$10 -> 5 | I15: =I$10 -> 0 | J15: =J$10 -> 0 | K15: =K$10 -> 0 | ... O15: =O$10 -> 30
B16: 6 | C16: =IF('Paddock Names'!C16>0,'Paddock Names'!C16,"") | D16: =D$10 -> 30 | E16: =E$10 -> 25 | F16: =F$10 -> 15 | G16: =G$10 -> 10 | H16: =H$10 -> 5 | I16: =I$10 -> 0 | J16: =J$10 -> 0 | K16: =K$10 -> 0 | ... O16: =O$10 -> 30
B17: 7 | C17: =IF('Paddock Names'!C17>0,'Paddock Names'!C17,"") | D17: =D$10 -> 30 | E17: =E$10 -> 25 | F17: =F$10 -> 15 | G17: =G$10 -> 10 | H17: =H$10 -> 5 | I17: =I$10 -> 0 | J17: =J$10 -> 0 | K17: =K$10 -> 0 | ... O17: =O$10 -> 30
B18: 8 | C18: =IF('Paddock Names'!C18>0,'Paddock Names'!C18,"") | D18: =D$10 -> 30 | E18: =E$10 -> 25 | F18: =F$10 -> 15 | G18: =G$10 -> 10 | H18: =H$10 -> 5 | I18: =I$10 -> 0 | J18: =J$10 -> 0 | K18: =K$10 -> 0 | ... O18: =O$10 -> 30
B19: 9 | C19: =IF('Paddock Names'!C19>0,'Paddock Names'!C19,"") | D19: =D$10 -> 30 | E19: =E$10 -> 25 | F19: =F$10 -> 15 | G19: =G$10 -> 10 | H19: =H$10 -> 5 | I19: =I$10 -> 0 | J19: =J$10 -> 0 | K19: =K$10 -> 0 | ... O19: =O$10 -> 30
B20: 10 | C20: =IF('Paddock Names'!C20>0,'Paddock Names'!C20,"") | D20: =D$10 -> 30 | E20: =E$10 -> 25 | F20: =F$10 -> 15 | G20: =G$10 -> 10 | H20: =H$10 -> 5 | I20: =I$10 -> 0 | J20: =J$10 -> 0 | K20: =K$10 -> 0 | ... O20: =O$10 -> 30
B21: 11 | C21: =IF('Paddock Names'!C21>0,'Paddock Names'!C21,"") | D21: =D$10 -> 30 | E21: =E$10 -> 25 | F21: =F$10 -> 15 | G21: =G$10 -> 10 | H21: =H$10 -> 5 | I21: =I$10 -> 0 | J21: =J$10 -> 0 | K21: =K$10 -> 0 | ... O21: =O$10 -> 30
B22: 12 | C22: =IF('Paddock Names'!C22>0,'Paddock Names'!C22,"") | D22: =D$10 -> 30 | E22: =E$10 -> 25 | F22: =F$10 -> 15 | G22: =G$10 -> 10 | H22: =H$10 -> 5 | I22: =I$10 -> 0 | J22: =J$10 -> 0 | K22: =K$10 -> 0 | ... O22: =O$10 -> 30
B23: 13 | C23: =IF('Paddock Names'!C23>0,'Paddock Names'!C23,"") | D23: =D$10 -> 30 | E23: =E$10 -> 25 | F23: =F$10 -> 15 | G23: =G$10 -> 10 | H23: =H$10 -> 5 | I23: =I$10 -> 0 | J23: =J$10 -> 0 | K23: =K$10 -> 0 | ... O23: =O$10 -> 30
B24: 14 | C24: =IF('Paddock Names'!C24>0,'Paddock Names'!C24,"") | D24: =D$10 -> 30 | E24: =E$10 -> 25 | F24: =F$10 -> 15 | G24: =G$10 -> 10 | H24: =H$10 -> 5 | I24: =I$10 -> 0 | J24: =J$10 -> 0 | K24: =K$10 -> 0 | ... O24: =O$10 -> 30
... B140: 130 | C140: =IF('Paddock Names'!C140>0,'Paddock Names'!C140,"") -> END RECORD | D140: =D$10 -> 30 | E140: =E$10 -> 25 | F140: =F$10 -> 15 | G140: =G$10 -> 10 | H140: =H$10 -> 5 | I140: =I$10 -> 0 | J140: =J$10 -> 0 | K140: =K$10 -> 0 | ... O140: =O$10 -> 30

Sheet Herbage Mass Residual
C2: Herbage Mass Residual | E2: (kg DM/ha)
C6: Here you are asked to specify how much pasture you want to be left behind after grazing.
C7: Note: You can use default values for Coastal or Tablelands using the dropdown box below "Name"
D8: 1 | E8: 2 | F8: 3 | G8: 4 | H8: 5 | I8: 6 | J8: 7 | K8: 8 | L8: 9 | M8: 10 | N8: 11 | O8: 12
B9: Index2 | C9: Name | D9: =VALUE(CONCATENATE("01/01/",'Group Name and Year'!E14)) -> 44562 | E9: =D9+31 -> 44593 | F9: =E9+31 -> 44624 | G9: =F9+31 -> 44655 | H9: =G9+31 -> 44686 | I9: =H9+31 -> 44717 | J9: =I9+31 -> 44748 | K9: =J9+31 -> 44779 | L9: =K9+31 -> 44810 | ... O9: =N9+31 -> 44903 | R9: Lookup | S9: 2
D10: =VLOOKUP($S$9,$R$11:$AD$12,2,FALSE) -> 2200 | E10: =VLOOKUP($S$9,$R$11:$AD$12,3,FALSE) -> 2500 | F10: =VLOOKUP($S$9,$R$11:$AD$12,4,FALSE) -> 2400 | G10: =VLOOKUP($S$9,$R$11:$AD$12,5,FALSE) -> 2000 | H10: =VLOOKUP($S$9,$R$11:$AD$12,6,FALSE) -> 1500 | I10: =VLOOKUP($S$9,$R$11:$AD$12,7,FALSE) -> 1500 | J10: =VLOOKUP($S$9,$R$11:$AD$12,8,FALSE) -> 1500 | K10: =VLOOKUP($S$9,$R$11:$AD$12,9,FALSE) -> 1200 | L10: =VLOOKUP($S$9,$R$11:$AD$12,10,FALSE) -> 1200 | M10: =VLOOKUP($S$9,$R$11:$AD$12,11,FALSE) -> 1200 | N10: =VLOOKUP($S$9,$R$11:$AD$12,12,FALSE) -> 1800 | O10: =VLOOKUP($S$9,$R$11:$AD$12,13,FALSE) -> 2000 | S10: Jan | T10: Feb | U10: Mar | V10: Apr | W10: May | X10: Jun | Y10: Jul | Z10: Aug | AA10: Sep | AB10: Oct | AC10: Nov | AD10: Dec
B11: 1 | C11: =IF('Paddock Names'!C11>0,'Paddock Names'!C11,"") | D11: =D10 -> 2200 | E11: =E$10 -> 2500 | F11: =F$10 -> 2400 | G11: =G$10 -> 2000 | H11: =H$10 -> 1500 | I11: =I$10 -> 1500 | J11: =J$10 -> 1500 | K11: =K$10 -> 1200 | L11: =L$10 -> 1200 | ... O11: =O$10 -> 2000 | R11: 1 | S11: 2200 | T11: 2500 | U11: 2700 | V11: 2500 | W11: 2200 | X11: 1900 | Y11: 1700 | Z11: 1600 | AA11: 1500 | AB11: 1500 | AC11: 1700 | AD11: 1900 | AE11: Coastal
B12: 2 | C12: =IF('Paddock Names'!C12>0,'Paddock Names'!C12,"") | D12: =D$10 -> 2200 | E12: =E$10 -> 2500 | F12: =F$10 -> 2400 | G12: =G$10 -> 2000 | H12: =H$10 -> 1500 | I12: =I$10 -> 1500 | J12: =J$10 -> 1500 | K12: =K$10 -> 1200 | ... O12: =O$10 -> 2000 | R12: 2 | S12: 2200 | T12: 2500 | U12: 2400 | V12: 2000 | W12: 1500 | X12: 1500 | Y12: 1500 | Z12: 1200 | AA12: 1200 | AB12: 1200 | AC12: 1800 | AD12: 2000 | AE12: Tablelands
B13: 3 | C13: =IF('Paddock Names'!C13>0,'Paddock Names'!C13,"") | D13: =D$10 -> 2200 | E13: =E$10 -> 2500 | F13: =F$10 -> 2400 | G13: =G$10 -> 2000 | H13: =H$10 -> 1500 | I13: =I$10 -> 1500 | J13: =J$10 -> 1500 | K13: =K$10 -> 1200 | ... O13: =O$10 -> 2000
B14: 4 | C14: =IF('Paddock Names'!C14>0,'Paddock Names'!C14,"") | D14: =D$10 -> 2200 | E14: =E$10 -> 2500 | F14: =F$10 -> 2400 | G14: =G$10 -> 2000 | H14: =H$10 -> 1500 | I14: =I$10 -> 1500 | J14: =J$10 -> 1500 | K14: =K$10 -> 1200 | ... O14: =O$10 -> 2000
B15: 5 | C15: =IF('Paddock Names'!C15>0,'Paddock Names'!C15,"") | D15: =D$10 -> 2200 | E15: =E$10 -> 2500 | F15: =F$10 -> 2400 | G15: =G$10 -> 2000 | H15: =H$10 -> 1500 | I15: =I$10 -> 1500 | J15: =J$10 -> 1500 | K15: =K$10 -> 1200 | ... O15: =O$10 -> 2000
B16: 6 | C16: =IF('Paddock Names'!C16>0,'Paddock Names'!C16,"") | D16: =D$10 -> 2200 | E16: =E$10 -> 2500 | F16: =F$10 -> 2400 | G16: =G$10 -> 2000 | H16: =H$10 -> 1500 | I16: =I$10 -> 1500 | J16: =J$10 -> 1500 | K16: =K$10 -> 1200 | ... O16: =O$10 -> 2000
B17: 7 | C17: =IF('Paddock Names'!C17>0,'Paddock Names'!C17,"") | D17: =D$10 -> 2200 | E17: =E$10 -> 2500 | F17: =F$10 -> 2400 | G17: =G$10 -> 2000 | H17: =H$10 -> 1500 | I17: =I$10 -> 1500 | J17: =J$10 -> 1500 | K17: =K$10 -> 1200 | ... O17: =O$10 -> 2000
B18: 8 | C18: =IF('Paddock Names'!C18>0,'Paddock Names'!C18,"") | D18: =D$10 -> 2200 | E18: =E$10 -> 2500 | F18: =F$10 -> 2400 | G18: =G$10 -> 2000 | H18: =H$10 -> 1500 | I18: =I$10 -> 1500 | J18: =J$10 -> 1500 | K18: =K$10 -> 1200 | ... O18: =O$10 -> 2000
B19: 9 | C19: =IF('Paddock Names'!C19>0,'Paddock Names'!C19,"") | D19: =D$10 -> 2200 | E19: =E$10 -> 2500 | F19: =F$10 -> 2400 | G19: =G$10 -> 2000 | H19: =H$10 -> 1500 | I19: =I$10 -> 1500 | J19: =J$10 -> 1500 | K19: =K$10 -> 1200 | ... O19: =O$10 -> 2000
B20: 10 | C20: =IF('Paddock Names'!C20>0,'Paddock Names'!C20,"") | D20: =D$10 -> 2200 | E20: =E$10 -> 2500 | F20: =F$10 -> 2400 | G20: =G$10 -> 2000 | H20: =H$10 -> 1500 | I20: =I$10 -> 1500 | J20: =J$10 -> 1500 | K20: =K$10 -> 1200 | ... O20: =O$10 -> 2000
B21: 11 | C21: =IF('Paddock Names'!C21>0,'Paddock Names'!C21,"") | D21: =D$10 -> 2200 | E21: =E$10 -> 2500 | F21: =F$10 -> 2400 | G21: =G$10 -> 2000 | H21: =H$10 -> 1500 | I21: =I$10 -> 1500 | J21: =J$10 -> 1500 | K21: =K$10 -> 1200 | ... O21: =O$10 -> 2000
B22: 12 | C22: =IF('Paddock Names'!C22>0,'Paddock Names'!C22,"") | D22: =D$10 -> 2200 | E22: =E$10 -> 2500 | F22: =F$10 -> 2400 | G22: =G$10 -> 2000 | H22: =H$10 -> 1500 | I22: =I$10 -> 1500 | J22: =J$10 -> 1500 | K22: =K$10 -> 1200 | ... O22: =O$10 -> 2000
B23: 13 | C23: =IF('Paddock Names'!C23>0,'Paddock Names'!C23,"") | D23: =D$10 -> 2200 | E23: =E$10 -> 2500 | F23: =F$10 -> 2400 | G23: =G$10 -> 2000 | H23: =H$10 -> 1500 | I23: =I$10 -> 1500 | J23: =J$10 -> 1500 | K23: =K$10 -> 1200 | ... O23: =O$10 -> 2000
B24: 14 | C24: =IF('Paddock Names'!C24>0,'Paddock Names'!C24,"") | D24: =D$10 -> 2200 | E24: =E$10 -> 2500 | F24: =F$10 -> 2400 | G24: =G$10 -> 2000 | H24: =H$10 -> 1500 | I24: =I$10 -> 1500 | J24: =J$10 -> 1500 | K24: =K$10 -> 1200 | ... O24: =O$10 -> 2000
... B140: 130 | C140: =IF('Paddock Names'!C140>0,'Paddock Names'!C140,"") -> END RECORD | D140: =D$10 -> 2200 | E140: =E$10 -> 2500 | F140: =F$10 -> 2400 | G140: =G$10 -> 2000 | H140: =H$10 -> 1500 | I140: =I$10 -> 1500 | J140: =J$10 -> 1500 | K140: =K$10 -> 1200 | ... O140: =O$10 -> 2000

Sheet Jan
B1: 1
E6: ='Group Name and Year'!E14 -> 2022 | I6: =SUM(I11,I13,I15,I17,I19,I21,I23,I25,I27,I29,I31,I33,I35,I37,I39,I41,I43,I45,I47,I49,I51,I53,I55,I57,I59)+SUM(I61,I63,I65,I67,I69,I71,I73,I75,I77,I79,I81,I83,I85,I87,I89,I91,I93,I95,I97,I99,I101,I103,I105,I107,I109)+SUM(I111,I113,I115,I117,I119,I121,I123,I125,I127,I129,I131,I133,I135,I137,I139,I141,I143,I145,I147,I149,I151,I153,I155,I157,I159)+SUM(I161,I163,I165,I167,I169,I171,I173,I175,I177,I179,I181,I183,I185,I187,I189,I191,I193,I195,I197,I199,I201,I203,I205,I207,I209)+SUM(I211,I213,I215,I217,I219,I221,I223,I225,I227,I229,I231,I233,I235,I237,I239,I241,I243,I245,I247,I249,I251,I253,I255,I257,I259)+SUM(I261,I263,I265,I267,I269) -> 0 | J6: =SUM(J11,J13,J15,J17,J19,J21,J23,J25,J27,J29,J31,J33,J35,J37,J39,J41,J43,J45,J47,J49,J51,J53,J55,J57,J59)+SUM(J61,J63,J65,J67,J69,J71,J73,J75,J77,J79,J81,J83,J85,J87,J89,J91,J93,J95,J97,J99,J101,J103,J105,J107,J109)+SUM(J111,J113,J115,J117,J119,J121,J123,J125,J127,J129,J131,J133,J135,J137,J139,J141,J143,J145,J147,J149,J151,J153,J155,J157,J159)+SUM(J161,J163,J165,J167,J169,J171,J173,J175,J177,J179,J181,J183,J185,J187,J189,J191,J193,J195,J197,J199,J201,J203,J205,J207,J209)+SUM(J211,J213,J215,J217,J219,J221,J223,J225,J227,J229,J231,J233,J235,J237,J239,J241,J243,J245,J247,J249,J251,J253,J255,J257,J259)+SUM(J261,J263,J265,J267,J269) -> 0 | K6: =SUM(K11,K13,K15,K17,K19,K21,K23,K25,K27,K29,K31,K33,K35,K37,K39,K41,K43,K45,K47,K49,K51,K53,K55,K57,K59)+SUM(K61,K63,K65,K67,K69,K71,K73,K75,K77,K79,K81,K83,K85,K87,K89,K91,K93,K95,K97,K99,K101,K103,K105,K107,K109)+SUM(K111,K113,K115,K117,K119,K121,K123,K125,K127,K129,K131,K133,K135,K137,K139,K141,K143,K145,K147,K149,K151,K153,K155,K157,K159)+SUM(K161,K163,K165,K167,K169,K171,K173,K175,K177,K179,K181,K183,K185,K187,K189,K191,K193,K195,K197,K199,K201,K203,K205,K207,K209)+SUM(K211,K213,K215,K217,K219,K221,K223,K225,K227,K229,K231,K233,K235,K237,K239,K241,K243,K245,K247,K249,K251,K253,K255,K257,K259)+SUM(K261,K263,K265,K267,K269) -> 0 | L6: =SUM(L11,L13,L15,L17,L19,L21,L23,L25,L27,L29,L31,L33,L35,L37,L39,L41,L43,L45,L47,L49,L51,L53,L55,L57,L59)+SUM(L61,L63,L65,L67,L69,L71,L73,L75,L77,L79,L81,L83,L85,L87,L89,L91,L93,L95,L97,L99,L101,L103,L105,L107,L109)+SUM(L111,L113,L115,L117,L119,L121,L123,L125,L127,L129,L131,L133,L135,L137,L139,L141,L143,L145,L147,L149,L151,L153,L155,L157,L159)+SUM(L161,L163,L165,L167,L169,L171,L173,L175,L177,L179,L181,L183,L185,L187,L189,L191,L193,L195,L197,L199,L201,L203,L205,L207,L209)+SUM(L211,L213,L215,L217,L219,L221,L223,L225,L227,L229,L231,L233,L235,L237,L239,L241,L243,L245,L247,L249,L251,L253,L255,L257,L259)+SUM(L261,L263,L265,L267,L269) -> 0 | M6: =SUM(M11,M13,M15,M17,M19,M21,M23,M25,M27,M29,M31,M33,M35,M37,M39,M41,M43,M45,M47,M49,M51,M53,M55,M57,M59)+SUM(M61,M63,M65,M67,M69,M71,M73,M75,M77,M79,M81,M83,M85,M87,M89,M91,M93,M95,M97,M99,M101,M103,M105,M107,M109)+SUM(M111,M113,M115,M117,M119,M121,M123,M125,M127,M129,M131,M133,M135,M137,M139,M141,M143,M145,M147,M149,M151,M153,M155,M157,M159)+SUM(M161,M163,M165,M167,M169,M171,M173,M175,M177,M179,M181,M183,M185,M187,M189,M191,M193,M195,M197,M199,M201,M203,M205,M207,M209)+SUM(M211,M213,M215,M217,M219,M221,M223,M225,M227,M229,M231,M233,M235,M237,M239,M241,M243,M245,M247,M249,M251,M253,M255,M257,M259)+SUM(M261,M263,M265,M267,M269) -> 0 | N6: =SUM(N11,N13,N15,N17,N19,N21,N23,N25,N27,N29,N31,N33,N35,N37,N39,N41,N43,N45,N47,N49,N51,N53,N55,N57,N59)+SUM(N61,N63,N65,N67,N69,N71,N73,N75,N77,N79,N81,N83,N85,N87,N89,N91,N93,N95,N97,N99,N101,N103,N105,N107,N109)+SUM(N111,N113,N115,N117,N119,N121,N123,N125,N127,N129,N131,N133,N135,N137,N139,N141,N143,N145,N147,N149,N151,N153,N155,N157,N159)+SUM(N161,N163,N165,N167,N169,N171,N173,N175,N177,N179,N181,N183,N185,N187,N189,N191,N193,N195,N197,N199,N201,N203,N205,N207,N209)+SUM(N211,N213,N215,N217,N219,N221,N223,N225,N227,N229,N231,N233,N235,N237,N239,N241,N243,N245,N247,N249,N251,N253,N255,N257,N259)+SUM(N261,N263,N265,N267,N269) -> 0 | O6: =SUM(O11,O13,O15,O17,O19,O21,O23,O25,O27,O29,O31,O33,O35,O37,O39,O41,O43,O45,O47,O49,O51,O53,O55,O57,O59)+SUM(O61,O63,O65,O67,O69,O71,O73,O75,O77,O79,O81,O83,O85,O87,O89,O91,O93,O95,O97,O99,O101,O103,O105,O107,O109)+SUM(O111,O113,O115,O117,O119,O121,O123,O125,O127,O129,O131,O133,O135,O137,O139,O141,O143,O145,O147,O149,O151,O153,O155,O157,O159)+SUM(O161,O163,O165,O167,O169,O171,O173,O175,O177,O179,O181,O183,O185,O187,O189,O191,O193,O195,O197,O199,O201,O203,O205,O207,O209)+SUM(O211,O213,O215,O217,O219,O221,O223,O225,O227,O229,O231,O233,O235,O237,O239,O241,O243,O245,O247,O249,O251,O253,O255,O257,O259)+SUM(O261,O263,O265,O267,O269) -> 0 | P6: =SUM(P11,P13,P15,P17,P19,P21,P23,P25,P27,P29,P31,P33,P35,P37,P39,P41,P43,P45,P47,P49,P51,P53,P55,P57,P59)+SUM(P61,P63,P65,P67,P69,P71,P73,P75,P77,P79,P81,P83,P85,P87,P89,P91,P93,P95,P97,P99,P101,P103,P105,P107,P109)+SUM(P111,P113,P115,P117,P119,P121,P123,P125,P127,P129,P131,P133,P135,P137,P139,P141,P143,P145,P147,P149,P151,P153,P155,P157,P159)+SUM(P161,P163,P165,P167,P169,P171,P173,P175,P177,P179,P181,P183,P185,P187,P189,P191,P193,P195,P197,P199,P201,P203,P205,P207,P209)+SUM(P211,P213,P215,P217,P219,P221,P223,P225,P227,P229,P231,P233,P235,P237,P239,P241,P243,P245,P247,P249,P251,P253,P255,P257,P259)+SUM(P261,P263,P265,P267,P269) -> 0 | ... AM6: =SUM(AM11,AM13,AM15,AM17,AM19,AM21,AM23,AM25,AM27,AM29,AM31,AM33,AM35,AM37,AM39,AM41,AM43,AM45,AM47,AM49,AM51,AM53,AM55,AM57,AM59)+SUM(AM61,AM63,AM65,AM67,AM69,AM71,AM73,AM75,AM77,AM79,AM81,AM83,AM85,AM87,AM89,AM91,AM93,AM95,AM97,AM99,AM101,AM103,AM105,AM107,AM109)+SUM(AM111,AM113,AM115,AM117,AM119,AM121,AM123,AM125,AM127,AM129,AM131,AM133,AM135,AM137,AM139,AM141,AM143,AM145,AM147,AM149,AM151,AM153,AM155,AM157,AM159)+SUM(AM161,AM163,AM165,AM167,AM169,AM171,AM173,AM175,AM177,AM179,AM181,AM183,AM185,AM187,AM189,AM191,AM193,AM195,AM197,AM199,AM201,AM203,AM205,AM207,AM209)+SUM(AM211,AM213,AM215,AM217,AM219,AM221,AM223,AM225,AM227,AM229,AM231,AM233,AM235,AM237,AM239,AM241,AM243,AM245,AM247,AM249,AM251,AM253,AM255,AM257,AM259)+SUM(AM261,AM263,AM265,AM267,AM269) -> 0
C7: ='Group Name and Year'!E8 -> 0 | D7: Starting DSE | H7: Stocking Rate | I7: =F7 -> 0 | J7: =I7 -> 0 | K7: =J7 -> 0 | L7: =K7 -> 0 | M7: =L7 -> 0 | N7: =M7 -> 0 | O7: =N7 -> 0 | P7: =O7 -> 0 | Q7: =P7 -> 0 | ... AM7: =AL7 -> 0
C8: January | D8: Rainfall | E8: =IF(SUM(I8:AM8)>0,SUM(I8:AM8),"") | F8: (millimetres)
C9: on | D9: Grazing Days | F9: Herbage Mass | I9: =I10 -> 44562 | J9: =I10+1 -> 44563 | K9: =J10+1 -> 44564 | L9: =K10+1 -> 44565 | M9: =L10+1 -> 44566 | N9: =M10+1 -> 44567 | O9: =N10+1 -> 44568 | P9: =O10+1 -> 44569 | Q9: =P10+1 -> 44570 | ... AM9: =AL10+1 -> 44592
B10: index | C10: Paddock | D10: Max | E10: Current | F10: Start | G10: Residual | I10: =VALUE(CONCATENATE("01/",B1,"/",'Group Name and Year'!E14)) -> 44562 | J10: =I10+1 -> 44563 | K10: =J10+1 -> 44564 | L10: =K10+1 -> 44565 | M10: =L10+1 -> 44566 | N10: =M10+1 -> 44567 | O10: =N10+1 -> 44568 | P10: =O10+1 -> 44569 | Q10: =P10+1 -> 44570 | ... AM10: =AL10+1 -> 44592
B11: 1 | C11: =IF(VLOOKUP(B11,'Paddock Names'!$B$11:$C$140,2)>0,VLOOKUP(B11,'Paddock Names'!$B$11:$C$140,2),"") | D11: =IF(((F11-G11)/(((VLOOKUP(B11,'Growth Rates'!$B$11:$O$140,($B$1+2),FALSE)))+0.001-(((I$7/VLOOKUP(B11,'Paddock Names'!$B$11:$D$140,3))))))*-1>(VALUE(CONCATENATE("01/",$B$1+1,"/",'Group Name and Year'!$E$14))-VALUE(CONCATENATE("01/",$B$1,"/",'Group Name and Year'!$E$14))),(VALUE(CONCATENATE("01/",$B$1+1,"/",'Group Name and Year'!$E$14))-VALUE(CONCATENATE("01/",$B$1,"/",'Group Name and Year'!$E$14))),(IF(((F11-G11)/(((VLOOKUP(B11,'Growth Rates'!$B$11:$O$140,($B$1+2),FALSE)))+0.001-(((I$7/VLOOKUP(B11,'Paddock Names'!$B$11:$D$140,3))))))*-1>0,ROUNDDOWN(((F11-G11)/(((VLOOKUP(B11,'Growth Rates'!$B$11:$O$140,($B$1+2),FALSE)))-(((I$7/VLOOKUP(B11,'Paddock Names'!$B$11:$D$140,3))))))*-1,0),VALUE(CONCATENATE("01/",$B$1+1,"/",'Group Name and Year'!$E$14))-VALUE(CONCATENATE("01/",$B$1,"/",'Group Name and Year'!$E$14))))) -> #DIV/0! | E11: =IF(SUM(I11:AM11)>0,SUM(I11:AM11)," ") | G11: =VLOOKUP(B11,'Herbage Mass Residual'!$B$11:$O$140,($B$1+2),FALSE) -> 2200 | H11: =($F$7/VLOOKUP(B11,'Paddock Names'!$B$11:$D$140,3))*(SUM(I11:AM11)/31) -> #DIV/0!
B12: =B11+0.5 -> 1.5 | I12: =F11+(VLOOKUP(B11,'Growth Rates'!$B$11:$O$140,($B$1+2),FALSE))-(I11*(I$7/VLOOKUP(B11,'Paddock Names'!$B$11:$D$140,3))) -> #DIV/0! | J12: =I12+(VLOOKUP($B11,'Growth Rates'!$B$11:$O$140,($B$1+2),FALSE))-(J11*(J$7/VLOOKUP($B11,'Paddock Names'!$B$11:$D$140,3))) -> #DIV/0! | K12: =J12+(VLOOKUP($B11,'Growth Rates'!$B$11:$O$140,($B$1+2),FALSE))-(K11*(K$7/VLOOKUP($B11,'Paddock Names'!$B$11:$D$140,3))) -> #DIV/0! | L12: =K12+(VLOOKUP($B11,'Growth Rates'!$B$11:$O$140,($B$1+2),FALSE))-(L11*(L$7/VLOOKUP($B11,'Paddock Names'!$B$11:$D$140,3))) -> #DIV/0! | M12: =L12+(VLOOKUP($B11,'Growth Rates'!$B$11:$O$140,($B$1+2),FALSE))-(M11*(M$7/VLOOKUP($B11,'Paddock Names'!$B$11:$D$140,3))) -> #DIV/0! | N12: =M12+(VLOOKUP($B11,'Growth Rates'!$B$11:$O$140,($B$1+2),FALSE))-(N11*(N$7/VLOOKUP($B11,'Paddock Names'!$B$11:$D$140,3))) -> #DIV/0! | O12: =N12+(VLOOKUP($B11,'Growth Rates'!$B$11:$O$140,($B$1+2),FALSE))-(O11*(O$7/VLOOKUP($B11,'Paddock Names'!$B$11:$D$140,3))) -> #DIV/0! | P12: =O12+(VLOOKUP($B11,'Growth Rates'!$B$11:$O$140,($B$1+2),FALSE))-(P11*(P$7/VLOOKUP($B11,'Paddock Names'!$B$11:$D$140,3))) -> #DIV/0! | Q12: =P12+(VLOOKUP($B11,'Growth Rates'!$B$11:$O$140,($B$1+2),FALSE))-(Q11*(Q$7/VLOOKUP($B11,'Paddock Names'!$B$11:$D$140,3))) -> #DIV/0! | ... AM12: =AL12+(VLOOKUP($B11,'Growth Rates'!$B$11:$O$140,($B$1+2),FALSE))-(AM11*(AM$7/VLOOKUP($B11,'Paddock Names'!$B$11:$D$140,3))) -> #DIV/0!
B13: =B12+0.5 -> 2 | C13: =IF(VLOOKUP(B13,'Paddock Names'!$B$11:$C$140,2)>0,VLOOKUP(B13,'Paddock Names'!$B$11:$C$140,2),"") | D13: =IF(((F13-G13)/(((VLOOKUP(B13,'Growth Rates'!$B$11:$O$140,($B$1+2),FALSE)))+0.001-(((I$7/VLOOKUP(B13,'Paddock Names'!$B$11:$D$140,3))))))*-1>(VALUE(CONCATENATE("01/",$B$1+1,"/",'Group Name and Year'!$E$14))-VALUE(CONCATENATE("01/",$B$1,"/",'Group Name and Year'!$E$14))),(VALUE(CONCATENATE("01/",$B$1+1,"/",'Group Name and Year'!$E$14))-VALUE(CONCATENATE("01/",$B$1,"/",'Group Name and Year'!$E$14))),(IF(((F13-G13)/(((VLOOKUP(B13,'Growth Rates'!$B$11:$O$140,($B$1+2),FALSE)))+0.001-(((I$7/VLOOKUP(B13,'Paddock Names'!$B$11:$D$140,3))))))*-1>0,ROUNDDOWN(((F13-G13)/(((VLOOKUP(B13,'Growth Rates'!$B$11:$O$140,($B$1+2),FALSE)))-(((I$7/VLOOKUP(B13,'Paddock Names'!$B$11:$D$140,3))))))*-1,0),VALUE(CONCATENATE("01/",$B$1+1,"/",'Group Name and Year'!$E$14))-VALUE(CONCATENATE("01/",$B$1,"/",'Group Name and Year'!$E$14))))) -> #DIV/0! | E13: =IF(SUM(I13:AM13)>0,SUM(I13:AM13)," ") | G13: =VLOOKUP(B13,'Herbage Mass Residual'!$B$11:$O$140,($B$1+2),FALSE) -> 2200 | H13: =($F$7/VLOOKUP(B13,'Paddock Names'!$B$11:$D$140,3))*(SUM(I13:AM13)/31) -> #DIV/0!
B14: =B13+0.5 -> 2.5 | I14: =F13+(VLOOKUP(B13,'Growth Rates'!$B$11:$O$140,($B$1+2),FALSE))-(I13*(I$7/VLOOKUP(B13,'Paddock Names'!$B$11:$D$140,3))) -> #DIV/0! | J14: =I14+(VLOOKUP($B13,'Growth Rates'!$B$11:$O$140,($B$1+2),FALSE))-(J13*(J$7/VLOOKUP($B13,'Paddock Names'!$B$11:$D$140,3))) -> #DIV/0! | K14: =J14+(VLOOKUP($B13,'Growth Rates'!$B$11:$O$140,($B$1+2),FALSE))-(K13*(K$7/VLOOKUP($B13,'Paddock Names'!$B$11:$D$140,3))) -> #DIV/0! | L14: =K14+(VLOOKUP($B13,'Growth Rates'!$B$11:$O$140,($B$1+2),FALSE))-(L13*(L$7/VLOOKUP($B13,'Paddock Names'!$B$11:$D$140,3))) -> #DIV/0! | M14: =L14+(VLOOKUP($B13,'Growth Rates'!$B$11:$O$140,($B$1+2),FALSE))-(M13*(M$7/VLOOKUP($B13,'Paddock Names'!$B$11:$D$140,3))) -> #DIV/0! | N14: =M14+(VLOOKUP($B13,'Growth Rates'!$B$11:$O$140,($B$1+2),FALSE))-(N13*(N$7/VLOOKUP($B13,'Paddock Names'!$B$11:$D$140,3))) -> #DIV/0! | O14: =N14+(VLOOKUP($B13,'Growth Rates'!$B$11:$O$140,($B$1+2),FALSE))-(O13*(O$7/VLOOKUP($B13,'Paddock Names'!$B$11:$D$140,3))) -> #DIV/0! | P14: =O14+(VLOOKUP($B13,'Growth Rates'!$B$11:$O$140,($B$1+2),FALSE))-(P13*(P$7/VLOOKUP($B13,'Paddock Names'!$B$11:$D$140,3))) -> #DIV/0! | Q14: =P14+(VLOOKUP($B13,'Growth Rates'!$B$11:$O$140,($B$1+2),FALSE))-(Q13*(Q$7/VLOOKUP($B13,'Paddock Names'!$B$11:$D$140,3))) -> #DIV/0! | ... AM14: =AL14+(VLOOKUP($B13,'Growth Rates'!$B$11:$O$140,($B$1+2),FALSE))-(AM13*(AM$7/VLOOKUP($B13,'Paddock Names'!$B$11:$D$140,3))) -> #DIV/0!
B15: =B14+0.5 -> 3 | C15: =IF(VLOOKUP(B15,'Paddock Names'!$B$11:$C$140,2)>0,VLOOKUP(B15,'Paddock Names'!$B$11:$C$140,2),"") | D15: =IF(((F15-G15)/(((VLOOKUP(B15,'Growth Rates'!$B$11:$O$140,($B$1+2),FALSE)))+0.001-(((I$7/VLOOKUP(B15,'Paddock Names'!$B$11:$D$140,3))))))*-1>(VALUE(CONCATENATE("01/",$B$1+1,"/",'Group Name and Year'!$E$14))-VALUE(CONCATENATE("01/",$B$1,"/",'Group Name and Year'!$E$14))),(VALUE(CONCATENATE("01/",$B$1+1,"/",'Group Name and Year'!$E$14))-VALUE(CONCATENATE("01/",$B$1,"/",'Group Name and Year'!$E$14))),(IF(((F15-G15)/(((VLOOKUP(B15,'Growth Rates'!$B$11:$O$140,($B$1+2),FALSE)))+0.001-(((I$7/VLOOKUP(B15,'Paddock Names'!$B$11:$D$140,3))))))*-1>0,ROUNDDOWN(((F15-G15)/(((VLOOKUP(B15,'Growth Rates'!$B$11:$O$140,($B$1+2),FALSE)))-(((I$7/VLOOKUP(B15,'Paddock Names'!$B$11:$D$140,3))))))*-1,0),VALUE(CONCATENATE("01/",$B$1+1,"/",'Group Name and Year'!$E$14))-VALUE(CONCATENATE("01/",$B$1,"/",'Group Name and Year'!$E$14))))) -> #DIV/0! | E15: =IF(SUM(I15:AM15)>0,SUM(I15:AM15)," ") | G15: =VLOOKUP(B15,'Herbage Mass Residual'!$B$11:$O$140,($B$1+2),FALSE) -> 2200 | H15: =($F$7/VLOOKUP(B15,'Paddock Names'!$B$11:$D$140,3))*(SUM(I15:AM15)/31) -> #DIV/0!
B16: =B15+0.5 -> 3.5 | I16: =F15+(VLOOKUP(B15,'Growth Rates'!$B$11:$O$140,($B$1+2),FALSE))-(I15*(I$7/VLOOKUP(B15,'Paddock Names'!$B$11:$D$140,3))) -> #DIV/0! | J16: =I16+(VLOOKUP($B15,'Growth Rates'!$B$11:$O$140,($B$1+2),FALSE))-(J15*(J$7/VLOOKUP($B15,'Paddock Names'!$B$11:$D$140,3))) -> #DIV/0! | K16: =J16+(VLOOKUP($B15,'Growth Rates'!$B$11:$O$140,($B$1+2),FALSE))-(K15*(K$7/VLOOKUP($B15,'Paddock Names'!$B$11:$D$140,3))) -> #DIV/0! | L16: =K16+(VLOOKUP($B15,'Growth Rates'!$B$11:$O$140,($B$1+2),FALSE))-(L15*(L$7/VLOOKUP($B15,'Paddock Names'!$B$11:$D$140,3))) -> #DIV/0! | M16: =L16+(VLOOKUP($B15,'Growth Rates'!$B$11:$O$140,($B$1+2),FALSE))-(M15*(M$7/VLOOKUP($B15,'Paddock Names'!$B$11:$D$140,3))) -> #DIV/0! | N16: =M16+(VLOOKUP($B15,'Growth Rates'!$B$11:$O$140,($B$1+2),FALSE))-(N15*(N$7/VLOOKUP($B15,'Paddock Names'!$B$11:$D$140,3))) -> #DIV/0! | O16: =N16+(VLOOKUP($B15,'Growth Rates'!$B$11:$O$140,($B$1+2),FALSE))-(O15*(O$7/VLOOKUP($B15,'Paddock Names'!$B$11:$D$140,3))) -> #DIV/0! | P16: =O16+(VLOOKUP($B15,'Growth Rates'!$B$11:$O$140,($B$1+2),FALSE))-(P15*(P$7/VLOOKUP($B15,'Paddock Names'!$B$11:$D$140,3))) -> #DIV/0! | Q16: =P16+(VLOOKUP($B15,'Growth Rates'!$B$11:$O$140,($B$1+2),FALSE))-(Q15*(Q$7/VLOOKUP($B15,'Paddock Names'!$B$11:$D$140,3))) -> #DIV/0! | ... AM16: =AL16+(VLOOKUP($B15,'Growth Rates'!$B$11:$O$140,($B$1+2),FALSE))-(AM15*(AM$7/VLOOKUP($B15,'Paddock Names'!$B$11:$D$140,3))) -> #DIV/0!
B17: =B16+0.5 -> 4 | C17: =IF(VLOOKUP(B17,'Paddock Names'!$B$11:$C$140,2)>0,VLOOKUP(B17,'Paddock Names'!$B$11:$C$140,2),"") | D17: =IF(((F17-G17)/(((VLOOKUP(B17,'Growth Rates'!$B$11:$O$140,($B$1+2),FALSE)))+0.001-(((I$7/VLOOKUP(B17,'Paddock Names'!$B$11:$D$140,3))))))*-1>(VALUE(CONCATENATE("01/",$B$1+1,"/",'Group Name and Year'!$E$14))-VALUE(CONCATENATE("01/",$B$1,"/",'Group Name and Year'!$E$14))),(VALUE(CONCATENATE("01/",$B$1+1,"/",'Group Name and Year'!$E$14))-VALUE(CONCATENATE("01/",$B$1,"/",'Group Name and Year'!$E$14))),(IF(((F17-G17)/(((VLOOKUP(B17,'Growth Rates'!$B$11:$O$140,($B$1+2),FALSE)))+0.001-(((I$7/VLOOKUP(B17,'Paddock Names'!$B$11:$D$140,3))))))*-1>0,ROUNDDOWN(((F17-G17)/(((VLOOKUP(B17,'Growth Rates'!$B$11:$O$140,($B$1+2),FALSE)))-(((I$7/VLOOKUP(B17,'Paddock Names'!$B$11:$D$140,3))))))*-1,0),VALUE(CONCATENATE("01/",$B$1+1,"/",'Group Name and Year'!$E$14))-VALUE(CONCATENATE("01/",$B$1,"/",'Group Name and Year'!$E$14))))) -> #DIV/0! | E17: =IF(SUM(I17:AM17)>0,SUM(I17:AM17)," ") | G17: =VLOOKUP(B17,'Herbage Mass Residual'!$B$11:$O$140,($B$1+2),FALSE) -> 2200 | H17: =($F$7/VLOOKUP(B17,'Paddock Names'!$B$11:$D$140,3))*(SUM(I17:AM17)/31) -> #DIV/0!
B18: =B17+0.5 -> 4.5 | I18: =F17+(VLOOKUP(B17,'Growth Rates'!$B$11:$O$140,($B$1+2),FALSE))-(I17*(I$7/VLOOKUP(B17,'Paddock Names'!$B$11:$D$140,3))) -> #DIV/0! | J18: =I18+(VLOOKUP($B17,'Growth Rates'!$B$11:$O$140,($B$1+2),FALSE))-(J17*(J$7/VLOOKUP($B17,'Paddock Names'!$B$11:$D$140,3))) -> #DIV/0! | K18: =J18+(VLOOKUP($B17,'Growth Rates'!$B$11:$O$140,($B$1+2),FALSE))-(K17*(K$7/VLOOKUP($B17,'Paddock Names'!$B$11:$D$140,3))) -> #DIV/0! | L18: =K18+(VLOOKUP($B17,'Growth Rates'!$B$11:$O$140,($B$1+2),FALSE))-(L17*(L$7/VLOOKUP($B17,'Paddock Names'!$B$11:$D$140,3))) -> #DIV/0! | M18: =L18+(VLOOKUP($B17,'Growth Rates'!$B$11:$O$140,($B$1+2),FALSE))-(M17*(M$7/VLOOKUP($B17,'Paddock Names'!$B$11:$D$140,3))) -> #DIV/0! | N18: =M18+(VLOOKUP($B17,'Growth Rates'!$B$11:$O$140,($B$1+2),FALSE))-(N17*(N$7/VLOOKUP($B17,'Paddock Names'!$B$11:$D$140,3))) -> #DIV/0! | O18: =N18+(VLOOKUP($B17,'Growth Rates'!$B$11:$O$140,($B$1+2),FALSE))-(O17*(O$7/VLOOKUP($B17,'Paddock Names'!$B$11:$D$140,3))) -> #DIV/0! | P18: =O18+(VLOOKUP($B17,'Growth Rates'!$B$11:$O$140,($B$1+2),FALSE))-(P17*(P$7/VLOOKUP($B17,'Paddock Names'!$B$11:$D$140,3))) -> #DIV/0! | Q18: =P18+(VLOOKUP($B17,'Growth Rates'!$B$11:$O$140,($B$1+2),FALSE))-(Q17*(Q$7/VLOOKUP($B17,'Paddock Names'!$B$11:$D$140,3))) -> #DIV/0! | ... AM18: =AL18+(VLOOKUP($B17,'Growth Rates'!$B$11:$O$140,($B$1+2),FALSE))-(AM17*(AM$7/VLOOKUP($B17,'Paddock Names'!$B$11:$D$140,3))) -> #DIV/0!
B19: =B18+0.5 -> 5 | C19: =IF(VLOOKUP(B19,'Paddock Names'!$B$11:$C$140,2)>0,VLOOKUP(B19,'Paddock Names'!$B$11:$C$140,2),"") | D19: =IF(((F19-G19)/(((VLOOKUP(B19,'Growth Rates'!$B$11:$O$140,($B$1+2),FALSE)))+0.001-(((I$7/VLOOKUP(B19,'Paddock Names'!$B$11:$D$140,3))))))*-1>(VALUE(CONCATENATE("01/",$B$1+1,"/",'Group Name and Year'!$E$14))-VALUE(CONCATENATE("01/",$B$1,"/",'Group Name and Year'!$E$14))),(VALUE(CONCATENATE("01/",$B$1+1,"/",'Group Name and Year'!$E$14))-VALUE(CONCATENATE("01/",$B$1,"/",'Group Name and Year'!$E$14))),(IF(((F19-G19)/(((VLOOKUP(B19,'Growth Rates'!$B$11:$O$140,($B$1+2),FALSE)))+0.001-(((I$7/VLOOKUP(B19,'Paddock Names'!$B$11:$D$140,3))))))*-1>0,ROUNDDOWN(((F19-G19)/(((VLOOKUP(B19,'Growth Rates'!$B$11:$O$140,($B$1+2),FALSE)))-(((I$7/VLOOKUP(B19,'Paddock Names'!$B$11:$D$140,3))))))*-1,0),VALUE(CONCATENATE("01/",$B$1+1,"/",'Group Name and Year'!$E$14))-VALUE(CONCATENATE("01/",$B$1,"/",'Group Name and Year'!$E$14))))) -> #DIV/0! | E19: =IF(SUM(I19:AM19)>0,SUM(I19:AM19)," ") | G19: =VLOOKUP(B19,'Herbage Mass Residual'!$B$11:$O$140,($B$1+2),FALSE) -> 2200 | H19: =($F$7/VLOOKUP(B19,'Paddock Names'!$B$11:$D$140,3))*(SUM(I19:AM19)/31) -> #DIV/0!
B20: =B19+0.5 -> 5.5 | I20: =F19+(VLOOKUP(B19,'Growth Rates'!$B$11:$O$140,($B$1+2),FALSE))-(I19*(I$7/VLOOKUP(B19,'Paddock Names'!$B$11:$D$140,3))) -> #DIV/0! | J20: =I20+(VLOOKUP($B19,'Growth Rates'!$B$11:$O$140,($B$1+2),FALSE))-(J19*(J$7/VLOOKUP($B19,'Paddock Names'!$B$11:$D$140,3))) -> #DIV/0! | K20: =J20+(VLOOKUP($B19,'Growth Rates'!$B$11:$O$140,($B$1+2),FALSE))-(K19*(K$7/VLOOKUP($B19,'Paddock Names'!$B$11:$D$140,3))) -> #DIV/0! | L20: =K20+(VLOOKUP($B19,'Growth Rates'!$B$11:$O$140,($B$1+2),FALSE))-(L19*(L$7/VLOOKUP($B19,'Paddock Names'!$B$11:$D$140,3))) -> #DIV/0! | M20: =L20+(VLOOKUP($B19,'Growth Rates'!$B$11:$O$140,($B$1+2),FALSE))-(M19*(M$7/VLOOKUP($B19,'Paddock Names'!$B$11:$D$140,3))) -> #DIV/0! | N20: =M20+(VLOOKUP($B19,'Growth Rates'!$B$11:$O$140,($B$1+2),FALSE))-(N19*(N$7/VLOOKUP($B19,'Paddock Names'!$B$11:$D$140,3))) -> #DIV/0! | O20: =N20+(VLOOKUP($B19,'Growth Rates'!$B$11:$O$140,($B$1+2),FALSE))-(O19*(O$7/VLOOKUP($B19,'Paddock Names'!$B$11:$D$140,3))) -> #DIV/0! | P20: =O20+(VLOOKUP($B19,'Growth Rates'!$B$11:$O$140,($B$1+2),FALSE))-(P19*(P$7/VLOOKUP($B19,'Paddock Names'!$B$11:$D$140,3))) -> #DIV/0! | Q20: =P20+(VLOOKUP($B19,'Growth Rates'!$B$11:$O$140,($B$1+2),FALSE))-(Q19*(Q$7/VLOOKUP($B19,'Paddock Names'!$B$11:$D$140,3))) -> #DIV/0! | ... AM20: =AL20+(VLOOKUP($B19,'Growth Rates'!$B$11:$O$140,($B$1+2),FALSE))-(AM19*(AM$7/VLOOKUP($B19,'Paddock Names'!$B$11:$D$140,3))) -> #DIV/0!
B21: =B20+0.5 -> 6 | C21: =IF(VLOOKUP(B21,'Paddock Names'!$B$11:$C$140,2)>0,VLOOKUP(B21,'Paddock Names'!$B$11:$C$140,2),"") | D21: =IF(((F21-G21)/(((VLOOKUP(B21,'Growth Rates'!$B$11:$O$140,($B$1+2),FALSE)))+0.001-(((I$7/VLOOKUP(B21,'Paddock Names'!$B$11:$D$140,3))))))*-1>(VALUE(CONCATENATE("01/",$B$1+1,"/",'Group Name and Year'!$E$14))-VALUE(CONCATENATE("01/",$B$1,"/",'Group Name and Year'!$E$14))),(VALUE(CONCATENATE("01/",$B$1+1,"/",'Group Name and Year'!$E$14))-VALUE(CONCATENATE("01/",$B$1,"/",'Group Name and Year'!$E$14))),(IF(((F21-G21)/(((VLOOKUP(B21,'Growth Rates'!$B$11:$O$140,($B$1+2),FALSE)))+0.001-(((I$7/VLOOKUP(B21,'Paddock Names'!$B$11:$D$140,3))))))*-1>0,ROUNDDOWN(((F21-G21)/(((VLOOKUP(B21,'Growth Rates'!$B$11:$O$140,($B$1+2),FALSE)))-(((I$7/VLOOKUP(B21,'Paddock Names'!$B$11:$D$140,3))))))*-1,0),VALUE(CONCATENATE("01/",$B$1+1,"/",'Group Name and Year'!$E$14))-VALUE(CONCATENATE("01/",$B$1,"/",'Group Name and Year'!$E$14))))) -> #DIV/0! | E21: =IF(SUM(I21:AM21)>0,SUM(I21:AM21)," ") | G21: =VLOOKUP(B21,'Herbage Mass Residual'!$B$11:$O$140,($B$1+2),FALSE) -> 2200 | H21: =($F$7/VLOOKUP(B21,'Paddock Names'!$B$11:$D$140,3))*(SUM(I21:AM21)/31) -> #DIV/0!
B22: =B21+0.5 -> 6.5 | I22: =F21+(VLOOKUP(B21,'Growth Rates'!$B$11:$O$140,($B$1+2),FALSE))-(I21*(I$7/VLOOKUP(B21,'Paddock Names'!$B$11:$D$140,3))) -> #DIV/0! | J22: =I22+(VLOOKUP($B21,'Growth Rates'!$B$11:$O$140,($B$1+2),FALSE))-(J21*(J$7/VLOOKUP($B21,'Paddock Names'!$B$11:$D$140,3))) -> #DIV/0! | K22: =J22+(VLOOKUP($B21,'Growth Rates'!$B$11:$O$140,($B$1+2),FALSE))-(K21*(K$7/VLOOKUP($B21,'Paddock Names'!$B$11:$D$140,3))) -> #DIV/0! | L22: =K22+(VLOOKUP($B21,'Growth Rates'!$B$11:$O$140,($B$1+2),FALSE))-(L21*(L$7/VLOOKUP($B21,'Paddock Names'!$B$11:$D$140,3))) -> #DIV/0! | M22: =L22+(VLOOKUP($B21,'Growth Rates'!$B$11:$O$140,($B$1+2),FALSE))-(M21*(M$7/VLOOKUP($B21,'Paddock Names'!$B$11:$D$140,3))) -> #DIV/0! | N22: =M22+(VLOOKUP($B21,'Growth Rates'!$B$11:$O$140,($B$1+2),FALSE))-(N21*(N$7/VLOOKUP($B21,'Paddock Names'!$B$11:$D$140,3))) -> #DIV/0! | O22: =N22+(VLOOKUP($B21,'Growth Rates'!$B$11:$O$140,($B$1+2),FALSE))-(O21*(O$7/VLOOKUP($B21,'Paddock Names'!$B$11:$D$140,3))) -> #DIV/0! | P22: =O22+(VLOOKUP($B21,'Growth Rates'!$B$11:$O$140,($B$1+2),FALSE))-(P21*(P$7/VLOOKUP($B21,'Paddock Names'!$B$11:$D$140,3))) -> #DIV/0! | Q22: =P22+(VLOOKUP($B21,'Growth Rates'!$B$11:$O$140,($B$1+2),FALSE))-(Q21*(Q$7/VLOOKUP($B21,'Paddock Names'!$B$11:$D$140,3))) -> #DIV/0! | ... AM22: =AL22+(VLOOKUP($B21,'Growth Rates'!$B$11:$O$140,($B$1+2),FALSE))-(AM21*(AM$7/VLOOKUP($B21,'Paddock Names'!$B$11:$D$140,3))) -> #DIV/0!
B23: =B22+0.5 -> 7 | C23: =IF(VLOOKUP(B23,'Paddock Names'!$B$11:$C$140,2)>0,VLOOKUP(B23,'Paddock Names'!$B$11:$C$140,2),"") | D23: =IF(((F23-G23)/(((VLOOKUP(B23,'Growth Rates'!$B$11:$O$140,($B$1+2),FALSE)))+0.001-(((I$7/VLOOKUP(B23,'Paddock Names'!$B$11:$D$140,3))))))*-1>(VALUE(CONCATENATE("01/",$B$1+1,"/",'Group Name and Year'!$E$14))-VALUE(CONCATENATE("01/",$B$1,"/",'Group Name and Year'!$E$14))),(VALUE(CONCATENATE("01/",$B$1+1,"/",'Group Name and Year'!$E$14))-VALUE(CONCATENATE("01/",$B$1,"/",'Group Name and Year'!$E$14))),(IF(((F23-G23)/(((VLOOKUP(B23,'Growth Rates'!$B$11:$O$140,($B$1+2),FALSE)))+0.001-(((I$7/VLOOKUP(B23,'Paddock Names'!$B$11:$D$140,3))))))*-1>0,ROUNDDOWN(((F23-G23)/(((VLOOKUP(B23,'Growth Rates'!$B$11:$O$140,($B$1+2),FALSE)))-(((I$7/VLOOKUP(B23,'Paddock Names'!$B$11:$D$140,3))))))*-1,0),VALUE(CONCATENATE("01/",$B$1+1,"/",'Group Name and Year'!$E$14))-VALUE(CONCATENATE("01/",$B$1,"/",'Group Name and Year'!$E$14))))) -> #DIV/0! | E23: =IF(SUM(I23:AM23)>0,SUM(I23:AM23)," ") | G23: =VLOOKUP(B23,'Herbage Mass Residual'!$B$11:$O$140,($B$1+2),FALSE) -> 2200 | H23: =($F$7/VLOOKUP(B23,'Paddock Names'!$B$11:$D$140,3))*(SUM(I23:AM23)/31) -> #DIV/0!
B24: =B23+0.5 -> 7.5 | I24: =F23+(VLOOKUP(B23,'Growth Rates'!$B$11:$O$140,($B$1+2),FALSE))-(I23*(I$7/VLOOKUP(B23,'Paddock Names'!$B$11:$D$140,3))) -> #DIV/0! | J24: =I24+(VLOOKUP($B23,'Growth Rates'!$B$11:$O$140,($B$1+2),FALSE))-(J23*(J$7/VLOOKUP($B23,'Paddock Names'!$B$11:$D$140,3))) -> #DIV/0! | K24: =J24+(VLOOKUP($B23,'Growth Rates'!$B$11:$O$140,($B$1+2),FALSE))-(K23*(K$7/VLOOKUP($B23,'Paddock Names'!$B$11:$D$140,3))) -> #DIV/0! | L24: =K24+(VLOOKUP($B23,'Growth Rates'!$B$11:$O$140,($B$1+2),FALSE))-(L23*(L$7/VLOOKUP($B23,'Paddock Names'!$B$11:$D$140,3))) -> #DIV/0! | M24: =L24+(VLOOKUP($B23,'Growth Rates'!$B$11:$O$140,($B$1+2),FALSE))-(M23*(M$7/VLOOKUP($B23,'Paddock Names'!$B$11:$D$140,3))) -> #DIV/0! | N24: =M24+(VLOOKUP($B23,'Growth Rates'!$B$11:$O$140,($B$1+2),FALSE))-(N23*(N$7/VLOOKUP($B23,'Paddock Names'!$B$11:$D$140,3))) -> #DIV/0! | O24: =N24+(VLOOKUP($B23,'Growth Rates'!$B$11:$O$140,($B$1+2),FALSE))-(O23*(O$7/VLOOKUP($B23,'Paddock Names'!$B$11:$D$140,3))) -> #DIV/0! | P24: =O24+(VLOOKUP($B23,'Growth Rates'!$B$11:$O$140,($B$1+2),FALSE))-(P23*(P$7/VLOOKUP($B23,'Paddock Names'!$B$11:$D$140,3))) -> #DIV/0! | Q24: =P24+(VLOOKUP($B23,'Growth Rates'!$B$11:$O$140,($B$1+2),FALSE))-(Q23*(Q$7/VLOOKUP($B23,'Paddock Names'!$B$11:$D$140,3))) -> #DIV/0! | ... AM24: =AL24+(VLOOKUP($B23,'Growth Rates'!$B$11:$O$140,($B$1+2),FALSE))-(AM23*(AM$7/VLOOKUP($B23,'Paddock Names'!$B$11:$D$140,3))) -> #DIV/0!
B25: =B24+0.5 -> 8 | C25: =IF(VLOOKUP(B25,'Paddock Names'!$B$11:$C$140,2)>0,VLOOKUP(B25,'Paddock Names'!$B$11:$C$140,2),"") | D25: =IF(((F25-G25)/(((VLOOKUP(B25,'Growth Rates'!$B$11:$O$140,($B$1+2),FALSE)))+0.001-(((I$7/VLOOKUP(B25,'Paddock Names'!$B$11:$D$140,3))))))*-1>(VALUE(CONCATENATE("01/",$B$1+1,"/",'Group Name and Year'!$E$14))-VALUE(CONCATENATE("01/",$B$1,"/",'Group Name and Year'!$E$14))),(VALUE(CONCATENATE("01/",$B$1+1,"/",'Group Name and Year'!$E$14))-VALUE(CONCATENATE("01/",$B$1,"/",'Group Name and Year'!$E$14))),(IF(((F25-G25)/(((VLOOKUP(B25,'Growth Rates'!$B$11:$O$140,($B$1+2),FALSE)))+0.001-(((I$7/VLOOKUP(B25,'Paddock Names'!$B$11:$D$140,3))))))*-1>0,ROUNDDOWN(((F25-G25)/(((VLOOKUP(B25,'Growth Rates'!$B$11:$O$140,($B$1+2),FALSE)))-(((I$7/VLOOKUP(B25,'Paddock Names'!$B$11:$D$140,3))))))*-1,0),VALUE(CONCATENATE("01/",$B$1+1,"/",'Group Name and Year'!$E$14))-VALUE(CONCATENATE("01/",$B$1,"/",'Group Name and Year'!$E$14))))) -> #DIV/0! | E25: =IF(SUM(I25:AM25)>0,SUM(I25:AM25)," ") | G25: =VLOOKUP(B25,'Herbage Mass Residual'!$B$11:$O$140,($B$1+2),FALSE) -> 2200 | H25: =($F$7/VLOOKUP(B25,'Paddock Names'!$B$11:$D$140,3))*(SUM(I25:AM25)/31) -> #DIV/0!
B26: =B25+0.5 -> 8.5 | I26: =F25+(VLOOKUP(B25,'Growth Rates'!$B$11:$O$140,($B$1+2),FALSE))-(I25*(I$7/VLOOKUP(B25,'Paddock Names'!$B$11:$D$140,3))) -> #DIV/0! | J26: =I26+(VLOOKUP($B25,'Growth Rates'!$B$11:$O$140,($B$1+2),FALSE))-(J25*(J$7/VLOOKUP($B25,'Paddock Names'!$B$11:$D$140,3))) -> #DIV/0! | K26: =J26+(VLOOKUP($B25,'Growth Rates'!$B$11:$O$140,($B$1+2),FALSE))-(K25*(K$7/VLOOKUP($B25,'Paddock Names'!$B$11:$D$140,3))) -> #DIV/0! | L26: =K26+(VLOOKUP($B25,'Growth Rates'!$B$11:$O$140,($B$1+2),FALSE))-(L25*(L$7/VLOOKUP($B25,'Paddock Names'!$B$11:$D$140,3))) -> #DIV/0! | M26: =L26+(VLOOKUP($B25,'Growth Rates'!$B$11:$O$140,($B$1+2),FALSE))-(M25*(M$7/VLOOKUP($B25,'Paddock Names'!$B$11:$D$140,3))) -> #DIV/0! | N26: =M26+(VLOOKUP($B25,'Growth Rates'!$B$11:$O$140,($B$1+2),FALSE))-(N25*(N$7/VLOOKUP($B25,'Paddock Names'!$B$11:$D$140,3))) -> #DIV/0! | O26: =N26+(VLOOKUP($B25,'Growth Rates'!$B$11:$O$140,($B$1+2),FALSE))-(O25*(O$7/VLOOKUP($B25,'Paddock Names'!$B$11:$D$140,3))) -> #DIV/0! | P26: =O26+(VLOOKUP($B25,'Growth Rates'!$B$11:$O$140,($B$1+2),FALSE))-(P25*(P$7/VLOOKUP($B25,'Paddock Names'!$B$11:$D$140,3))) -> #DIV/0! | Q26: =P26+(VLOOKUP($B25,'Growth Rates'!$B$11:$O$140,($B$1+2),FALSE))-(Q25*(Q$7/VLOOKUP($B25,'Paddock Names'!$B$11:$D$140,3))) -> #DIV/0! | ... AM26: =AL26+(VLOOKUP($B25,'Growth Rates'!$B$11:$O$140,($B$1+2),FALSE))-(AM25*(AM$7/VLOOKUP($B25,'Paddock Names'!$B$11:$D$140,3))) -> #DIV/0!
B27: =B26+0.5 -> 9 | C27: =IF(VLOOKUP(B27,'Paddock Names'!$B$11:$C$140,2)>0,VLOOKUP(B27,'Paddock Names'!$B$11:$C$140,2),"") | D27: =IF(((F27-G27)/(((VLOOKUP(B27,'Growth Rates'!$B$11:$O$140,($B$1+2),FALSE)))+0.001-(((I$7/VLOOKUP(B27,'Paddock Names'!$B$11:$D$140,3))))))*-1>(VALUE(CONCATENATE("01/",$B$1+1,"/",'Group Name and Year'!$E$14))-VALUE(CONCATENATE("01/",$B$1,"/",'Group Name and Year'!$E$14))),(VALUE(CONCATENATE("01/",$B$1+1,"/",'Group Name and Year'!$E$14))-VALUE(CONCATENATE("01/",$B$1,"/",'Group Name and Year'!$E$14))),(IF(((F27-G27)/(((VLOOKUP(B27,'Growth Rates'!$B$11:$O$140,($B$1+2),FALSE)))+0.001-(((I$7/VLOOKUP(B27,'Paddock Names'!$B$11:$D$140,3))))))*-1>0,ROUNDDOWN(((F27-G27)/(((VLOOKUP(B27,'Growth Rates'!$B$11:$O$140,($B$1+2),FALSE)))-(((I$7/VLOOKUP(B27,'Paddock Names'!$B$11:$D$140,3))))))*-1,0),VALUE(CONCATENATE("01/",$B$1+1,"/",'Group Name and Year'!$E$14))-VALUE(CONCATENATE("01/",$B$1,"/",'Group Name and Year'!$E$14))))) -> #DIV/0! | E27: =IF(SUM(I27:AM27)>0,SUM(I27:AM27)," ") | G27: =VLOOKUP(B27,'Herbage Mass Residual'!$B$11:$O$140,($B$1+2),FALSE) -> 2200 | H27: =($F$7/VLOOKUP(B27,'Paddock Names'!$B$11:$D$140,3))*(SUM(I27:AM27)/31) -> #DIV/0!
B28: =B27+0.5 -> 9.5 | I28: =F27+(VLOOKUP(B27,'Growth Rates'!$B$11:$O$140,($B$1+2),FALSE))-(I27*(I$7/VLOOKUP(B27,'Paddock Names'!$B$11:$D$140,3))) -> #DIV/0! | J28: =I28+(VLOOKUP($B27,'Growth Rates'!$B$11:$O$140,($B$1+2),FALSE))-(J27*(J$7/VLOOKUP($B27,'Paddock Names'!$B$11:$D$140,3))) -> #DIV/0! | K28: =J28+(VLOOKUP($B27,'Growth Rates'!$B$11:$O$140,($B$1+2),FALSE))-(K27*(K$7/VLOOKUP($B27,'Paddock Names'!$B$11:$D$140,3))) -> #DIV/0! | L28: =K28+(VLOOKUP($B27,'Growth Rates'!$B$11:$O$140,($B$1+2),FALSE))-(L27*(L$7/VLOOKUP($B27,'Paddock Names'!$B$11:$D$140,3))) -> #DIV/0! | M28: =L28+(VLOOKUP($B27,'Growth Rates'!$B$11:$O$140,($B$1+2),FALSE))-(M27*(M$7/VLOOKUP($B27,'Paddock Names'!$B$11:$D$140,3))) -> #DIV/0! | N28: =M28+(VLOOKUP($B27,'Growth Rates'!$B$11:$O$140,($B$1+2),FALSE))-(N27*(N$7/VLOOKUP($B27,'Paddock Names'!$B$11:$D$140,3))) -> #DIV/0! | O28: =N28+(VLOOKUP($B27,'Growth Rates'!$B$11:$O$140,($B$1+2),FALSE))-(O27*(O$7/VLOOKUP($B27,'Paddock Names'!$B$11:$D$140,3))) -> #DIV/0! | P28: =O28+(VLOOKUP($B27,'Growth Rates'!$B$11:$O$140,($B$1+2),FALSE))-(P27*(P$7/VLOOKUP($B27,'Paddock Names'!$B$11:$D$140,3))) -> #DIV/0! | Q28: =P28+(VLOOKUP($B27,'Growth Rates'!$B$11:$O$140,($B$1+2),FALSE))-(Q27*(Q$7/VLOOKUP($B27,'Paddock Names'!$B$11:$D$140,3))) -> #DIV/0! | ... AM28: =AL28+(VLOOKUP($B27,'Growth Rates'!$B$11:$O$140,($B$1+2),FALSE))-(AM27*(AM$7/VLOOKUP($B27,'Paddock Names'!$B$11:$D$140,3))) -> #DIV/0!
B29: =B28+0.5 -> 10 | C29: =IF(VLOOKUP(B29,'Paddock Names'!$B$11:$C$140,2)>0,VLOOKUP(B29,'Paddock Names'!$B$11:$C$140,2),"") | D29: =IF(((F29-G29)/(((VLOOKUP(B29,'Growth Rates'!$B$11:$O$140,($B$1+2),FALSE)))+0.001-(((I$7/VLOOKUP(B29,'Paddock Names'!$B$11:$D$140,3))))))*-1>(VALUE(CONCATENATE("01/",$B$1+1,"/",'Group Name and Year'!$E$14))-VALUE(CONCATENATE("01/",$B$1,"/",'Group Name and Year'!$E$14))),(VALUE(CONCATENATE("01/",$B$1+1,"/",'Group Name and Year'!$E$14))-VALUE(CONCATENATE("01/",$B$1,"/",'Group Name and Year'!$E$14))),(IF(((F29-G29)/(((VLOOKUP(B29,'Growth Rates'!$B$11:$O$140,($B$1+2),FALSE)))+0.001-(((I$7/VLOOKUP(B29,'Paddock Names'!$B$11:$D$140,3))))))*-1>0,ROUNDDOWN(((F29-G29)/(((VLOOKUP(B29,'Growth Rates'!$B$11:$O$140,($B$1+2),FALSE)))-(((I$7/VLOOKUP(B29,'Paddock Names'!$B$11:$D$140,3))))))*-1,0),VALUE(CONCATENATE("01/",$B$1+1,"/",'Group Name and Year'!$E$14))-VALUE(CONCATENATE("01/",$B$1,"/",'Group Name and Year'!$E$14))))) -> #DIV/0! | E29: =IF(SUM(I29:AM29)>0,SUM(I29:AM29)," ") | G29: =VLOOKUP(B29,'Herbage Mass Residual'!$B$11:$O$140,($B$1+2),FALSE) -> 2200 | H29: =($F$7/VLOOKUP(B29,'Paddock Names'!$B$11:$D$140,3))*(SUM(I29:AM29)/31) -> #DIV/0!
B30: =B29+0.5 -> 10.5 | I30: =F29+(VLOOKUP(B29,'Growth Rates'!$B$11:$O$140,($B$1+2),FALSE))-(I29*(I$7/VLOOKUP(B29,'Paddock Names'!$B$11:$D$140,3))) -> #DIV/0! | J30: =I30+(VLOOKUP($B29,'Growth Rates'!$B$11:$O$140,($B$1+2),FALSE))-(J29*(J$7/VLOOKUP($B29,'Paddock Names'!$B$11:$D$140,3))) -> #DIV/0! | K30: =J30+(VLOOKUP($B29,'Growth Rates'!$B$11:$O$140,($B$1+2),FALSE))-(K29*(K$7/VLOOKUP($B29,'Paddock Names'!$B$11:$D$140,3))) -> #DIV/0! | L30: =K30+(VLOOKUP($B29,'Growth Rates'!$B$11:$O$140,($B$1+2),FALSE))-(L29*(L$7/VLOOKUP($B29,'Paddock Names'!$B$11:$D$140,3))) -> #DIV/0! | M30: =L30+(VLOOKUP($B29,'Growth Rates'!$B$11:$O$140,($B$1+2),FALSE))-(M29*(M$7/VLOOKUP($B29,'Paddock Names'!$B$11:$D$140,3))) -> #DIV/0! | N30: =M30+(VLOOKUP($B29,'Growth Rates'!$B$11:$O$140,($B$1+2),FALSE))-(N29*(N$7/VLOOKUP($B29,'Paddock Names'!$B$11:$D$140,3))) -> #DIV/0! | O30: =N30+(VLOOKUP($B29,'Growth Rates'!$B$11:$O$140,($B$1+2),FALSE))-(O29*(O$7/VLOOKUP($B29,'Paddock Names'!$B$11:$D$140,3))) -> #DIV/0! | P30: =O30+(VLOOKUP($B29,'Growth Rates'!$B$11:$O$140,($B$1+2),FALSE))-(P29*(P$7/VLOOKUP($B29,'Paddock Names'!$B$11:$D$140,3))) -> #DIV/0! | Q30: =P30+(VLOOKUP($B29,'Growth Rates'!$B$11:$O$140,($B$1+2),FALSE))-(Q29*(Q$7/VLOOKUP($B29,'Paddock Names'!$B$11:$D$140,3))) -> #DIV/0! | ... AM30: =AL30+(VLOOKUP($B29,'Growth Rates'!$B$11:$O$140,($B$1+2),FALSE))-(AM29*(AM$7/VLOOKUP($B29,'Paddock Names'!$B$11:$D$140,3))) -> #DIV/0!
B31: =B30+0.5 -> 11 | C31: =IF(VLOOKUP(B31,'Paddock Names'!$B$11:$C$140,2)>0,VLOOKUP(B31,'Paddock Names'!$B$11:$C$140,2),"") | D31: =IF(((F31-G31)/(((VLOOKUP(B31,'Growth Rates'!$B$11:$O$140,($B$1+2),FALSE)))+0.001-(((I$7/VLOOKUP(B31,'Paddock Names'!$B$11:$D$140,3))))))*-1>(VALUE(CONCATENATE("01/",$B$1+1,"/",'Group Name and Year'!$E$14))-VALUE(CONCATENATE("01/",$B$1,"/",'Group Name and Year'!$E$14))),(VALUE(CONCATENATE("01/",$B$1+1,"/",'Group Name and Year'!$E$14))-VALUE(CONCATENATE("01/",$B$1,"/",'Group Name and Year'!$E$14))),(IF(((F31-G31)/(((VLOOKUP(B31,'Growth Rates'!$B$11:$O$140,($B$1+2),FALSE)))+0.001-(((I$7/VLOOKUP(B31,'Paddock Names'!$B$11:$D$140,3))))))*-1>0,ROUNDDOWN(((F31-G31)/(((VLOOKUP(B31,'Growth Rates'!$B$11:$O$140,($B$1+2),FALSE)))-(((I$7/VLOOKUP(B31,'Paddock Names'!$B$11:$D$140,3))))))*-1,0),VALUE(CONCATENATE("01/",$B$1+1,"/",'Group Name and Year'!$E$14))-VALUE(CONCATENATE("01/",$B$1,"/",'Group Name and Year'!$E$14))))) -> #DIV/0! | E31: =IF(SUM(I31:AM31)>0,SUM(I31:AM31)," ") | G31: =VLOOKUP(B31,'Herbage Mass Residual'!$B$11:$O$140,($B$1+2),FALSE) -> 2200 | H31: =($F$7/VLOOKUP(B31,'Paddock Names'!$B$11:$D$140,3))*(SUM(I31:AM31)/31) -> #DIV/0!
B32: =B31+0.5 -> 11.5 | I32: =F31+(VLOOKUP(B31,'Growth Rates'!$B$11:$O$140,($B$1+2),FALSE))-(I31*(I$7/VLOOKUP(B31,'Paddock Names'!$B$11:$D$140,3))) -> #DIV/0! | J32: =I32+(VLOOKUP($B31,'Growth Rates'!$B$11:$O$140,($B$1+2),FALSE))-(J31*(J$7/VLOOKUP($B31,'Paddock Names'!$B$11:$D$140,3))) -> #DIV/0! | K32: =J32+(VLOOKUP($B31,'Growth Rates'!$B$11:$O$140,($B$1+2),FALSE))-(K31*(K$7/VLOOKUP($B31,'Paddock Names'!$B$11:$D$140,3))) -> #DIV/0! | L32: =K32+(VLOOKUP($B31,'Growth Rates'!$B$11:$O$140,($B$1+2),FALSE))-(L31*(L$7/VLOOKUP($B31,'Paddock Names'!$B$11:$D$140,3))) -> #DIV/0! | M32: =L32+(VLOOKUP($B31,'Growth Rates'!$B$11:$O$140,($B$1+2),FALSE))-(M31*(M$7/VLOOKUP($B31,'Paddock Names'!$B$11:$D$140,3))) -> #DIV/0! | N32: =M32+(VLOOKUP($B31,'Growth Rates'!$B$11:$O$140,($B$1+2),FALSE))-(N31*(N$7/VLOOKUP($B31,'Paddock Names'!$B$11:$D$140,3))) -> #DIV/0! | O32: =N32+(VLOOKUP($B31,'Growth Rates'!$B$11:$O$140,($B$1+2),FALSE))-(O31*(O$7/VLOOKUP($B31,'Paddock Names'!$B$11:$D$140,3))) -> #DIV/0! | P32: =O32+(VLOOKUP($B31,'Growth Rates'!$B$11:$O$140,($B$1+2),FALSE))-(P31*(P$7/VLOOKUP($B31,'Paddock Names'!$B$11:$D$140,3))) -> #DIV/0! | Q32: =P32+(VLOOKUP($B31,'Growth Rates'!$B$11:$O$140,($B$1+2),FALSE))-(Q31*(Q$7/VLOOKUP($B31,'Paddock Names'!$B$11:$D$140,3))) -> #DIV/0! | ... AM32: =AL32+(VLOOKUP($B31,'Growth Rates'!$B$11:$O$140,($B$1+2),FALSE))-(AM31*(AM$7/VLOOKUP($B31,'Paddock Names'!$B$11:$D$140,3))) -> #DIV/0!
B33: =B32+0.5 -> 12 | C33: =IF(VLOOKUP(B33,'Paddock Names'!$B$11:$C$140,2)>0,VLOOKUP(B33,'Paddock Names'!$B$11:$C$140,2),"") | D33: =IF(((F33-G33)/(((VLOOKUP(B33,'Growth Rates'!$B$11:$O$140,($B$1+2),FALSE)))+0.001-(((I$7/VLOOKUP(B33,'Paddock Names'!$B$11:$D$140,3))))))*-1>(VALUE(CONCATENATE("01/",$B$1+1,"/",'Group Name and Year'!$E$14))-VALUE(CONCATENATE("01/",$B$1,"/",'Group Name and Year'!$E$14))),(VALUE(CONCATENATE("01/",$B$1+1,"/",'Group Name and Year'!$E$14))-VALUE(CONCATENATE("01/",$B$1,"/",'Group Name and Year'!$E$14))),(IF(((F33-G33)/(((VLOOKUP(B33,'Growth Rates'!$B$11:$O$140,($B$1+2),FALSE)))+0.001-(((I$7/VLOOKUP(B33,'Paddock Names'!$B$11:$D$140,3))))))*-1>0,ROUNDDOWN(((F33-G33)/(((VLOOKUP(B33,'Growth Rates'!$B$11:$O$140,($B$1+2),FALSE)))-(((I$7/VLOOKUP(B33,'Paddock Names'!$B$11:$D$140,3))))))*-1,0),VALUE(CONCATENATE("01/",$B$1+1,"/",'Group Name and Year'!$E$14))-VALUE(CONCATENATE("01/",$B$1,"/",'Group Name and Year'!$E$14))))) -> #DIV/0! | E33: =IF(SUM(I33:AM33)>0,SUM(I33:AM33)," ") | G33: =VLOOKUP(B33,'Herbage Mass Residual'!$B$11:$O$140,($B$1+2),FALSE) -> 2200 | H33: =($F$7/VLOOKUP(B33,'Paddock Names'!$B$11:$D$140,3))*(SUM(I33:AM33)/31) -> #DIV/0!
B34: =B33+0.5 -> 12.5 | I34: =F33+(VLOOKUP(B33,'Growth Rates'!$B$11:$O$140,($B$1+2),FALSE))-(I33*(I$7/VLOOKUP(B33,'Paddock Names'!$B$11:$D$140,3))) -> #DIV/0! | J34: =I34+(VLOOKUP($B33,'Growth Rates'!$B$11:$O$140,($B$1+2),FALSE))-(J33*(J$7/VLOOKUP($B33,'Paddock Names'!$B$11:$D$140,3))) -> #DIV/0! | K34: =J34+(VLOOKUP($B33,'Growth Rates'!$B$11:$O$140,($B$1+2),FALSE))-(K33*(K$7/VLOOKUP($B33,'Paddock Names'!$B$11:$D$140,3))) -> #DIV/0! | L34: =K34+(VLOOKUP($B33,'Growth Rates'!$B$11:$O$140,($B$1+2),FALSE))-(L33*(L$7/VLOOKUP($B33,'Paddock Names'!$B$11:$D$140,3))) -> #DIV/0! | M34: =L34+(VLOOKUP($B33,'Growth Rates'!$B$11:$O$140,($B$1+2),FALSE))-(M33*(M$7/VLOOKUP($B33,'Paddock Names'!$B$11:$D$140,3))) -> #DIV/0! | N34: =M34+(VLOOKUP($B33,'Growth Rates'!$B$11:$O$140,($B$1+2),FALSE))-(N33*(N$7/VLOOKUP($B33,'Paddock Names'!$B$11:$D$140,3))) -> #DIV/0! | O34: =N34+(VLOOKUP($B33,'Growth Rates'!$B$11:$O$140,($B$1+2),FALSE))-(O33*(O$7/VLOOKUP($B33,'Paddock Names'!$B$11:$D$140,3))) -> #DIV/0! | P34: =O34+(VLOOKUP($B33,'Growth Rates'!$B$11:$O$140,($B$1+2),FALSE))-(P33*(P$7/VLOOKUP($B33,'Paddock Names'!$B$11:$D$140,3))) -> #DIV/0! | Q34: =P34+(VLOOKUP($B33,'Growth Rates'!$B$11:$O$140,($B$1+2),FALSE))-(Q33*(Q$7/VLOOKUP($B33,'Paddock Names'!$B$11:$D$140,3))) -> #DIV/0! | ... AM34: =AL34+(VLOOKUP($B33,'Growth Rates'!$B$11:$O$140,($B$1+2),FALSE))-(AM33*(AM$7/VLOOKUP($B33,'Paddock Names'!$B$11:$D$140,3))) -> #DIV/0!
B35: =B34+0.5 -> 13 | C35: =IF(VLOOKUP(B35,'Paddock Names'!$B$11:$C$140,2)>0,VLOOKUP(B35,'Paddock Names'!$B$11:$C$140,2),"") | D35: =IF(((F35-G35)/(((VLOOKUP(B35,'Growth Rates'!$B$11:$O$140,($B$1+2),FALSE)))+0.001-(((I$7/VLOOKUP(B35,'Paddock Names'!$B$11:$D$140,3))))))*-1>(VALUE(CONCATENATE("01/",$B$1+1,"/",'Group Name and Year'!$E$14))-VALUE(CONCATENATE("01/",$B$1,"/",'Group Name and Year'!$E$14))),(VALUE(CONCATENATE("01/",$B$1+1,"/",'Group Name and Year'!$E$14))-VALUE(CONCATENATE("01/",$B$1,"/",'Group Name and Year'!$E$14))),(IF(((F35-G35)/(((VLOOKUP(B35,'Growth Rates'!$B$11:$O$140,($B$1+2),FALSE)))+0.001-(((I$7/VLOOKUP(B35,'Paddock Names'!$B$11:$D$140,3))))))*-1>0,ROUNDDOWN(((F35-G35)/(((VLOOKUP(B35,'Growth Rates'!$B$11:$O$140,($B$1+2),FALSE)))-(((I$7/VLOOKUP(B35,'Paddock Names'!$B$11:$D$140,3))))))*-1,0),VALUE(CONCATENATE("01/",$B$1+1,"/",'Group Name and Year'!$E$14))-VALUE(CONCATENATE("01/",$B$1,"/",'Group Name and Year'!$E$14))))) -> #DIV/0! | E35: =IF(SUM(I35:AM35)>0,SUM(I35:AM35)," ") | G35: =VLOOKUP(B35,'Herbage Mass Residual'!$B$11:$O$140,($B$1+2),FALSE) -> 2200 | H35: =($F$7/VLOOKUP(B35,'Paddock Names'!$B$11:$D$140,3))*(SUM(I35:AM35)/31) -> #DIV/0!
B36: =B35+0.5 -> 13.5 | I36: =F35+(VLOOKUP(B35,'Growth Rates'!$B$11:$O$140,($B$1+2),FALSE))-(I35*(I$7/VLOOKUP(B35,'Paddock Names'!$B$11:$D$140,3))) -> #DIV/0! | J36: =I36+(VLOOKUP($B35,'Growth Rates'!$B$11:$O$140,($B$1+2),FALSE))-(J35*(J$7/VLOOKUP($B35,'Paddock Names'!$B$11:$D$140,3))) -> #DIV/0! | K36: =J36+(VLOOKUP($B35,'Growth Rates'!$B$11:$O$140,($B$1+2),FALSE))-(K35*(K$7/VLOOKUP($B35,'Paddock Names'!$B$11:$D$140,3))) -> #DIV/0! | L36: =K36+(VLOOKUP($B35,'Growth Rates'!$B$11:$O$140,($B$1+2),FALSE))-(L35*(L$7/VLOOKUP($B35,'Paddock Names'!$B$11:$D$140,3))) -> #DIV/0! | M36: =L36+(VLOOKUP($B35,'Growth Rates'!$B$11:$O$140,($B$1+2),FALSE))-(M35*(M$7/VLOOKUP($B35,'Paddock Names'!$B$11:$D$140,3))) -> #DIV/0! | N36: =M36+(VLOOKUP($B35,'Growth Rates'!$B$11:$O$140,($B$1+2),FALSE))-(N35*(N$7/VLOOKUP($B35,'Paddock Names'!$B$11:$D$140,3))) -> #DIV/0! | O36: =N36+(VLOOKUP($B35,'Growth Rates'!$B$11:$O$140,($B$1+2),FALSE))-(O35*(O$7/VLOOKUP($B35,'Paddock Names'!$B$11:$D$140,3))) -> #DIV/0! | P36: =O36+(VLOOKUP($B35,'Growth Rates'!$B$11:$O$140,($B$1+2),FALSE))-(P35*(P$7/VLOOKUP($B35,'Paddock Names'!$B$11:$D$140,3))) -> #DIV/0! | Q36: =P36+(VLOOKUP($B35,'Growth Rates'!$B$11:$O$140,($B$1+2),FALSE))-(Q35*(Q$7/VLOOKUP($B35,'Paddock Names'!$B$11:$D$140,3))) -> #DIV/0! | ... AM36: =AL36+(VLOOKUP($B35,'Growth Rates'!$B$11:$O$140,($B$1+2),FALSE))-(AM35*(AM$7/VLOOKUP($B35,'Paddock Names'!$B$11:$D$140,3))) -> #DIV/0!
B37: =B36+0.5 -> 14 | C37: =IF(VLOOKUP(B37,'Paddock Names'!$B$11:$C$140,2)>0,VLOOKUP(B37,'Paddock Names'!$B$11:$C$140,2),"") | D37: =IF(((F37-G37)/(((VLOOKUP(B37,'Growth Rates'!$B$11:$O$140,($B$1+2),FALSE)))+0.001-(((I$7/VLOOKUP(B37,'Paddock Names'!$B$11:$D$140,3))))))*-1>(VALUE(CONCATENATE("01/",$B$1+1,"/",'Group Name and Year'!$E$14))-VALUE(CONCATENATE("01/",$B$1,"/",'Group Name and Year'!$E$14))),(VALUE(CONCATENATE("01/",$B$1+1,"/",'Group Name and Year'!$E$14))-VALUE(CONCATENATE("01/",$B$1,"/",'Group Name and Year'!$E$14))),(IF(((F37-G37)/(((VLOOKUP(B37,'Growth Rates'!$B$11:$O$140,($B$1+2),FALSE)))+0.001-(((I$7/VLOOKUP(B37,'Paddock Names'!$B$11:$D$140,3))))))*-1>0,ROUNDDOWN(((F37-G37)/(((VLOOKUP(B37,'Growth Rates'!$B$11:$O$140,($B$1+2),FALSE)))-(((I$7/VLOOKUP(B37,'Paddock Names'!$B$11:$D$140,3))))))*-1,0),VALUE(CONCATENATE("01/",$B$1+1,"/",'Group Name and Year'!$E$14))-VALUE(CONCATENATE("01/",$B$1,"/",'Group Name and Year'!$E$14))))) -> #DIV/0! | E37: =IF(SUM(I37:AM37)>0,SUM(I37:AM37)," ") | G37: =VLOOKUP(B37,'Herbage Mass Residual'!$B$11:$O$140,($B$1+2),FALSE) -> 2200 | H37: =($F$7/VLOOKUP(B37,'Paddock Names'!$B$11:$D$140,3))*(SUM(I37:AM37)/31) -> #DIV/0!
B38: =B37+0.5 -> 14.5 | I38: =F37+(VLOOKUP(B37,'Growth Rates'!$B$11:$O$140,($B$1+2),FALSE))-(I37*(I$7/VLOOKUP(B37,'Paddock Names'!$B$11:$D$140,3))) -> #DIV/0! | J38: =I38+(VLOOKUP($B37,'Growth Rates'!$B$11:$O$140,($B$1+2),FALSE))-(J37*(J$7/VLOOKUP($B37,'Paddock Names'!$B$11:$D$140,3))) -> #DIV/0! | K38: =J38+(VLOOKUP($B37,'Growth Rates'!$B$11:$O$140,($B$1+2),FALSE))-(K37*(K$7/VLOOKUP($B37,'Paddock Names'!$B$11:$D$140,3))) -> #DIV/0! | L38: =K38+(VLOOKUP($B37,'Growth Rates'!$B$11:$O$140,($B$1+2),FALSE))-(L37*(L$7/VLOOKUP($B37,'Paddock Names'!$B$11:$D$140,3))) -> #DIV/0! | M38: =L38+(VLOOKUP($B37,'Growth Rates'!$B$11:$O$140,($B$1+2),FALSE))-(M37*(M$7/VLOOKUP($B37,'Paddock Names'!$B$11:$D$140,3))) -> #DIV/0! | N38: =M38+(VLOOKUP($B37,'Growth Rates'!$B$11:$O$140,($B$1+2),FALSE))-(N37*(N$7/VLOOKUP($B37,'Paddock Names'!$B$11:$D$140,3))) -> #DIV/0! | O38: =N38+(VLOOKUP($B37,'Growth Rates'!$B$11:$O$140,($B$1+2),FALSE))-(O37*(O$7/VLOOKUP($B37,'Paddock Names'!$B$11:$D$140,3))) -> #DIV/0! | P38: =O38+(VLOOKUP($B37,'Growth Rates'!$B$11:$O$140,($B$1+2),FALSE))-(P37*(P$7/VLOOKUP($B37,'Paddock Names'!$B$11:$D$140,3))) -> #DIV/0! | Q38: =P38+(VLOOKUP($B37,'Growth Rates'!$B$11:$O$140,($B$1+2),FALSE))-(Q37*(Q$7/VLOOKUP($B37,'Paddock Names'!$B$11:$D$140,3))) -> #DIV/0! | ... AM38: =AL38+(VLOOKUP($B37,'Growth Rates'!$B$11:$O$140,($B$1+2),FALSE))-(AM37*(AM$7/VLOOKUP($B37,'Paddock Names'!$B$11:$D$140,3))) -> #DIV/0!
B39: =B38+0.5 -> 15 | C39: =IF(VLOOKUP(B39,'Paddock Names'!$B$11:$C$140,2)>0,VLOOKUP(B39,'Paddock Names'!$B$11:$C$140,2),"") | D39: =IF(((F39-G39)/(((VLOOKUP(B39,'Growth Rates'!$B$11:$O$140,($B$1+2),FALSE)))+0.001-(((I$7/VLOOKUP(B39,'Paddock Names'!$B$11:$D$140,3))))))*-1>(VALUE(CONCATENATE("01/",$B$1+1,"/",'Group Name and Year'!$E$14))-VALUE(CONCATENATE("01/",$B$1,"/",'Group Name and Year'!$E$14))),(VALUE(CONCATENATE("01/",$B$1+1,"/",'Group Name and Year'!$E$14))-VALUE(CONCATENATE("01/",$B$1,"/",'Group Name and Year'!$E$14))),(IF(((F39-G39)/(((VLOOKUP(B39,'Growth Rates'!$B$11:$O$140,($B$1+2),FALSE)))+0.001-(((I$7/VLOOKUP(B39,'Paddock Names'!$B$11:$D$140,3))))))*-1>0,ROUNDDOWN(((F39-G39)/(((VLOOKUP(B39,'Growth Rates'!$B$11:$O$140,($B$1+2),FALSE)))-(((I$7/VLOOKUP(B39,'Paddock Names'!$B$11:$D$140,3))))))*-1,0),VALUE(CONCATENATE("01/",$B$1+1,"/",'Group Name and Year'!$E$14))-VALUE(CONCATENATE("01/",$B$1,"/",'Group Name and Year'!$E$14))))) -> #DIV/0! | E39: =IF(SUM(I39:AM39)>0,SUM(I39:AM39)," ") | G39: =VLOOKUP(B39,'Herbage Mass Residual'!$B$11:$O$140,($B$1+2),FALSE) -> 2200 | H39: =($F$7/VLOOKUP(B39,'Paddock Names'!$B$11:$D$140,3))*(SUM(I39:AM39)/31) -> #DIV/0!
