Workbook

Sheet Welcome!
C2: Welcome to the Graze Plan Calculator!
C5: Starting Page
C6: This software will assist you to complete a feed budget and grazing plan. You will need
C7: to enter some information in the various sheets such as "Group Names & Year", etc
C8: .... and then return to this home page and select a month to start the planning process.
B11: (i) | F11: =IF(LEN('Group Name and Year'!E8)>1,IF(LEN('Paddock Names'!C11)>0,IF('Growth Rates'!D11>0,IF('Herbage Mass Residual'!D11>0,"Choose a Month"," "),""),""),"<-- Start Here") -> <-- Start Here | H11: Jan | I11: Feb | J11: Mar
B13: (i) | F13: =IF(LEN('Paddock Names'!C11)<1,IF(LEN(F11)=0,"<-- Continue Here",""),"") | H13: Apr | I13: May | J13: June
B15: (i) | F15: =IF(LEN('Growth Rates'!D11)=0,IF(LEN(F13)>0,"","<-- Continue Here"),"") | H15: July | I15: Aug | J15: Sep
B17: (i) | F17: =IF(LEN('Herbage Mass Residual'!D11)=0,IF(LEN(F15)>0,"","<--Continue Here"),"") | H17: Oct | I17: Nov | J17: Dec
B25: Version 1.2v
B26: BETA
A28: © Agricultural Information and Monitoring Services 2007
A29: This work is copyright. Apart from any use permitted under the Copyright Act 1968, no part may be reproduced by any process,
A30: nor may any other exclusive right be exercised, without the permission of the authors.
A31: Agricultural Information and Monitoring Services PO Box 277, Guyra NSW.
A33: Note: This software requires that your computer is set to Australian Date formatting.
A34: To check this setting click Start --> Control Panel --> Regional and Language options.

Sheet Group Name and Year
B2: Group Name and Year
C6: Please enter a Stock Group name in the blue box below.
C8: Stock Group Name: | F8: (I)
C12: Please set the date you'd like to start using the system from.
C14: Calendar Year: | E14: 2022
C16: Click the "Next" arrow above to continue …

Sheet Paddock Names
C2: Paddock Names and Sizes
C5: Now we need some paddock names and sizes
F8: 1
C10: Paddock Names: | D10: Paddock Sizes:
B11: 1 | E11: =IF(C11>0,(IF(F$8=1,"Ha",IF(F$8=2,"Ac",IF(F$8=3,"Sq","?")))),"")
B12: 2 | E12: =IF(C12>0,(IF(F$8=1,"Ha",IF(F$8=2,"Ac",IF(F$8=3,"Sq","?")))),"")
B13: 3 | E13: =IF(C13>0,(IF(F$8=1,"Ha",IF(F$8=2,"Ac",IF(F$8=3,"Sq","?")))),"")
B14: 4 | E14: =IF(C14>0,(IF(F$8=1,"Ha",IF(F$8=2,"Ac",IF(F$8=3,"Sq","?")))),"")
B15: 5 | E15: =IF(C15>0,(IF(F$8=1,"Ha",IF(F$8=2,"Ac",IF(F$8=3,"Sq","?")))),"")
B16: 6 | E16: =IF(C16>0,(IF(F$8=1,"Ha",IF(F$8=2,"Ac",IF(F$8=3,"Sq","?")))),"")
B17: 7 | E17: =IF(C17>0,(IF(F$8=1,"Ha",IF(F$8=2,"Ac",IF(F$8=3,"Sq","?")))),"")
B18: 8 | E18: =IF(C18>0,(IF(F$8=1,"Ha",IF(F$8=2,"Ac",IF(F$8=3,"Sq","?")))),"")
B19: 9 | E19: =IF(C19>0,(IF(F$8=1,"Ha",IF(F$8=2,"Ac",IF(F$8=3,"Sq","?")))),"")
B20: 10 | E20: =IF(C20>0,(IF(F$8=1,"Ha",IF(F$8=2,"Ac",IF(F$8=3,"Sq","?")))),"")
B21: 11 | E21: =IF(C21>0,(IF(F$8=1,"Ha",IF(F$8=2,"Ac",IF(F$8=3,"Sq","?")))),"")
B22: 12 | E22: =IF(C22>0,(IF(F$8=1,"Ha",IF(F$8=2,"Ac",IF(F$8=3,"Sq","?")))),"")
... B139: 129 | E139: =IF(C139>0,(IF(F$8=1,"Ha",IF(F$8=2,"Ac",IF(F$8=3,"Sq","?")))),"")
B140: 130 | C140: END RECORD | D140: 20 | E140: =IF(C140>0,(IF(F$8=1,"Ha",IF(F$8=2,"Ac",IF(F$8=3,"Sq","?")))),"") -> Ha

Sheet Growth Rates
C2: Daily Pasture Growth Rates | E2: (kg DM/ha/day)
C3: Average Daily Pasture Growth Rates per Month
C5: Now for a tricky bit. We need to try to work out what our monthly growth rates will be.
C6: Note: You can use default values for Coastal or Tablelands using the dropdown box below "Name"
B7: (i) | C7: Of course, we can't predict the future all that well, so you only need to fill in estimates for
C8: the months that you want this system to calculate for.
C9: Name | D9: =VALUE(CONCATENATE("01/01/",'Group Name and Year'!E14)) -> 44562 | E9: =D9+31 -> 44593 | F9: =E9+31 -> 44624 | G9: =F9+31 -> 44655 | H9: =G9+31 -> 44686 | I9: =H9+31 -> 44717 | J9: =I9+31 -> 44748 | K9: =J9+31 -> 44779 | L9: =K9+31 -> 44810 | ... O9: =N9+31 -> 44903 | R9: Lookup | S9: 2
D10: =VLOOKUP($S$9,$R$11:$AD$12,2,FALSE) -> 30 | E10: =VLOOKUP($S$9,$R$11:$AD$12,3,FALSE) -> 25 | F10: =VLOOKUP($S$9,$R$11:$AD$12,4,FALSE) -> 15 | G10: =VLOOKUP($S$9,$R$11:$AD$12,5,FALSE) -> 10 | H10: =VLOOKUP($S$9,$R$11:$AD$12,6,FALSE) -> 5 | I10: =VLOOKUP($S$9,$R$11:$AD$12,7,FALSE) -> 0 | J10: =VLOOKUP($S$9,$R$11:$AD$12,8,FALSE) -> 0 | K10: =VLOOKUP($S$9,$R$11:$AD$12,9,FALSE) -> 0 | L10: =VLOOKUP($S$9,$R$11:$AD$12,10,FALSE) -> 5 | M10: =VLOOKUP($S$9,$R$11:$AD$12,11,FALSE) -> 15 | N10: =VLOOKUP($S$9,$R$11:$AD$12,12,FALSE) -> 35 | O10: =VLOOKUP($S$9,$R$11:$AD$12,13,FALSE) -> 30 | S10: Jan | T10: Feb | U10: Mar | V10: Apr | W10: May | X10: Jun | Y10: Jul | Z10: Aug | AA10: Sep | AB10: Oct | AC10: Nov | AD10: Dec
B11: 1 | C11: =IF('Paddock Names'!C11>0,'Paddock Names'!C11,"") | D11: =D$10 -> 30 | E11: =E$10 -> 25 | F11: =F$10 -> 15 | G11: =G$10 -> 10 | H11: =H$10 -> 5 | I11: =I$10 -> 0 | J11: =J$10 -> 0 | K11: =K$10 -> 0 | ... N11: =N$10 -> 35 | O11: =O10 -> 30 | R11: 1 | S11: 50 | T11: 50 | U11: 30 | V11: 15 | W11: 10 | X11: 3 | Y11: 0 | Z11: 0 | AA11: 3 | AB11: 15 | AC11: 30 | AD11: 40 | AE11: Coastal
B12: 2 | C12: =IF('Paddock Names'!C12>0,'Paddock Names'!C12,"") | D12: =D$10 -> 30 | E12: =E$10 -> 25 | F12: =F$10 -> 15 | G12: =G$10 -> 10 | H12: =H$10 -> 5 | I12: =I$10 -> 0 | J12: =J$10 -> 0 | K12: =K$10 -> 0 | ... N12: =N$10 -> 35 | O12: =O11 -> 30 | R12: 2 | S12: 30 | T12: 25 | U12: 15 | V12: 10 | W12: 5 | X12: 0 | Y12: 0 | Z12: 0 | AA12: 5 | AB12: 15 | AC12: 35 | AD12: 30 | AE12: Tablelands
B13: 3 | C13: =IF('Paddock Names'!C13>0,'Paddock Names'!C13,"") | D13: =D$10 -> 30 | E13: =E$10 -> 25 | F13: =F$10 -> 15 | G13: =G$10 -> 10 | H13: =H$10 -> 5 | I13: =I$10 -> 0 | J13: =J$10 -> 0 | K13: =K$10 -> 0 | ... O13: =O$10 -> 30
B14: 4 | C14: =IF('Paddock Names'!C14>0,'Paddock Names'!C14,"") | D14: =D$10 -> 30 | E14: =E$10 -> 25 | F14: =F$10 -> 15 | G14: =G$10 -> 10 | H14: =H$10 -> 5 | I14: =I$10 -> 0 | J14: =J$10 -> 0 | K14: =K$10 -> 0 | ... O14: =O$10 -> 30
B15: 5 | C15: =IF('Paddock Names'!C15>0,'Paddock Names'!C15,"") | D15: =D$10 -> 30 | E15: =E$10 -> 25 | F15: =F$10 -> 15 | G15: =G$10 -> 10 | H15: =H$10 -> 5 | I15: =I$10 -> 0 | J15: =J$10 -> 0 | K15: =K$10 -> 0 | ... O15: =O$10 -> 30
B16: 6 | C16: =IF('Paddock Names'!C16>0,'Paddock Names'!C16,"") | D16: =D$10 -> 30 | E16: =E$10 -> 25 | F16: =F$10 -> 15 | G16: =G$10 -> 10 | H16: =H$10 -> 5 | I16: =I$10 -> 0 | J16: =J$10 -> 0 | K16: =K$10 -> 0 | ... O16: =O$10 -> 30
B17: 7 | C17: =IF('Paddock Names'!C17>0,'Paddock Names'!C17,"") | D17: =D$10 -> 30 | E17: =E$10 -> 25 | F17: =F$10 -> 15 | G17: =G$10 -> 10 | H17: =H$10 -> 5 | I17: =I$10 -> 0 | J17: =J$10 -> 0 | K17: =K$10 -> 0 | ... O17: =O$10 -> 30
B18: 8 | C18: =IF('Paddock Names'!C18>0,'Paddock Names'!C18,"") | D18: =D$10 -> 30 | E18: =E$10 -> 25 | F18: =F$10 -> 15 | G18: =G$10 -> 10 | H18: =H$10 -> 5 | I18: =I$10 -> 0 | J18: =J$10 -> 0 | K18: =K$10 -> 0 | ... O18: =O$10 -> 30
B19: 9 | C19: =IF('Paddock Names'!C19>0,'Paddock Names'!C19,"") | D19: =D$10 -> 30 | E19: =E$10 -> 25 | F19: =F$10 -> 15 | G19: =G$10 -> 10 | H19: =H$10 -> 5 | I19: =I$10 -> 0 | J19: =J$10 -> 0 | K19: =K$10 -> 0 | ... O19: =O$10 -> 30
B20: 10 | C20: =IF('Paddock Names'!C20>0,'Paddock Names'!C20,"") | D20: =D$10 -> 30 | E20: =E$10 -> 25 | F20: =F$10 -> 15 | G20: =G$10 -> 10 | H20: =H$10 -> 5 | I20: =I$10 -> 0 | J20: =J$10 -> 0 | K20: =K$10 -> 0 | ... O20: =O$10 -> 30
B21: 11 | C21: =IF('Paddock Names'!C21>0,'Paddock Names'!C21,"") | D21: =D$10 -> 30 | E21: =E$10 -> 25 | F21: =F$10 -> 15 | G21: =G$10 -> 10 | H21: =H$10 -> 5 | I21: =I$10 -> 0 | J21: =J$10 -> 0 | K21: =K$10 -> 0 | ... O21: =O$10 -> 30
B22: 12 | C22: =IF('Paddock Names'!C22>0,'Paddock Names'!C22,"") | D22: =D$10 -> 30 | E22: =E$10 -> 25 | F22: =F$10 -> 15 | G22: =G$10 -> 10 | H22: =H$10 -> 5 | I22: =I$10 -> 0 | J22: =J$10 -> 0 | K22: =K$10 -> 0 | ... O22: =O$10 -> 30
B23: 13 | C23: =IF('Paddock Names'!C23>0,'Paddock Names'!C23,"") | D23: =D$10 -> 30 | E23: =E$10 -> 25 | F23: =F$10 -> 15 | G23: =G$10 -> 10 | H23: =H$10 -> 5 | I23: =I$10 -> 0 | J23: =J$10 -> 0 | K23: =K$10 -> 0 | ... O23: =O$10 -> 30
B24: 14 | C24: =IF('Paddock Names'!C24>0,'Paddock Names'!C24,"") | D24: =D$10 -> 30 | E24: =E$10 -> 25 | F24: =F$10 -> 15 | G24: =G$10 -> 10 | H24: =H$10 -> 5 | I24: =I$10 -> 0 | J24: =J$10 -> 0 | K24: =K$10 -> 0 | ... O24: =O$10 -> 30
... B140: 130 | C140: =IF('Paddock Names'!C140>0,'Paddock Names'!C140,"") -> END RECORD | D140: =D$10 -> 30 | E140: =E$10 -> 25 | F140: =F$10 -> 15 | G140: =G$10 -> 10 | H140: =H$10 -> 5 | I140: =I$10 -> 0 | J140: =J$10 -> 0 | K140: =K$10 -> 0 | ... O140: =O$10 -> 30

Sheet Herbage Mass Residual
C2: Herbage Mass Residual | E2: (kg DM/ha)
C6: Here you are asked to specify how much pasture you want to be left behind after grazing.
C7: Note: You can use default values for Coastal or Tablelands using the dropdown box below "Name"
D8: 1 | E8: 2 | F8: 3 | G8: 4 | H8: 5 | I8: 6 | J8: 7 | K8: 8 | L8: 9 | M8: 10 | N8: 11 | O8: 12
B9: Index2 | C9: Name | D9: =VALUE(CONCATENATE("01/01/",'Group Name and Year'!E14)) -> 44562 | E9: =D9+31 -> 44593 | F9: =E9+31 -> 44624 | G9: =F9+31 -> 44655 | H9: =G9+31 -> 44686 | I9: =H9+31 -> 44717 | J9: =I9+31 -> 44748 | K9: =J9+31 -> 44779 | L9: =K9+31 -> 44810 | ... O9: =N9+31 -> 44903 | R9: Lookup | S9: 2
D10: =VLOOKUP($S$9,$R$11:$AD$12,2,FALSE) -> 2200 | E10: =VLOOKUP($S$9,$R$11:$AD$12,3,FALSE) -> 2500 | F10: =VLOOKUP($S$9,$R$11:$AD$12,4,FALSE) -> 2400 | G10: =VLOOKUP($S$9,$R$11:$AD$12,5,FALSE) -> 2000 | H10: =VLOOKUP($S$9,$R$11:$AD$12,6,FALSE) -> 1500 | I10: =VLOOKUP($S$9,$R$11:$AD$12,7,FALSE) -> 1500 | J10: =VLOOKUP($S$9,$R$11:$AD$12,8,FALSE) -> 1500 | K10: =VLOOKUP($S$9,$R$11:$AD$12,9,FALSE) -> 1200 | L10: =VLOOKUP($S$9,$R$11:$AD$12,10,FALSE) -> 1200 | M10: =VLOOKUP($S$9,$R$11:$AD$12,11,FALSE) -> 1200 | N10: =VLOOKUP($S$9,$R$11:$AD$12,12,FALSE) -> 1800 | O10: =VLOOKUP($S$9,$R$11:$AD$12,13,FALSE) -> 2000 | S10: Jan | T10: Feb | U10: Mar | V10: Apr | W10: May | X10: Jun | Y10: Jul | Z10: Aug | AA10: Sep | AB10: Oct | AC10: Nov | AD10: Dec
B11: 1 | C11: =IF('Paddock Names'!C11>0,'Paddock Names'!C11,"") | D11: =D10 -> 2200 | E11: =E$10 -> 2500 | F11: =F$10 -> 2400 | G11: =G$10 -> 2000 | H11: =H$10 -> 1500 | I11: =I$10 -> 1500 | J11: =J$10 -> 1500 | K11: =K$10 -> 1200 | L11: =L$10 -> 1200 | ... O11: =O$10 -> 2000 | R11: 1 | S11: 2200 | T11: 2500 | U11: 2700 | V11: 2500 | W11: 2200 | X11: 1900 | Y11: 1700 | Z11: 1600 | AA11: 1500 | AB11: 1500 | AC11: 1700 | AD11: 1900 | AE11: Coastal
B12: 2 | C12: =IF('Paddock Names'!C12>0,'Paddock Names'!C12,"") | D12: =D$10 -> 2200 | E12: =E$10 -> 2500 | F12: =F$10 -> 2400 | G12: =G$10 -> 2000 | H12: =H$10 -> 1500 | I12: =I$10 -> 1500 | J12: =J$10 -> 1500 | K12: =K$10 -> 1200 | ... O12: =O$10 -> 2000 | R12: 2 | S12: 2200 | T12: 2500 | U12: 2400 | V12: 2000 | W12: 1500 | X12: 1500 | Y12: 1500 | Z12: 1200 | AA12: 1200 | AB12: 1200 | AC12: 1800 | AD12: 2000 | AE12: Tablelands
B13: 3 | C13: =IF('Paddock Names'!C13>0,'Paddock Names'!C13,"") | D13: =D$10 -> 2200 | E13: =E$10 -> 2500 | F13: =F$10 -> 2400 | G13: =G$10 -> 2000 | H13: =H$10 -> 1500 | I13: =I$10 -> 1500 | J13: =J$10 -> 1500 | K13: =K$10 -> 1200 | ... O13: =O$10 -> 2000
B14: 4 | C14: =IF('Paddock Names'!C14>0,'Paddock Names'!C14,"") | D14: =D$10 -> 2200 | E14: =E$10 -> 2500 | F14: =F$10 -> 2400 | G14: =G$10 -> 2000 | H14: =H$10 -> 1500 | I14: =I$10 -> 1500 | J14: =J$10 -> 1500 | K14: =K$10 -> 1200 | ... O14: =O$10 -> 2000
B15: 5 | C15: =IF('Paddock Names'!C15>0,'Paddock Names'!C15,"") | D15: =D$10 -> 2200 | E15: =E$10 -> 2500 | F15: =F$10 -> 2400 | G15: =G$10 -> 2000 | H15: =H$10 -> 1500 | I15: =I$10 -> 1500 | J15: =J$10 -> 1500 | K15: =K$10 -> 1200 | ... O15: =O$10 -> 2000
B16: 6 | C16: =IF('Paddock Names'!C16>0,'Paddock Names'!C16,"") | D16: =D$10 -> 2200 | E16: =E$10 -> 2500 | F16: =F$10 -> 2400 | G16: =G$10 -> 2000 | H16: =H$10 -> 1500 | I16: =I$10 -> 1500 | J16: =J$10 -> 1500 | K16: =K$10 -> 1200 | ... O16: =O$10 -> 2000
B17: 7 | C17: =IF('Paddock Names'!C17>0,'Paddock Names'!C17,"") | D17: =D$10 -> 2200 | E17: =E$10 -> 2500 | F17: =F$10 -> 2400 | G17: =G$10 -> 2000 | H17: =H$10 -> 1500 | I17: =I$10 -> 1500 | J17: =J$10 -> 1500 | K17: =K$10 -> 1200 | ... O17: =O$10 -> 2000
B18: 8 | C18: =IF('Paddock Names'!C18>0,'Paddock Names'!C18,"") | D18: =D$10 -> 2200 | E18: =E$10 -> 2500 | F18: =F$10 -> 2400 | G18: =G$10 -> 2000 | H18: =H$10 -> 1500 | I18: =I$10 -> 1500 | J18: =J$10 -> 1500 | K18: =K$10 -> 1200 | ... O18: =O$10 -> 2000
B19: 9 | C19: =IF('Paddock Names'!C19>0,'Paddock Names'!C19,"") | D19: =D$10 -> 2200 | E19: =E$10 -> 2500 | F19: =F$10 -> 2400 | G19: =G$10 -> 2000 | H19: =H$10 -> 1500 | I19: =I$10 -> 1500 | J19: =J$10 -> 1500 | K19: =K$10 -> 1200 | ... O19: =O$10 -> 2000
B20: 10 | C20: =IF('Paddock Names'!C20>0,'Paddock Names'!C20,"") | D20: =D$10 -> 2200 | E20: =E$10 -> 2500 | F20: =F$10 -> 2400 | G20: =G$10 -> 2000 | H20: =H$10 -> 1500 | I20: =I$10 -> 1500 | J20: =J$10 -> 1500 | K20: =K$10 -> 1200 | ... O20: =O$10 -> 2000
B21: 11 | C21: =IF('Paddock Names'!C21>0,'Paddock Names'!C21,"") | D21: =D$10 -> 2200 | E21: =E$10 -> 2500 | F21: =F$10 -> 2400 | G21: =G$10 -> 2000 | H21: =H$10 -> 1500 | I21: =I$10 -> 1500 | J21: =J$10 -> 1500 | K21: =K$10 -> 1200 | ... O21: =O$10 -> 2000
B22: 12 | C22: =IF('Paddock Names'!C22>0,'Paddock Names'!C22,"") | D22: =D$10 -> 2200 | E22: =E$10 -> 2500 | F22: =F$10 -> 2400 | G22: =G$10 -> 2000 | H22: =H$10 -> 1500 | I22: =I$10 -> 1500 | J22: =J$10 -> 1500 | K22: =K$10 -> 1200 | ... O22: =O$10 -> 2000
B23: 13 | C23: =IF('Paddock Names'!C23>0,'Paddock Names'!C23,"") | D23: =D$10 -> 2200 | E23: =E$10 -> 2500 | F23: =F$10 -> 2400 | G23: =G$10 -> 2000 | H23: =H$10 -> 1500 | I23: =I$10 -> 1500 | J23: =J$10 -> 1500 | K23: =K$10 -> 1200 | ... O23: =O$10 -> 2000
B24: 14 | C24: =IF('Paddock Names'!C24>0,'Paddock Names'!C24,"") | D24: =D$10 -> 2200 | E24: =E$10 -> 2500 | F24: =F$10 -> 2400 | G24: =G$10 -> 2000 | H24: =H$10 -> 1500 | I24: =I$10 -> 1500 | J24: =J$10 -> 1500 | K24: =K$10 -> 1200 | ... O24: =O$10 -> 2000
... B140: 130 | C140: =IF('Paddock Names'!C140>0,'Paddock Names'!C140,"") -> END RECORD | D140: =D$10 -> 2200 | E140: =E$10 -> 2500 | F140: =F$10 -> 2400 | G140: =G$10 -> 2000 | H140: =H$10 -> 1500 | I140: =I$10 -> 1500 | J140: =J$10 -> 1500 | K140: =K$10 -> 1200 | ... O140: =O$10 -> 2000

Sheet Jan
B1: 1
E6: ='Group Name and Year'!E14 -> 2022 | I6: =SUM(I11,I13,I15,I17,I19,I21,I23,I25,I27,I29,I31,I33,I35,I37,I39,I41,I43,I45,I47,I49,I51,I53,I55,I57,I59)+SUM(I61,I63,I65,I67,I69,I71,I73,I75,I77,I79,I81,I83,I85,I87,I89,I91,I93,I95,I97,I99,I101,I103,I105,I107,I109)+SUM(I111,I113,I115,I117,I119,I121,I123,I125,I127,I129,I131,I133,I135,I137,I139,I141,I143,I145,I147,I149,I151,I153,I155,I157,I159)+SUM(I161,I163,I165,I167,I169,I171,I173,I175,I177,I179,I181,I183,I185,I187,I189,I191,I193,I195,I197,I199,I201,I203,I205,I207,I209)+SUM(I211,I213,I215,I217,I219,I221,I223,I225,I227,I229,I231,I233,I235,I237,I239,I241,I243,I245,I247,I249,I251,I253,I255,I257,I259)+SUM(I261,I263,I265,I267,I269) -> 0 | J6: =SUM(J11,J13,J15,J17,J19,J21,J23,J25,J27,J29,J31,J33,J35,J37,J39,J41,J43,J45,J47,J49,J51,J53,J55,J57,J59)+SUM(J61,J63,J65,J67,J69,J71,J73,J75,J77,J79,J81,J83,J85,J87,J89,J91,J93,J95,J97,J99,J101,J103,J105,J107,J109)+SUM(J111,J113,J115,J117,J119,J121,J123,J125,J127,J129,J131,J133,J135,J137,J139,J141,J143,J145,J147,J149,J151,J153,J155,J157,J159)+SUM(J161,J163,J165,J167,J169,J171,J173,J175,J177,J179,J181,J183,J185,J187,J189,J191,J193,J195,J197,J199,J201,J203,J205,J207,J209)+SUM(J211,J213,J215,J217,J219,J221,J223,J225,J227,J229,J231,J233,J235,J237,J239,J241,J243,J245,J247,J249,J251,J253,J255,J257,J259)+SUM(J261,J263,J265,J267,J269) -> 0 | K6: =SUM(K11,K13,K15,K17,K19,K21,K23,K25,K27,K29,K31,K33,K35,K37,K39,K41,K43,K45,K47,K49,K51,K53,K55,K57,K59)+SUM(K61,K63,K65,K67,K69,K71,K73,K75,K77,K79,K81,K83,K85,K87,K89,K91,K93,K95,K97,K99,K101,K103,K105,K107,K109)+SUM(K111,K113,K115,K117,K119,K121,K123,K125,K127,K129,K131,K133,K135,K137,K139,K141,K143,K145,K147,K149,K151,K153,K155,K157,K159)+SUM(K161,K163,K165,K167,K169,K171,K173,K175,K177,K179,K181,K183,K185,K187,K189,K191,K193,K195,K197,K199,K201,K203,K205,K207,K209)+SUM(K211,K213,K215,K217,K219,K221,K223,K225,K227,K229,K231,K233,K235,K237,K239,K241,K243,K245,K247,K249,K251,K253,K255,K257,K259)+SUM(K261,K263,K265,K267,K269) -> 0 | L6: =SUM(L11,L13,L15,L17,L19,L21,L23,L25,L27,L29,L31,L33,L35,L37,L39,L41,L43,L45,L47,L49,L51,L53,L55,L57,L59)+SUM(L61,L63,L65,L67,L69,L71,L73,L75,L77,L79,L81,L83,L85,L87,L89,L91,L93,L95,L97,L99,L101,L103,L105,L107,L109)+SUM(L111,L113,L115,L117,L119,L121,L123,L125,L127,L129,L131,L133,L135,L137,L139,L141,L143,L145,L147,L149,L151,L153,L155,L157,L159)+SUM(L161,L163,L165,L167,L169,L171,L173,L175,L177,L179,L181,L183,L185,L187,L189,L191,L193,L195,L197,L199,L201,L203,L205,L207,L209)+SUM(L211,L213,L215,L217,L219,L221,L223,L225,L227,L229,L231,L233,L235,L237,L239,L241,L243,L245,L247,L249,L251,L253,L255,L257,L259)+SUM(L261,L263,L265,L267,L269) -> 0 | M6: =SUM(M11,M13,M15,M17,M19,M21,M23,M25,M27,M29,M31,M33,M35,M37,M39,M41,M43,M45,M47,M49,M51,M53,M55,M57,M59)+SUM(M61,M63,M65,M67,M69,M71,M73,M75,M77,M79,M81,M83,M85,M87,M89,M91,M93,M95,M97,M99,M101,M103,M105,M107,M109)+SUM(M111,M113,M115,M117,M119,M121,M123,M125,M127,M129,M131,M133,M135,M137,M139,M141,M143,M145,M147,M149,M151,M153,M155,M157,M159)+SUM(M161,M163,M165,M167,M169,M171,M173,M175,M177,M179,M181,M183,M185,M187,M189,M191,M193,M195,M197,M199,M201,M203,M205,M207,M209)+SUM(M211,M213,M215,M217,M219,M221,M223,M225,M227,M229,M231,M233,M235,M237,M239,M241,M243,M245,M247,M249,M251,M253,M255,M257,M259)+SUM(M261,M263,M265,M267,M269) -> 0 | N6: =SUM(N11,N13,N15,N17,N19,N21,N23,N25,N27,N29,N31,N33,N35,N37,N39,N41,N43,N45,N47,N49,N51,N53,N55,N57,N59)+SUM(N61,N63,N65,N67,N69,N71,N73,N75,N77,N79,N81,N83,N85,N87,N89,N91,N93,N95,N97,N99,N101,N103,N105,N107,N109)+SUM(N111,N113,N115,N117,N119,N121,N123,N125,N127,N129,N131,N133,N135,N137,N139,N141,N143,N145,N147,N149,N151,N153,N155,N157,N159)+SUM(N161,N163,N165,N167,N169,N171,N173,N175,N177,N179,N181,N183,N185,N187,N189,N191,N193,N195,N197,N199,N201,N203,N205,N207,N209)+SUM(N211,N213,N215,N217,N219,N221,N223,N225,N227,N229,N231,N233,N235,N237,N239,N241,N243,N245,N247,N249,N251,N253,N255,N257,N259)+SUM(N261,N263,N265,N267,N269) -> 0 | O6: =SUM(O11,O13,O15,O17,O19,O21,O23,O25,O27,O29,O31,O33,O35,O37,O39,O41,O43,O45,O47,O49,O51,O53,O55,O57,O59)+SUM(O61,O63,O65,O67,O69,O71,O73,O75,O77,O79,O81,O83,O85,O87,O89,O91,O93,O95,O97,O99,O101,O103,O105,O107,O109)+SUM(O111,O113,O115,O117,O119,O121,O123,O125,O127,O129,O131,O133,O135,O137,O139,O141,O143,O145,O147,O149,O151,O153,O155,O157,O159)+SUM(O161,O163,O165,O167,O169,O171,O173,O175,O177,O179,O181,O183,O185,O187,O189,O191,O193,O195,O197,O199,O201,O203,O205,O207,O209)+SUM(O211,O213,O215,O217,O219,O221,O223,O225,O227,O229,O231,O233,O235,O237,O239,O241,O243,O245,O247,O249,O251,O253,O255,O257,O259)+SUM(O261,O263,O265,O267,O269) -> 0 | P6: =SUM(P11,P13,P15,P17,P19,P21,P23,P25,P27,P29,P31,P33,P35,P37,P39,P41,P43,P45,P47,P49,P51,P53,P55,P57,P59)+SUM(P61,P63,P65,P67,P69,P71,P73,P75,P77,P79,P81,P83,P85,P87,P89,P91,P93,P95,P97,P99,P101,P103,P105,P107,P109)+SUM(P111,P113,P115,P117,P119,P121,P123,P125,P127,P129,P131,P133,P135,P137,P139,P141,P143,P145,P147,P149,P151,P153,P155,P157,P159)+SUM(P161,P163,P165,P167,P169,P171,P173,P175,P177,P179,P181,P183,P185,P187,P189,P191,P193,P195,P197,P199,P201,P203,P205,P207,P209)+SUM(P211,P213,P215,P217,P219,P221,P223,P225,P227,P229,P231,P233,P235,P237,P239,P241,P243,P245,P247,P249,P251,P253,P255,P257,P259)+SUM(P261,P263,P265,P267,P269) -> 0 | ... AM6: =SUM(AM11,AM13,AM15,AM17,AM19,AM21,AM23,AM25,AM27,AM29,AM31,AM33,AM35,AM37,AM39,AM41,AM43,AM45,AM47,AM49,AM51,AM53,AM55,AM57,AM59)+SUM(AM61,AM63,AM65,AM67,AM69,AM71,AM73,AM75,AM77,AM79,AM81,AM83,AM85,AM87,AM89,AM91,AM93,AM95,AM97,AM99,AM101,AM103,AM105,AM107,AM109)+SUM(AM111,AM113,AM115,AM117,AM119,AM121,AM123,AM125,AM127,AM129,AM131,AM133,AM135,AM137,AM139,AM141,AM143,AM145,AM147,AM149,AM151,AM153,AM155,AM157,AM159)+SUM(AM161,AM163,AM165,AM167,AM169,AM171,AM173,AM175,AM177,AM179,AM181,AM183,AM185,AM187,AM189,AM191,AM193,AM195,AM197,AM199,AM201,AM203,AM205,AM207,AM209)+SUM(AM211,AM213,AM215,AM217,AM219,AM221,AM223,AM225,AM227,AM229,AM231,AM233,AM235,AM237,AM239,AM241,AM243,AM245,AM247,AM249,AM251,AM253,AM255,AM257,AM259)+SUM(AM261,AM263,AM265,AM267,AM269) -> 0
C7: ='Group Name and Year'!E8 -> 0 | D7: Starting DSE | H7: Stocking Rate | I7: =F7 -> 0 | J7: =I7 -> 0 | K7: =J7 -> 0 | L7: =K7 -> 0 | M7: =L7 -> 0 | N7: =M7 -> 0 | O7: =N7 -> 0 | P7: =O7 -> 0 | Q7: =P7 -> 0 | ... AM7: =AL7 -> 0
C8: January | D8: Rainfall | E8: =IF(SUM(I8:AM8)>0,SUM(I8:AM8),"") | F8: (millimetres)
C9: on | D9: Grazing Days | F9: Herbage Mass | I9: =I10 -> 44562 | J9: =I10+1 -> 44563 | K9: =J10+1 -> 44564 | L9: =K10+1 -> 44565 | M9: =L10+1 -> 44566 | N9: =M10+1 -> 44567 | O9: =N10+1 -> 44568 | P9: =O10+1 -> 44569 | Q9: =P10+1 -> 44570 | ... AM9: =AL10+1 -> 44592
B10: index | C10: Paddock | D10: Max | E10: Current | F10: Start | G10: Residual | I10: =VALUE(CONCATENATE("01/",B1,"/",'Group Name and Year'!E14)) -> 44562 | J10: =I10+1 -> 44563 | K10: =J10+1 -> 44564 | L10: =K10+1 -> 44565 | M10: =L10+1 -> 44566 | N10: =M10+1 -> 44567 | O10: =N10+1 -> 44568 | P10: =O10+1 -> 44569 | Q10: =P10+1 -> 44570 | ... AM10: =AL10+1 -> 44592
B11: 1 | C11: =IF(VLOOKUP(B11,'Paddock Names'!$B$11:$C$140,2)>0,VLOOKUP(B11,'Paddock Names'!$B$11:$C$140,2),"") | D11: =IF(((F11-G11)/(((VLOOKUP(B11,'Growth Rates'!$B$11:$O$140,($B$1+2),FALSE)))+0.001-(((I$7/VLOOKUP(B11,'Paddock Names'!$B$11:$D$140,3))))))*-1>(VALUE(CONCATENATE("01/",$B$1+1,"/",'Group Name and Year'!$E$14))-VALUE(CONCATENATE("01/",$B$1,"/",'Group Name and Year'!$E$14))),(VALUE(CONCATENATE("01/",$B$1+1,"/",'Group Name and Year'!$E$14))-VALUE(CONCATENATE("01/",$B$1,"/",'Group Name and Year'!$E$14))),(IF(((F11-G11)/(((VLOOKUP(B11,'Growth Rates'!$B$11:$O$140,($B$1+2),FALSE)))+0.001-(((I$7/VLOOKUP(B11,'Paddock Names'!$B$11:$D$140,3))))))*-1>0,ROUNDDOWN(((F11-G11)/(((VLOOKUP(B11,'Growth Rates'!$B$11:$O$140,($B$1+2),FALSE)))-(((I$7/VLOOKUP(B11,'Paddock Names'!$B$11:$D$140,3))))))*-1,0),VALUE(CONCATENATE("01/",$B$1+1,"/",'Group Name and Year'!$E$14))-VALUE(CONCATENATE("01/",$B$1,"/",'Group Name and Year'!$E$14))))) -> #DIV/0! | E11: =IF(SUM(I11:AM11)>0,SUM(I11:AM11)," ") | G11: =VLOOKUP(B11,'Herbage Mass Residual'!$B$11:$O$140,($B$1+2),FALSE) -> 2200 | H11: =($F$7/VLOOKUP(B11,'Paddock Names'!$B$11:$D$140,3))*(SUM(I11:AM11)/31) -> #DIV/0!
B12: =B11+0.5 -> 1.5 | I12: =F11+(VLOOKUP(B11,'Growth Rates'!$B$11:$O$140,($B$1+2),FALSE))-(I11*(I$7/VLOOKUP(B11,'Paddock Names'!$B$11:$D$140,3))) -> #DIV/0! | J12: =I12+(VLOOKUP($B11,'Growth Rates'!$B$11:$O$140,($B$1+2),FALSE))-(J11*(J$7/VLOOKUP($B11,'Paddock Names'!$B$11:$D$140,3))) -> #DIV/0! | K12: =J12+(VLOOKUP($B11,'Growth Rates'!$B$11:$O$140,($B$1+2),FALSE))-(K11*(K$7/VLOOKUP($B11,'Paddock Names'!$B$11:$D$140,3))) -> #DIV/0! | L12: =K12+(VLOOKUP($B11,'Growth Rates'!$B$11:$O$140,($B$1+2),FALSE))-(L11*(L$7/VLOOKUP($B11,'Paddock Names'!$B$11:$D$140,3))) -> #DIV/0! | M12: =L12+(VLOOKUP($B11,'Growth Rates'!$B$11:$O$140,($B$1+2),FALSE))-(M11*(M$7/VLOOKUP($B11,'Paddock Names'!$B$11:$D$140,3))) -> #DIV/0! | N12: =M12+(VLOOKUP($B11,'Growth Rates'!$B$11:$O$140,($B$1+2),FALSE))-(N11*(N$7/VLOOKUP($B11,'Paddock Names'!$B$11:$D$140,3))) -> #DIV/0! | O12: =N12+(VLOOKUP($B11,'Growth Rates'!$B$11:$O$140,($B$1+2),FALSE))-(O11*(O$7/VLOOKUP($B11,'Paddock Names'!$B$11:$D$140,3))) -> #DIV/0! | P12: =O12+(VLOOKUP($B11,'Growth Rates'!$B$11:$O$140,($B$1+2),FALSE))-(P11*(P$7/VLOOKUP($B11,'Paddock Names'!$B$11:$D$140,3))) -> #DIV/0! | Q12: =P12+(VLOOKUP($B11,'Growth Rates'!$B$11:$O$140,($B$1+2),FALSE))-(Q11*(Q$7/VLOOKUP($B11,'Paddock Names'!$B$11:$D$140,3))) -> #DIV/0! | ... AM12: =AL12+(VLOOKUP($B11,'Growth Rates'!$B$11:$O$140,($B$1+2),FALSE))-(AM11*(AM$7/VLOOKUP($B11,'Paddock Names'!$B$11:$D$140,3))) -> #DIV/0!
B13: =B12+0.5 -> 2 | C13: =IF(VLOOKUP(B13,'Paddock Names'!$B$11:$C$140,2)>0,VLOOKUP(B13,'Paddock Names'!$B$11:$C$140,2),"") | D13: =IF(((F13-G13)/(((VLOOKUP(B13,'Growth Rates'!$B$11:$O$140,($B$1+2),FALSE)))+0.001-(((I$7/VLOOKUP(B13,'Paddock Names'!$B$11:$D$140,3))))))*-1>(VALUE(CONCATENATE("01/",$B$1+1,"/",'Group Name and Year'!$E$14))-VALUE(CONCATENATE("01/",$B$1,"/",'Group Name and Year'!$E$14))),(VALUE(CONCATENATE("01/",$B$1+1,"/",'Group Name and Year'!$E$14))-VALUE(CONCATENATE("01/",$B$1,"/",'Group Name and Year'!$E$14))),(IF(((F13-G13)/(((VLOOKUP(B13,'Growth Rates'!$B$11:$O$140,($B$1+2),FALSE)))+0.001-(((I$7/VLOOKUP(B13,'Paddock Names'!$B$11:$D$140,3))))))*-1>0,ROUNDDOWN(((F13-G13)/(((VLOOKUP(B13,'Growth Rates'!$B$11:$O$140,($B$1+2),FALSE)))-(((I$7/VLOOKUP(B13,'Paddock Names'!$B$11:$D$140,3))))))*-1,0),VALUE(CONCATENATE("01/",$B$1+1,"/",'Group Name and Year'!$E$14))-VALUE(CONCATENATE("01/",$B$1,"/",'Group Name and Year'!$E$14))))) -> #DIV/0! | E13: =IF(SUM(I13:AM13)>0,SUM(I13:AM13)," ") | G13: =VLOOKUP(B13,'Herbage Mass Residual'!$B$11:$O$140,($B$1+2),FALSE) -> 2200 | H13: =($F$7/VLOOKUP(B13,'Paddock Names'!$B$11:$D$140,3))*(SUM(I13:AM13)/31) -> #DIV/0!
B14: =B13+0.5 -> 2.5 | I14: =F13+(VLOOKUP(B13,'Growth Rates'!$B$11:$O$140,($B$1+2),FALSE))-(I13*(I$7/VLOOKUP(B13,'Paddock Names'!$B$11:$D$140,3))) -> #DIV/0! | J14: =I14+(VLOOKUP($B13,'Growth Rates'!$B$11:$O$140,($B$1+2),FALSE))-(J13*(J$7/VLOOKUP($B13,'Paddock Names'!$B$11:$D$140,3))) -> #DIV/0! | K14: =J14+(VLOOKUP($B13,'Growth Rates'!$B$11:$O$140,($B$1+2),FALSE))-(K13*(K$7/VLOOKUP($B13,'Paddock Names'!$B$11:$D$140,3))) -> #DIV/0! | L14: =K14+(VLOOKUP($B13,'Growth Rates'!$B$11:$O$140,($B$1+2),FALSE))-(L13*(L$7/VLOOKUP($B13,'Paddock Names'!$B$11:$D$140,3))) -> #DIV/0! | M14: =L14+(VLOOKUP($B13,'Growth Rates'!$B$11:$O$140,($B$1+2),FALSE))-(M13*(M$7/VLOOKUP($B13,'Paddock Names'!$B$11:$D$140,3))) -> #DIV/0! | N14: =M14+(VLOOKUP($B13,'Growth Rates'!$B$11:$O$140,($B$1+2),FALSE))-(N13*(N$7/VLOOKUP($B13,'Paddock Names'!$B$11:$D$140,3))) -> #DIV/0! | O14: =N14+(VLOOKUP($B13,'Growth Rates'!$B$11:$O$140,($B$1+2),FALSE))-(O13*(O$7/VLOOKUP($B13,'Paddock Names'!$B$11:$D$140,3))) -> #DIV/0! | P14: =O14+(VLOOKUP($B13,'Growth Rates'!$B$11:$O$140,($B$1+2),FALSE))-(P13*(P$7/VLOOKUP($B13,'Paddock Names'!$B$11:$D$140,3))) -> #DIV/0! | Q14: =P14+(VLOOKUP($B13,'Growth Rates'!$B$11:$O$140,($B$1+2),FALSE))-(Q13*(Q$7/VLOOKUP($B13,'Paddock Names'!$B$11:$D$140,3))) -> #DIV/0! | ... AM14: =AL14+(VLOOKUP($B13,'Growth Rates'!$B$11:$O$140,($B$1+2),FALSE))-(AM13*(AM$7/VLOOKUP($B13,'Paddock Names'!$B$11:$D$140,3))) -> #DIV/0!
B15: =B14+0.5 -> 3 | C15: =IF(VLOOKUP(B15,'Paddock Names'!$B$11:$C$140,2)>0,VLOOKUP(B15,'Paddock Names'!$B$11:$C$140,2),"") | D15: =IF(((F15-G15)/(((VLOOKUP(B15,'Growth Rates'!$B$11:$O$140,($B$1+2),FALSE)))+0.001-(((I$7/VLOOKUP(B15,'Paddock Names'!$B$11:$D$140,3))))))*-1>(VALUE(CONCATENATE("01/",$B$1+1,"/",'Group Name and Year'!$E$14))-VALUE(CONCATENATE("01/",$B$1,"/",'Group Name and Year'!$E$14))),(VALUE(CONCATENATE("01/",$B$1+1,"/",'Group Name and Year'!$E$14))-VALUE(CONCATENATE("01/",$B$1,"/",'Group Name and Year'!$E$14))),(IF(((F15-G15)/(((VLOOKUP(B15,'Growth Rates'!$B$11:$O$140,($B$1+2),FALSE)))+0.001-(((I$7/VLOOKUP(B15,'Paddock Names'!$B$11:$D$140,3))))))*-1>0,ROUNDDOWN(((F15-G15)/(((VLOOKUP(B15,'Growth Rates'!$B$11:$O$140,($B$1+2),FALSE)))-(((I$7/VLOOKUP(B15,'Paddock Names'!$B$11:$D$140,3))))))*-1,0),VALUE(CONCATENATE("01/",$B$1+1,"/",'Group Name and Year'!$E$14))-VALUE(CONCATENATE("01/",$B$1,"/",'Group Name and Year'!$E$14))))) -> #DIV/0! | E15: =IF(SUM(I15:AM15)>0,SUM(I15:AM15)," ") | G15: =VLOOKUP(B15,'Herbage Mass Residual'!$B$11:$O$140,($B$1+2),FALSE) -> 2200 | H15: =($F$7/VLOOKUP(B15,'Paddock Names'!$B$11:$D$140,3))*(SUM(I15:AM15)/31) -> #DIV/0!
B16: =B15+0.5 -> 3.5 | I16: =F15+(VLOOKUP(B15,'Growth Rates'!$B$11:$O$140,($B$1+2),FALSE))-(I15*(I$7/VLOOKUP(B15,'Paddock Names'!$B$11:$D$140,3))) -> #DIV/0! | J16: =I16+(VLOOKUP($B15,'Growth Rates'!$B$11:$O$140,($B$1+2),FALSE))-(J15*(J$7/VLOOKUP($B15,'Paddock Names'!$B$11:$D$140,3))) -> #DIV/0! | K16: =J16+(VLOOKUP($B15,'Growth Rates'!$B$11:$O$140,($B$1+2),FALSE))-(K15*(K$7/VLOOKUP($B15,'Paddock Names'!$B$11:$D$140,3))) -> #DIV/0! | L16: =K16+(VLOOKUP($B15,'Growth Rates'!$B$11:$O$140,($B$1+2),FALSE))-(L15*(L$7/VLOOKUP($B15,'Paddock Names'!$B$11:$D$140,3))) -> #DIV/0! | M16: =L16+(VLOOKUP($B15,'Growth Rates'!$B$11:$O$140,($B$1+2),FALSE))-(M15*(M$7/VLOOKUP($B15,'Paddock Names'!$B$11:$D$140,3))) -> #DIV/0! | N16: =M16+(VLOOKUP($B15,'Growth Rates'!$B$11:$O$140,($B$1+2),FALSE))-(N15*(N$7/VLOOKUP($B15,'Paddock Names'!$B$11:$D$140,3))) -> #DIV/0! | O16: =N16+(VLOOKUP($B15,'Growth Rates'!$B$11:$O$140,($B$1+2),FALSE))-(O15*(O$7/VLOOKUP($B15,'Paddock Names'!$B$11:$D$140,3))) -> #DIV/0! | P16: =O16+(VLOOKUP($B15,'Growth Rates'!$B$11:$O$140,($B$1+2),FALSE))-(P15*(P$7/VLOOKUP($B15,'Paddock Names'!$B$11:$D$140,3))) -> #DIV/0! | Q16: =P16+(VLOOKUP($B15,'Growth Rates'!$B$11:$O$140,($B$1+2),FALSE))-(Q15*(Q$7/VLOOKUP($B15,'Paddock Names'!$B$11:$D$140,3))) -> #DIV/0! | ... AM16: =AL16+(VLOOKUP($B15,'Growth Rates'!$B$11:$O$140,($B$1+2),FALSE))-(AM15*(AM$7/VLOOKUP($B15,'Paddock Names'!$B$11:$D$140,3))) -> #DIV/0!
B17: =B16+0.5 -> 4 | C17: =IF(VLOOKUP(B17,'Paddock Names'!$B$11:$C$140,2)>0,VLOOKUP(B17,'Paddock Names'!$B$11:$C$140,2),"") | D17: =IF(((F17-G17)/(((VLOOKUP(B17,'Growth Rates'!$B$11:$O$140,($B$1+2),FALSE)))+0.001-(((I$7/VLOOKUP(B17,'Paddock Names'!$B$11:$D$140,3))))))*-1>(VALUE(CONCATENATE("01/",$B$1+1,"/",'Group Name and Year'!$E$14))-VALUE(CONCATENATE("01/",$B$1,"/",'Group Name and Year'!$E$14))),(VALUE(CONCATENATE("01/",$B$1+1,"/",'Group Name and Year'!$E$14))-VALUE(CONCATENATE("01/",$B$1,"/",'Group Name and Year'!$E$14))),(IF(((F17-G17)/(((VLOOKUP(B17,'Growth Rates'!$B$11:$O$140,($B$1+2),FALSE)))+0.001-(((I$7/VLOOKUP(B17,'Paddock Names'!$B$11:$D$140,3))))))*-1>0,ROUNDDOWN(((F17-G17)/(((VLOOKUP(B17,'Growth Rates'!$B$11:$O$140,($B$1+2),FALSE)))-(((I$7/VLOOKUP(B17,'Paddock Names'!$B$11:$D$140,3))))))*-1,0),VALUE(CONCATENATE("01/",$B$1+1,"/",'Group Name and Year'!$E$14))-VALUE(CONCATENATE("01/",$B$1,"/",'Group Name and Year'!$E$14))))) -> #DIV/0! | E17: =IF(SUM(I17:AM17)>0,SUM(I17:AM17)," ") | G17: =VLOOKUP(B17,'Herbage Mass Residual'!$B$11:$O$140,($B$1+2),FALSE) -> 2200 | H17: =($F$7/VLOOKUP(B17,'Paddock Names'!$B$11:$D$140,3))*(SUM(I17:AM17)/31) -> #DIV/0!
B18: =B17+0.5 -> 4.5 | I18: =F17+(VLOOKUP(B17,'Growth Rates'!$B$11:$O$140,($B$1+2),FALSE))-(I17*(I$7/VLOOKUP(B17,'Paddock Names'!$B$11:$D$140,3))) -> #DIV/0! | J18: =I18+(VLOOKUP($B17,'Growth Rates'!$B$11:$O$140,($B$1+2),FALSE))-(J17*(J$7/VLOOKUP($B17,'Paddock Names'!$B$11:$D$140,3))) -> #DIV/0! | K18: =J18+(VLOOKUP($B17,'Growth Rates'!$B$11:$O$140,($B$1+2),FALSE))-(K17*(K$7/VLOOKUP($B17,'Paddock Names'!$B$11:$D$140,3))) -> #DIV/0! | L18: =K18+(VLOOKUP($B17,'Growth Rates'!$B$11:$O$140,($B$1+2),FALSE))-(L17*(L$7/VLOOKUP($B17,'Paddock Names'!$B$11:$D$140,3))) -> #DIV/0! | M18: =L18+(VLOOKUP($B17,'Growth Rates'!$B$11:$O$140,($B$1+2),FALSE))-(M17*(M$7/VLOOKUP($B17,'Paddock Names'!$B$11:$D$140,3))) -> #DIV/0! | N18: =M18+(VLOOKUP($B17,'Growth Rates'!$B$11:$O$140,($B$1+2),FALSE))-(N17*(N$7/VLOOKUP($B17,'Paddock Names'!$B$11:$D$140,3))) -> #DIV/0! | O18: =N18+(VLOOKUP($B17,'Growth Rates'!$B$11:$O$140,($B$1+2),FALSE))-(O17*(O$7/VLOOKUP($B17,'Paddock Names'!$B$11:$D$140,3))) -> #DIV/0! | P18: =O18+(VLOOKUP($B17,'Growth Rates'!$B$11:$O$140,($B$1+2),FALSE))-(P17*(P$7/VLOOKUP($B17,'Paddock Names'!$B$11:$D$140,3))) -> #DIV/0! | Q18: =P18+(VLOOKUP($B17,'Growth Rates'!$B$11:$O$140,($B$1+2),FALSE))-(Q17*(Q$7/VLOOKUP($B17,'Paddock Names'!$B$11:$D$140,3))) -> #DIV/0! | ... AM18: =AL18+(VLOOKUP($B17,'Growth Rates'!$B$11:$O$140,($B$1+2),FALSE))-(AM17*(AM$7/VLOOKUP($B17,'Paddock Names'!$B$11:$D$140,3))) -> #DIV/0!
B19: =B18+0.5 -> 5 | C19: =IF(VLOOKUP(B19,'Paddock Names'!$B$11:$C$140,2)>0,VLOOKUP(B19,'Paddock Names'!$B$11:$C$140,2),"") | D19: =IF(((F19-G19)/(((VLOOKUP(B19,'Growth Rates'!$B$11:$O$140,($B$1+2),FALSE)))+0.001-(((I$7/VLOOKUP(B19,'Paddock Names'!$B$11:$D$140,3))))))*-1>(VALUE(CONCATENATE("01/",$B$1+1,"/",'Group Name and Year'!$E$14))-VALUE(CONCATENATE("01/",$B$1,"/",'Group Name and Year'!$E$14))),(VALUE(CONCATENATE("01/",$B$1+1,"/",'Group Name and Year'!$E$14))-VALUE(CONCATENATE("01/",$B$1,"/",'Group Name and Year'!$E$14))),(IF(((F19-G19)/(((VLOOKUP(B19,'Growth Rates'!$B$11:$O$140,($B$1+2),FALSE)))+0.001-(((I$7/VLOOKUP(B19,'Paddock Names'!$B$11:$D$140,3))))))*-1>0,ROUNDDOWN(((F19-G19)/(((VLOOKUP(B19,'Growth Rates'!$B$11:$O$140,($B$1+2),FALSE)))-(((I$7/VLOOKUP(B19,'Paddock Names'!$B$11:$D$140,3))))))*-1,0),VALUE(CONCATENATE("01/",$B$1+1,"/",'Group Name and Year'!$E$14))-VALUE(CONCATENATE("01/",$B$1,"/",'Group Name and Year'!$E$14))))) -> #DIV/0! | E19: =IF(SUM(I19:AM19)>0,SUM(I19:AM19)," ") | G19: =VLOOKUP(B19,'Herbage Mass Residual'!$B$11:$O$140,($B$1+2),FALSE) -> 2200 | H19: =($F$7/VLOOKUP(B19,'Paddock Names'!$B$11:$D$140,3))*(SUM(I19:AM19)/31) -> #DIV/0!
B20: =B19+0.5 -> 5.5 | I20: =F19+(VLOOKUP(B19,'Growth Rates'!$B$11:$O$140,($B$1+2),FALSE))-(I19*(I$7/VLOOKUP(B19,'Paddock Names'!$B$11:$D$140,3))) -> #DIV/0! | J20: =I20+(VLOOKUP($B19,'Growth Rates'!$B$11:$O$140,($B$1+2),FALSE))-(J19*(J$7/VLOOKUP($B19,'Paddock Names'!$B$11:$D$140,3))) -> #DIV/0! | K20: =J20+(VLOOKUP($B19,'Growth Rates'!$B$11:$O$140,($B$1+2),FALSE))-(K19*(K$7/VLOOKUP($B19,'Paddock Names'!$B$11:$D$140,3))) -> #DIV/0! | L20: =K20+(VLOOKUP($B19,'Growth Rates'!$B$11:$O$140,($B$1+2),FALSE))-(L19*(L$7/VLOOKUP($B19,'Paddock Names'!$B$11:$D$140,3))) -> #DIV/0! | M20: =L20+(VLOOKUP($B19,'Growth Rates'!$B$11:$O$140,($B$1+2),FALSE))-(M19*(M$7/VLOOKUP($B19,'Paddock Names'!$B$11:$D$140,3))) -> #DIV/0! | N20: =M20+(VLOOKUP($B19,'Growth Rates'!$B$11:$O$140,($B$1+2),FALSE))-(N19*(N$7/VLOOKUP($B19,'Paddock Names'!$B$11:$D$140,3))) -> #DIV/0! | O20: =N20+(VLOOKUP($B19,'Growth Rates'!$B$11:$O$140,($B$1+2),FALSE))-(O19*(O$7/VLOOKUP($B19,'Paddock Names'!$B$11:$D$140,3))) -> #DIV/0! | P20: =O20+(VLOOKUP($B19,'Growth Rates'!$B$11:$O$140,($B$1+2),FALSE))-(P19*(P$7/VLOOKUP($B19,'Paddock Names'!$B$11:$D$140,3))) -> #DIV/0! | Q20: =P20+(VLOOKUP($B19,'Growth Rates'!$B$11:$O$140,($B$1+2),FALSE))-(Q19*(Q$7/VLOOKUP($B19,'Paddock Names'!$B$11:$D$140,3))) -> #DIV/0! | ... AM20: =AL20+(VLOOKUP($B19,'Growth Rates'!$B$11:$O$140,($B$1+2),FALSE))-(AM19*(AM$7/VLOOKUP($B19,'Paddock Names'!$B$11:$D$140,3))) -> #DIV/0!
B21: =B20+0.5 -> 6 | C21: =IF(VLOOKUP(B21,'Paddock Names'!$B$11:$C$140,2)>0,VLOOKUP(B21,'Paddock Names'!$B$11:$C$140,2),"") | D21: =IF(((F21-G21)/(((VLOOKUP(B21,'Growth Rates'!$B$11:$O$140,($B$1+2),FALSE)))+0.001-(((I$7/VLOOKUP(B21,'Paddock Names'!$B$11:$D$140,3))))))*-1>(VALUE(CONCATENATE("01/",$B$1+1,"/",'Group Name and Year'!$E$14))-VALUE(CONCATENATE("01/",$B$1,"/",'Group Name and Year'!$E$14))),(VALUE(CONCATENATE("01/",$B$1+1,"/",'Group Name and Year'!$E$14))-VALUE(CONCATENATE("01/",$B$1,"/",'Group Name and Year'!$E$14))),(IF(((F21-G21)/(((VLOOKUP(B21,'Growth Rates'!$B$11:$O$140,($B$1+2),FALSE)))+0.001-(((I$7/VLOOKUP(B21,'Paddock Names'!$B$11:$D$140,3))))))*-1>0,ROUNDDOWN(((F21-G21)/(((VLOOKUP(B21,'Growth Rates'!$B$11:$O$140,($B$1+2),FALSE)))-(((I$7/VLOOKUP(B21,'Paddock Names'!$B$11:$D$140,3))))))*-1,0),VALUE(CONCATENATE("01/",$B$1+1,"/",'Group Name and Year'!$E$14))-VALUE(CONCATENATE("01/",$B$1,"/",'Group Name and Year'!$E$14))))) -> #DIV/0! | E21: =IF(SUM(I21:AM21)>0,SUM(I21:AM21)," ") | G21: =VLOOKUP(B21,'Herbage Mass Residual'!$B$11:$O$140,($B$1+2),FALSE) -> 2200 | H21: =($F$7/VLOOKUP(B21,'Paddock Names'!$B$11:$D$140,3))*(SUM(I21:AM21)/31) -> #DIV/0!
B22: =B21+0.5 -> 6.5 | I22: =F21+(VLOOKUP(B21,'Growth Rates'!$B$11:$O$140,($B$1+2),FALSE))-(I21*(I$7/VLOOKUP(B21,'Paddock Names'!$B$11:$D$140,3))) -> #DIV/0! | J22: =I22+(VLOOKUP($B21,'Growth Rates'!$B$11:$O$140,($B$1+2),FALSE))-(J21*(J$7/VLOOKUP($B21,'Paddock Names'!$B$11:$D$140,3))) -> #DIV/0! | K22: =J22+(VLOOKUP($B21,'Growth Rates'!$B$11:$O$140,($B$1+2),FALSE))-(K21*(K$7/VLOOKUP($B21,'Paddock Names'!$B$11:$D$140,3))) -> #DIV/0! | L22: =K22+(VLOOKUP($B21,'Growth Rates'!$B$11:$O$140,($B$1+2),FALSE))-(L21*(L$7/VLOOKUP($B21,'Paddock Names'!$B$11:$D$140,3))) -> #DIV/0! | M22: =L22+(VLOOKUP($B21,'Growth Rates'!$B$11:$O$140,($B$1+2),FALSE))-(M21*(M$7/VLOOKUP($B21,'Paddock Names'!$B$11:$D$140,3))) -> #DIV/0! | N22: =M22+(VLOOKUP($B21,'Growth Rates'!$B$11:$O$140,($B$1+2),FALSE))-(N21*(N$7/VLOOKUP($B21,'Paddock Names'!$B$11:$D$140,3))) -> #DIV/0! | O22: =N22+(VLOOKUP($B21,'Growth Rates'!$B$11:$O$140,($B$1+2),FALSE))-(O21*(O$7/VLOOKUP($B21,'Paddock Names'!$B$11:$D$140,3))) -> #DIV/0! | P22: =O22+(VLOOKUP($B21,'Growth Rates'!$B$11:$O$140,($B$1+2),FALSE))-(P21*(P$7/VLOOKUP($B21,'Paddock Names'!$B$11:$D$140,3))) -> #DIV/0! | Q22: =P22+(VLOOKUP($B21,'Growth Rates'!$B$11:$O$140,($B$1+2),FALSE))-(Q21*(Q$7/VLOOKUP($B21,'Paddock Names'!$B$11:$D$140,3))) -> #DIV/0! | ... AM22: =AL22+(VLOOKUP($B21,'Growth Rates'!$B$11:$O$140,($B$1+2),FALSE))-(AM21*(AM$7/VLOOKUP($B21,'Paddock Names'!$B$11:$D$140,3))) -> #DIV/0!
B23: =B22+0.5 -> 7 | C23: =IF(VLOOKUP(B23,'Paddock Names'!$B$11:$C$140,2)>0,VLOOKUP(B23,'Paddock Names'!$B$11:$C$140,2),"") | D23: =IF(((F23-G23)/(((VLOOKUP(B23,'Growth Rates'!$B$11:$O$140,($B$1+2),FALSE)))+0.001-(((I$7/VLOOKUP(B23,'Paddock Names'!$B$11:$D$140,3))))))*-1>(VALUE(CONCATENATE("01/",$B$1+1,"/",'Group Name and Year'!$E$14))-VALUE(CONCATENATE("01/",$B$1,"/",'Group Name and Year'!$E$14))),(VALUE(CONCATENATE("01/",$B$1+1,"/",'Group Name and Year'!$E$14))-VALUE(CONCATENATE("01/",$B$1,"/",'Group Name and Year'!$E$14))),(IF(((F23-G23)/(((VLOOKUP(B23,'Growth Rates'!$B$11:$O$140,($B$1+2),FALSE)))+0.001-(((I$7/VLOOKUP(B23,'Paddock Names'!$B$11:$D$140,3))))))*-1>0,ROUNDDOWN(((F23-G23)/(((VLOOKUP(B23,'Growth Rates'!$B$11:$O$140,($B$1+2),FALSE)))-(((I$7/VLOOKUP(B23,'Paddock Names'!$B$11:$D$140,3))))))*-1,0),VALUE(CONCATENATE("01/",$B$1+1,"/",'Group Name and Year'!$E$14))-VALUE(CONCATENATE("01/",$B$1,"/",'Group Name and Year'!$E$14))))) -> #DIV/0! | E23: =IF(SUM(I23:AM23)>0,SUM(I23:AM23)," ") | G23: =VLOOKUP(B23,'Herbage Mass Residual'!$B$11:$O$140,($B$1+2),FALSE) -> 2200 | H23: =($F$7/VLOOKUP(B23,'Paddock Names'!$B$11:$D$140,3))*(SUM(I23:AM23)/31) -> #DIV/0!
B24: =B23+0.5 -> 7.5 | I24: =F23+(VLOOKUP(B23,'Growth Rates'!$B$11:$O$140,($B$1+2),FALSE))-(I23*(I$7/VLOOKUP(B23,'Paddock Names'!$B$11:$D$140,3))) -> #DIV/0! | J24: =I24+(VLOOKUP($B23,'Growth Rates'!$B$11:$O$140,($B$1+2),FALSE))-(J23*(J$7/VLOOKUP($B23,'Paddock Names'!$B$11:$D$140,3))) -> #DIV/0! | K24: =J24+(VLOOKUP($B23,'Growth Rates'!$B$11:$O$140,($B$1+2),FALSE))-(K23*(K$7/VLOOKUP($B23,'Paddock Names'!$B$11:$D$140,3))) -> #DIV/0! | L24: =K24+(VLOOKUP($B23,'Growth Rates'!$B$11:$O$140,($B$1+2),FALSE))-(L23*(L$7/VLOOKUP($B23,'Paddock Names'!$B$11:$D$140,3))) -> #DIV/0! | M24: =L24+(VLOOKUP($B23,'Growth Rates'!$B$11:$O$140,($B$1+2),FALSE))-(M23*(M$7/VLOOKUP($B23,'Paddock Names'!$B$11:$D$140,3))) -> #DIV/0! | N24: =M24+(VLOOKUP($B23,'Growth Rates'!$B$11:$O$140,($B$1+2),FALSE))-(N23*(N$7/VLOOKUP($B23,'Paddock Names'!$B$11:$D$140,3))) -> #DIV/0! | O24: =N24+(VLOOKUP($B23,'Growth Rates'!$B$11:$O$140,($B$1+2),FALSE))-(O23*(O$7/VLOOKUP($B23,'Paddock Names'!$B$11:$D$140,3))) -> #DIV/0! | P24: =O24+(VLOOKUP($B23,'Growth Rates'!$B$11:$O$140,($B$1+2),FALSE))-(P23*(P$7/VLOOKUP($B23,'Paddock Names'!$B$11:$D$140,3))) -> #DIV/0! | Q24: =P24+(VLOOKUP($B23,'Growth Rates'!$B$11:$O$140,($B$1+2),FALSE))-(Q23*(Q$7/VLOOKUP($B23,'Paddock Names'!$B$11:$D$140,3))) -> #DIV/0! | ... AM24: =AL24+(VLOOKUP($B23,'Growth Rates'!$B$11:$O$140,($B$1+2),FALSE))-(AM23*(AM$7/VLOOKUP($B23,'Paddock Names'!$B$11:$D$140,3))) -> #DIV/0!
B25: =B24+0.5 -> 8 | C25: =IF(VLOOKUP(B25,'Paddock Names'!$B$11:$C$140,2)>0,VLOOKUP(B25,'Paddock Names'!$B$11:$C$140,2),"") | D25: =IF(((F25-G25)/(((VLOOKUP(B25,'Growth Rates'!$B$11:$O$140,($B$1+2),FALSE)))+0.001-(((I$7/VLOOKUP(B25,'Paddock Names'!$B$11:$D$140,3))))))*-1>(VALUE(CONCATENATE("01/",$B$1+1,"/",'Group Name and Year'!$E$14))-VALUE(CONCATENATE("01/",$B$1,"/",'Group Name and Year'!$E$14))),(VALUE(CONCATENATE("01/",$B$1+1,"/",'Group Name and Year'!$E$14))-VALUE(CONCATENATE("01/",$B$1,"/",'Group Name and Year'!$E$14))),(IF(((F25-G25)/(((VLOOKUP(B25,'Growth Rates'!$B$11:$O$140,($B$1+2),FALSE)))+0.001-(((I$7/VLOOKUP(B25,'Paddock Names'!$B$11:$D$140,3))))))*-1>0,ROUNDDOWN(((F25-G25)/(((VLOOKUP(B25,'Growth Rates'!$B$11:$O$140,($B$1+2),FALSE)))-(((I$7/VLOOKUP(B25,'Paddock Names'!$B$11:$D$140,3))))))*-1,0),VALUE(CONCATENATE("01/",$B$1+1,"/",'Group Name and Year'!$E$14))-VALUE(CONCATENATE("01/",$B$1,"/",'Group Name and Year'!$E$14))))) -> #DIV/0! | E25: =IF(SUM(I25:AM25)>0,SUM(I25:AM25)," ") | G25: =VLOOKUP(B25,'Herbage Mass Residual'!$B$11:$O$140,($B$1+2),FALSE) -> 2200 | H25: =($F$7/VLOOKUP(B25,'Paddock Names'!$B$11:$D$140,3))*(SUM(I25:AM25)/31) -> #DIV/0!
B26: =B25+0.5 -> 8.5 | I26: =F25+(VLOOKUP(B25,'Growth Rates'!$B$11:$O$140,($B$1+2),FALSE))-(I25*(I$7/VLOOKUP(B25,'Paddock Names'!$B$11:$D$140,3))) -> #DIV/0! | J26: =I26+(VLOOKUP($B25,'Growth Rates'!$B$11:$O$140,($B$1+2),FALSE))-(J25*(J$7/VLOOKUP($B25,'Paddock Names'!$B$11:$D$140,3))) -> #DIV/0! | K26: =J26+(VLOOKUP($B25,'Growth Rates'!$B$11:$O$140,($B$1+2),FALSE))-(K25*(K$7/VLOOKUP($B25,'Paddock Names'!$B$11:$D$140,3))) -> #DIV/0! | L26: =K26+(VLOOKUP($B25,'Growth Rates'!$B$11:$O$140,($B$1+2),FALSE))-(L25*(L$7/VLOOKUP($B25,'Paddock Names'!$B$11:$D$140,3))) -> #DIV/0! | M26: =L26+(VLOOKUP($B25,'Growth Rates'!$B$11:$O$140,($B$1+2),FALSE))-(M25*(M$7/VLOOKUP($B25,'Paddock Names'!$B$11:$D$140,3))) -> #DIV/0! | N26: =M26+(VLOOKUP($B25,'Growth Rates'!$B$11:$O$140,($B$1+2),FALSE))-(N25*(N$7/VLOOKUP($B25,'Paddock Names'!$B$11:$D$140,3))) -> #DIV/0! | O26: =N26+(VLOOKUP($B25,'Growth Rates'!$B$11:$O$140,($B$1+2),FALSE))-(O25*(O$7/VLOOKUP($B25,'Paddock Names'!$B$11:$D$140,3))) -> #DIV/0! | P26: =O26+(VLOOKUP($B25,'Growth Rates'!$B$11:$O$140,($B$1+2),FALSE))-(P25*(P$7/VLOOKUP($B25,'Paddock Names'!$B$11:$D$140,3))) -> #DIV/0! | Q26: =P26+(VLOOKUP($B25,'Growth Rates'!$B$11:$O$140,($B$1+2),FALSE))-(Q25*(Q$7/VLOOKUP($B25,'Paddock Names'!$B$11:$D$140,3))) -> #DIV/0! | ... AM26: =AL26+(VLOOKUP($B25,'Growth Rates'!$B$11:$O$140,($B$1+2),FALSE))-(AM25*(AM$7/VLOOKUP($B25,'Paddock Names'!$B$11:$D$140,3))) -> #DIV/0!
B27: =B26+0.5 -> 9 | C27: =IF(VLOOKUP(B27,'Paddock Names'!$B$11:$C$140,2)>0,VLOOKUP(B27,'Paddock Names'!$B$11:$C$140,2),"") | D27: =IF(((F27-G27)/(((VLOOKUP(B27,'Growth Rates'!$B$11:$O$140,($B$1+2),FALSE)))+0.001-(((I$7/VLOOKUP(B27,'Paddock Names'!$B$11:$D$140,3))))))*-1>(VALUE(CONCATENATE("01/",$B$1+1,"/",'Group Name and Year'!$E$14))-VALUE(CONCATENATE("01/",$B$1,"/",'Group Name and Year'!$E$14))),(VALUE(CONCATENATE("01/",$B$1+1,"/",'Group Name and Year'!$E$14))-VALUE(CONCATENATE("01/",$B$1,"/",'Group Name and Year'!$E$14))),(IF(((F27-G27)/(((VLOOKUP(B27,'Growth Rates'!$B$11:$O$140,($B$1+2),FALSE)))+0.001-(((I$7/VLOOKUP(B27,'Paddock Names'!$B$11:$D$140,3))))))*-1>0,ROUNDDOWN(((F27-G27)/(((VLOOKUP(B27,'Growth Rates'!$B$11:$O$140,($B$1+2),FALSE)))-(((I$7/VLOOKUP(B27,'Paddock Names'!$B$11:$D$140,3))))))*-1,0),VALUE(CONCATENATE("01/",$B$1+1,"/",'Group Name and Year'!$E$14))-VALUE(CONCATENATE("01/",$B$1,"/",'Group Name and Year'!$E$14))))) -> #DIV/0! | E27: =IF(SUM(I27:AM27)>0,SUM(I27:AM27)," ") | G27: =VLOOKUP(B27,'Herbage Mass Residual'!$B$11:$O$140,($B$1+2),FALSE) -> 2200 | H27: =($F$7/VLOOKUP(B27,'Paddock Names'!$B$11:$D$140,3))*(SUM(I27:AM27)/31) -> #DIV/0!
B28: =B27+0.5 -> 9.5 | I28: =F27+(VLOOKUP(B27,'Growth Rates'!$B$11:$O$140,($B$1+2),FALSE))-(I27*(I$7/VLOOKUP(B27,'Paddock Names'!$B$11:$D$140,3))) -> #DIV/0! | J28: =I28+(VLOOKUP($B27,'Growth Rates'!$B$11:$O$140,($B$1+2),FALSE))-(J27*(J$7/VLOOKUP($B27,'Paddock Names'!$B$11:$D$140,3))) -> #DIV/0! | K28: =J28+(VLOOKUP($B27,'Growth Rates'!$B$11:$O$140,($B$1+2),FALSE))-(K27*(K$7/VLOOKUP($B27,'Paddock Names'!$B$11:$D$140,3))) -> #DIV/0! | L28: =K28+(VLOOKUP($B27,'Growth Rates'!$B$11:$O$140,($B$1+2),FALSE))-(L27*(L$7/VLOOKUP($B27,'Paddock Names'!$B$11:$D$140,3))) -> #DIV/0! | M28: =L28+(VLOOKUP($B27,'Growth Rates'!$B$11:$O$140,($B$1+2),FALSE))-(M27*(M$7/VLOOKUP($B27,'Paddock Names'!$B$11:$D$140,3))) -> #DIV/0! | N28: =M28+(VLOOKUP($B27,'Growth Rates'!$B$11:$O$140,($B$1+2),FALSE))-(N27*(N$7/VLOOKUP($B27,'Paddock Names'!$B$11:$D$140,3))) -> #DIV/0! | O28: =N28+(VLOOKUP($B27,'Growth Rates'!$B$11:$O$140,($B$1+2),FALSE))-(O27*(O$7/VLOOKUP($B27,'Paddock Names'!$B$11:$D$140,3))) -> #DIV/0! | P28: =O28+(VLOOKUP($B27,'Growth Rates'!$B$11:$O$140,($B$1+2),FALSE))-(P27*(P$7/VLOOKUP($B27,'Paddock Names'!$B$11:$D$140,3))) -> #DIV/0! | Q28: =P28+(VLOOKUP($B27,'Growth Rates'!$B$11:$O$140,($B$1+2),FALSE))-(Q27*(Q$7/VLOOKUP($B27,'Paddock Names'!$B$11:$D$140,3))) -> #DIV/0! | ... AM28: =AL28+(VLOOKUP($B27,'Growth Rates'!$B$11:$O$140,($B$1+2),FALSE))-(AM27*(AM$7/VLOOKUP($B27,'Paddock Names'!$B$11:$D$140,3))) -> #DIV/0!
B29: =B28+0.5 -> 10 | C29: =IF(VLOOKUP(B29,'Paddock Names'!$B$11:$C$140,2)>0,VLOOKUP(B29,'Paddock Names'!$B$11:$C$140,2),"") | D29: =IF(((F29-G29)/(((VLOOKUP(B29,'Growth Rates'!$B$11:$O$140,($B$1+2),FALSE)))+0.001-(((I$7/VLOOKUP(B29,'Paddock Names'!$B$11:$D$140,3))))))*-1>(VALUE(CONCATENATE("01/",$B$1+1,"/",'Group Name and Year'!$E$14))-VALUE(CONCATENATE("01/",$B$1,"/",'Group Name and Year'!$E$14))),(VALUE(CONCATENATE("01/",$B$1+1,"/",'Group Name and Year'!$E$14))-VALUE(CONCATENATE("01/",$B$1,"/",'Group Name and Year'!$E$14))),(IF(((F29-G29)/(((VLOOKUP(B29,'Growth Rates'!$B$11:$O$140,($B$1+2),FALSE)))+0.001-(((I$7/VLOOKUP(B29,'Paddock Names'!$B$11:$D$140,3))))))*-1>0,ROUNDDOWN(((F29-G29)/(((VLOOKUP(B29,'Growth Rates'!$B$11:$O$140,($B$1+2),FALSE)))-(((I$7/VLOOKUP(B29,'Paddock Names'!$B$11:$D$140,3))))))*-1,0),VALUE(CONCATENATE("01/",$B$1+1,"/",'Group Name and Year'!$E$14))-VALUE(CONCATENATE("01/",$B$1,"/",'Group Name and Year'!$E$14))))) -> #DIV/0! | E29: =IF(SUM(I29:AM29)>0,SUM(I29:AM29)," ") | G29: =VLOOKUP(B29,'Herbage Mass Residual'!$B$11:$O$140,($B$1+2),FALSE) -> 2200 | H29: =($F$7/VLOOKUP(B29,'Paddock Names'!$B$11:$D$140,3))*(SUM(I29:AM29)/31) -> #DIV/0!
B30: =B29+0.5 -> 10.5 | I30: =F29+(VLOOKUP(B29,'Growth Rates'!$B$11:$O$140,($B$1+2),FALSE))-(I29*(I$7/VLOOKUP(B29,'Paddock Names'!$B$11:$D$140,3))) -> #DIV/0! | J30: =I30+(VLOOKUP($B29,'Growth Rates'!$B$11:$O$140,($B$1+2),FALSE))-(J29*(J$7/VLOOKUP($B29,'Paddock Names'!$B$11:$D$140,3))) -> #DIV/0! | K30: =J30+(VLOOKUP($B29,'Growth Rates'!$B$11:$O$140,($B$1+2),FALSE))-(K29*(K$7/VLOOKUP($B29,'Paddock Names'!$B$11:$D$140,3))) -> #DIV/0! | L30: =K30+(VLOOKUP($B29,'Growth Rates'!$B$11:$O$140,($B$1+2),FALSE))-(L29*(L$7/VLOOKUP($B29,'Paddock Names'!$B$11:$D$140,3))) -> #DIV/0! | M30: =L30+(VLOOKUP($B29,'Growth Rates'!$B$11:$O$140,($B$1+2),FALSE))-(M29*(M$7/VLOOKUP($B29,'Paddock Names'!$B$11:$D$140,3))) -> #DIV/0! | N30: =M30+(VLOOKUP($B29,'Growth Rates'!$B$11:$O$140,($B$1+2),FALSE))-(N29*(N$7/VLOOKUP($B29,'Paddock Names'!$B$11:$D$140,3))) -> #DIV/0! | O30: =N30+(VLOOKUP($B29,'Growth Rates'!$B$11:$O$140,($B$1+2),FALSE))-(O29*(O$7/VLOOKUP($B29,'Paddock Names'!$B$11:$D$140,3))) -> #DIV/0! | P30: =O30+(VLOOKUP($B29,'Growth Rates'!$B$11:$O$140,($B$1+2),FALSE))-(P29*(P$7/VLOOKUP($B29,'Paddock Names'!$B$11:$D$140,3))) -> #DIV/0! | Q30: =P30+(VLOOKUP($B29,'Growth Rates'!$B$11:$O$140,($B$1+2),FALSE))-(Q29*(Q$7/VLOOKUP($B29,'Paddock Names'!$B$11:$D$140,3))) -> #DIV/0! | ... AM30: =AL30+(VLOOKUP($B29,'Growth Rates'!$B$11:$O$140,($B$1+2),FALSE))-(AM29*(AM$7/VLOOKUP($B29,'Paddock Names'!$B$11:$D$140,3))) -> #DIV/0!
B31: =B30+0.5 -> 11 | C31: =IF(VLOOKUP(B31,'Paddock Names'!$B$11:$C$140,2)>0,VLOOKUP(B31,'Paddock Names'!$B$11:$C$140,2),"") | D31: =IF(((F31-G31)/(((VLOOKUP(B31,'Growth Rates'!$B$11:$O$140,($B$1+2),FALSE)))+0.001-(((I$7/VLOOKUP(B31,'Paddock Names'!$B$11:$D$140,3))))))*-1>(VALUE(CONCATENATE("01/",$B$1+1,"/",'Group Name and Year'!$E$14))-VALUE(CONCATENATE("01/",$B$1,"/",'Group Name and Year'!$E$14))),(VALUE(CONCATENATE("01/",$B$1+1,"/",'Group Name and Year'!$E$14))-VALUE(CONCATENATE("01/",$B$1,"/",'Group Name and Year'!$E$14))),(IF(((F31-G31)/(((VLOOKUP(B31,'Growth Rates'!$B$11:$O$140,($B$1+2),FALSE)))+0.001-(((I$7/VLOOKUP(B31,'Paddock Names'!$B$11:$D$140,3))))))*-1>0,ROUNDDOWN(((F31-G31)/(((VLOOKUP(B31,'Growth Rates'!$B$11:$O$140,($B$1+2),FALSE)))-(((I$7/VLOOKUP(B31,'Paddock Names'!$B$11:$D$140,3))))))*-1,0),VALUE(CONCATENATE("01/",$B$1+1,"/",'Group Name and Year'!$E$14))-VALUE(CONCATENATE("01/",$B$1,"/",'Group Name and Year'!$E$14))))) -> #DIV/0! | E31: =IF(SUM(I31:AM31)>0,SUM(I31:AM31)," ") | G31: =VLOOKUP(B31,'Herbage Mass Residual'!$B$11:$O$140,($B$1+2),FALSE) -> 2200 | H31: =($F$7/VLOOKUP(B31,'Paddock Names'!$B$11:$D$140,3))*(SUM(I31:AM31)/31) -> #DIV/0!
B32: =B31+0.5 -> 11.5 | I32: =F31+(VLOOKUP(B31,'Growth Rates'!$B$11:$O$140,($B$1+2),FALSE))-(I31*(I$7/VLOOKUP(B31,'Paddock Names'!$B$11:$D$140,3))) -> #DIV/0! | J32: =I32+(VLOOKUP($B31,'Growth Rates'!$B$11:$O$140,($B$1+2),FALSE))-(J31*(J$7/VLOOKUP($B31,'Paddock Names'!$B$11:$D$140,3))) -> #DIV/0! | K32: =J32+(VLOOKUP($B31,'Growth Rates'!$B$11:$O$140,($B$1+2),FALSE))-(K31*(K$7/VLOOKUP($B31,'Paddock Names'!$B$11:$D$140,3))) -> #DIV/0! | L32: =K32+(VLOOKUP($B31,'Growth Rates'!$B$11:$O$140,($B$1+2),FALSE))-(L31*(L$7/VLOOKUP($B31,'Paddock Names'!$B$11:$D$140,3))) -> #DIV/0! | M32: =L32+(VLOOKUP($B31,'Growth Rates'!$B$11:$O$140,($B$1+2),FALSE))-(M31*(M$7/VLOOKUP($B31,'Paddock Names'!$B$11:$D$140,3))) -> #DIV/0! | N32: =M32+(VLOOKUP($B31,'Growth Rates'!$B$11:$O$140,($B$1+2),FALSE))-(N31*(N$7/VLOOKUP($B31,'Paddock Names'!$B$11:$D$140,3))) -> #DIV/0! | O32: =N32+(VLOOKUP($B31,'Growth Rates'!$B$11:$O$140,($B$1+2),FALSE))-(O31*(O$7/VLOOKUP($B31,'Paddock Names'!$B$11:$D$140,3))) -> #DIV/0! | P32: =O32+(VLOOKUP($B31,'Growth Rates'!$B$11:$O$140,($B$1+2),FALSE))-(P31*(P$7/VLOOKUP($B31,'Paddock Names'!$B$11:$D$140,3))) -> #DIV/0! | Q32: =P32+(VLOOKUP($B31,'Growth Rates'!$B$11:$O$140,($B$1+2),FALSE))-(Q31*(Q$7/VLOOKUP($B31,'Paddock Names'!$B$11:$D$140,3))) -> #DIV/0! | ... AM32: =AL32+(VLOOKUP($B31,'Growth Rates'!$B$11:$O$140,($B$1+2),FALSE))-(AM31*(AM$7/VLOOKUP($B31,'Paddock Names'!$B$11:$D$140,3))) -> #DIV/0!
B33: =B32+0.5 -> 12 | C33: =IF(VLOOKUP(B33,'Paddock Names'!$B$11:$C$140,2)>0,VLOOKUP(B33,'Paddock Names'!$B$11:$C$140,2),"") | D33: =IF(((F33-G33)/(((VLOOKUP(B33,'Growth Rates'!$B$11:$O$140,($B$1+2),FALSE)))+0.001-(((I$7/VLOOKUP(B33,'Paddock Names'!$B$11:$D$140,3))))))*-1>(VALUE(CONCATENATE("01/",$B$1+1,"/",'Group Name and Year'!$E$14))-VALUE(CONCATENATE("01/",$B$1,"/",'Group Name and Year'!$E$14))),(VALUE(CONCATENATE("01/",$B$1+1,"/",'Group Name and Year'!$E$14))-VALUE(CONCATENATE("01/",$B$1,"/",'Group Name and Year'!$E$14))),(IF(((F33-G33)/(((VLOOKUP(B33,'Growth Rates'!$B$11:$O$140,($B$1+2),FALSE)))+0.001-(((I$7/VLOOKUP(B33,'Paddock Names'!$B$11:$D$140,3))))))*-1>0,ROUNDDOWN(((F33-G33)/(((VLOOKUP(B33,'Growth Rates'!$B$11:$O$140,($B$1+2),FALSE)))-(((I$7/VLOOKUP(B33,'Paddock Names'!$B$11:$D$140,3))))))*-1,0),VALUE(CONCATENATE("01/",$B$1+1,"/",'Group Name and Year'!$E$14))-VALUE(CONCATENATE("01/",$B$1,"/",'Group Name and Year'!$E$14))))) -> #DIV/0! | E33: =IF(SUM(I33:AM33)>0,SUM(I33:AM33)," ") | G33: =VLOOKUP(B33,'Herbage Mass Residual'!$B$11:$O$140,($B$1+2),FALSE) -> 2200 | H33: =($F$7/VLOOKUP(B33,'Paddock Names'!$B$11:$D$140,3))*(SUM(I33:AM33)/31) -> #DIV/0!
B34: =B33+0.5 -> 12.5 | I34: =F33+(VLOOKUP(B33,'Growth Rates'!$B$11:$O$140,($B$1+2),FALSE))-(I33*(I$7/VLOOKUP(B33,'Paddock Names'!$B$11:$D$140,3))) -> #DIV/0! | J34: =I34+(VLOOKUP($B33,'Growth Rates'!$B$11:$O$140,($B$1+2),FALSE))-(J33*(J$7/VLOOKUP($B33,'Paddock Names'!$B$11:$D$140,3))) -> #DIV/0! | K34: =J34+(VLOOKUP($B33,'Growth Rates'!$B$11:$O$140,($B$1+2),FALSE))-(K33*(K$7/VLOOKUP($B33,'Paddock Names'!$B$11:$D$140,3))) -> #DIV/0! | L34: =K34+(VLOOKUP($B33,'Growth Rates'!$B$11:$O$140,($B$1+2),FALSE))-(L33*(L$7/VLOOKUP($B33,'Paddock Names'!$B$11:$D$140,3))) -> #DIV/0! | M34: =L34+(VLOOKUP($B33,'Growth Rates'!$B$11:$O$140,($B$1+2),FALSE))-(M33*(M$7/VLOOKUP($B33,'Paddock Names'!$B$11:$D$140,3))) -> #DIV/0! | N34: =M34+(VLOOKUP($B33,'Growth Rates'!$B$11:$O$140,($B$1+2),FALSE))-(N33*(N$7/VLOOKUP($B33,'Paddock Names'!$B$11:$D$140,3))) -> #DIV/0! | O34: =N34+(VLOOKUP($B33,'Growth Rates'!$B$11:$O$140,($B$1+2),FALSE))-(O33*(O$7/VLOOKUP($B33,'Paddock Names'!$B$11:$D$140,3))) -> #DIV/0! | P34: =O34+(VLOOKUP($B33,'Growth Rates'!$B$11:$O$140,($B$1+2),FALSE))-(P33*(P$7/VLOOKUP($B33,'Paddock Names'!$B$11:$D$140,3))) -> #DIV/0! | Q34: =P34+(VLOOKUP($B33,'Growth Rates'!$B$11:$O$140,($B$1+2),FALSE))-(Q33*(Q$7/VLOOKUP($B33,'Paddock Names'!$B$11:$D$140,3))) -> #DIV/0! | ... AM34: =AL34+(VLOOKUP($B33,'Growth Rates'!$B$11:$O$140,($B$1+2),FALSE))-(AM33*(AM$7/VLOOKUP($B33,'Paddock Names'!$B$11:$D$140,3))) -> #DIV/0!
B35: =B34+0.5 -> 13 | C35: =IF(VLOOKUP(B35,'Paddock Names'!$B$11:$C$140,2)>0,VLOOKUP(B35,'Paddock Names'!$B$11:$C$140,2),"") | D35: =IF(((F35-G35)/(((VLOOKUP(B35,'Growth Rates'!$B$11:$O$140,($B$1+2),FALSE)))+0.001-(((I$7/VLOOKUP(B35,'Paddock Names'!$B$11:$D$140,3))))))*-1>(VALUE(CONCATENATE("01/",$B$1+1,"/",'Group Name and Year'!$E$14))-VALUE(CONCATENATE("01/",$B$1,"/",'Group Name and Year'!$E$14))),(VALUE(CONCATENATE("01/",$B$1+1,"/",'Group Name and Year'!$E$14))-VALUE(CONCATENATE("01/",$B$1,"/",'Group Name and Year'!$E$14))),(IF(((F35-G35)/(((VLOOKUP(B35,'Growth Rates'!$B$11:$O$140,($B$1+2),FALSE)))+0.001-(((I$7/VLOOKUP(B35,'Paddock Names'!$B$11:$D$140,3))))))*-1>0,ROUNDDOWN(((F35-G35)/(((VLOOKUP(B35,'Growth Rates'!$B$11:$O$140,($B$1+2),FALSE)))-(((I$7/VLOOKUP(B35,'Paddock Names'!$B$11:$D$140,3))))))*-1,0),VALUE(CONCATENATE("01/",$B$1+1,"/",'Group Name and Year'!$E$14))-VALUE(CONCATENATE("01/",$B$1,"/",'Group Name and Year'!$E$14))))) -> #DIV/0! | E35: =IF(SUM(I35:AM35)>0,SUM(I35:AM35)," ") | G35: =VLOOKUP(B35,'Herbage Mass Residual'!$B$11:$O$140,($B$1+2),FALSE) -> 2200 | H35: =($F$7/VLOOKUP(B35,'Paddock Names'!$B$11:$D$140,3))*(SUM(I35:AM35)/31) -> #DIV/0!
B36: =B35+0.5 -> 13.5 | I36: =F35+(VLOOKUP(B35,'Growth Rates'!$B$11:$O$140,($B$1+2),FALSE))-(I35*(I$7/VLOOKUP(B35,'Paddock Names'!$B$11:$D$140,3))) -> #DIV/0! | J36: =I36+(VLOOKUP($B35,'Growth Rates'!$B$11:$O$140,($B$1+2),FALSE))-(J35*(J$7/VLOOKUP($B35,'Paddock Names'!$B$11:$D$140,3))) -> #DIV/0! | K36: =J36+(VLOOKUP($B35,'Growth Rates'!$B$11:$O$140,($B$1+2),FALSE))-(K35*(K$7/VLOOKUP($B35,'Paddock Names'!$B$11:$D$140,3))) -> #DIV/0! | L36: =K36+(VLOOKUP($B35,'Growth Rates'!$B$11:$O$140,($B$1+2),FALSE))-(L35*(L$7/VLOOKUP($B35,'Paddock Names'!$B$11:$D$140,3))) -> #DIV/0! | M36: =L36+(VLOOKUP($B35,'Growth Rates'!$B$11:$O$140,($B$1+2),FALSE))-(M35*(M$7/VLOOKUP($B35,'Paddock Names'!$B$11:$D$140,3))) -> #DIV/0! | N36: =M36+(VLOOKUP($B35,'Growth Rates'!$B$11:$O$140,($B$1+2),FALSE))-(N35*(N$7/VLOOKUP($B35,'Paddock Names'!$B$11:$D$140,3))) -> #DIV/0! | O36: =N36+(VLOOKUP($B35,'Growth Rates'!$B$11:$O$140,($B$1+2),FALSE))-(O35*(O$7/VLOOKUP($B35,'Paddock Names'!$B$11:$D$140,3))) -> #DIV/0! | P36: =O36+(VLOOKUP($B35,'Growth Rates'!$B$11:$O$140,($B$1+2),FALSE))-(P35*(P$7/VLOOKUP($B35,'Paddock Names'!$B$11:$D$140,3))) -> #DIV/0! | Q36: =P36+(VLOOKUP($B35,'Growth Rates'!$B$11:$O$140,($B$1+2),FALSE))-(Q35*(Q$7/VLOOKUP($B35,'Paddock Names'!$B$11:$D$140,3))) -> #DIV/0! | ... AM36: =AL36+(VLOOKUP($B35,'Growth Rates'!$B$11:$O$140,($B$1+2),FALSE))-(AM35*(AM$7/VLOOKUP($B35,'Paddock Names'!$B$11:$D$140,3))) -> #DIV/0!
B37: =B36+0.5 -> 14 | C37: =IF(VLOOKUP(B37,'Paddock Names'!$B$11:$C$140,2)>0,VLOOKUP(B37,'Paddock Names'!$B$11:$C$140,2),"") | D37: =IF(((F37-G37)/(((VLOOKUP(B37,'Growth Rates'!$B$11:$O$140,($B$1+2),FALSE)))+0.001-(((I$7/VLOOKUP(B37,'Paddock Names'!$B$11:$D$140,3))))))*-1>(VALUE(CONCATENATE("01/",$B$1+1,"/",'Group Name and Year'!$E$14))-VALUE(CONCATENATE("01/",$B$1,"/",'Group Name and Year'!$E$14))),(VALUE(CONCATENATE("01/",$B$1+1,"/",'Group Name and Year'!$E$14))-VALUE(CONCATENATE("01/",$B$1,"/",'Group Name and Year'!$E$14))),(IF(((F37-G37)/(((VLOOKUP(B37,'Growth Rates'!$B$11:$O$140,($B$1+2),FALSE)))+0.001-(((I$7/VLOOKUP(B37,'Paddock Names'!$B$11:$D$140,3))))))*-1>0,ROUNDDOWN(((F37-G37)/(((VLOOKUP(B37,'Growth Rates'!$B$11:$O$140,($B$1+2),FALSE)))-(((I$7/VLOOKUP(B37,'Paddock Names'!$B$11:$D$140,3))))))*-1,0),VALUE(CONCATENATE("01/",$B$1+1,"/",'Group Name and Year'!$E$14))-VALUE(CONCATENATE("01/",$B$1,"/",'Group Name and Year'!$E$14))))) -> #DIV/0! | E37: =IF(SUM(I37:AM37)>0,SUM(I37:AM37)," ") | G37: =VLOOKUP(B37,'Herbage Mass Residual'!$B$11:$O$140,($B$1+2),FALSE) -> 2200 | H37: =($F$7/VLOOKUP(B37,'Paddock Names'!$B$11:$D$140,3))*(SUM(I37:AM37)/31) -> #DIV/0!
B38: =B37+0.5 -> 14.5 | I38: =F37+(VLOOKUP(B37,'Growth Rates'!$B$11:$O$140,($B$1+2),FALSE))-(I37*(I$7/VLOOKUP(B37,'Paddock Names'!$B$11:$D$140,3))) -> #DIV/0! | J38: =I38+(VLOOKUP($B37,'Growth Rates'!$B$11:$O$140,($B$1+2),FALSE))-(J37*(J$7/VLOOKUP($B37,'Paddock Names'!$B$11:$D$140,3))) -> #DIV/0! | K38: =J38+(VLOOKUP($B37,'Growth Rates'!$B$11:$O$140,($B$1+2),FALSE))-(K37*(K$7/VLOOKUP($B37,'Paddock Names'!$B$11:$D$140,3))) -> #DIV/0! | L38: =K38+(VLOOKUP($B37,'Growth Rates'!$B$11:$O$140,($B$1+2),FALSE))-(L37*(L$7/VLOOKUP($B37,'Paddock Names'!$B$11:$D$140,3))) -> #DIV/0! | M38: =L38+(VLOOKUP($B37,'Growth Rates'!$B$11:$O$140,($B$1+2),FALSE))-(M37*(M$7/VLOOKUP($B37,'Paddock Names'!$B$11:$D$140,3))) -> #DIV/0! | N38: =M38+(VLOOKUP($B37,'Growth Rates'!$B$11:$O$140,($B$1+2),FALSE))-(N37*(N$7/VLOOKUP($B37,'Paddock Names'!$B$11:$D$140,3))) -> #DIV/0! | O38: =N38+(VLOOKUP($B37,'Growth Rates'!$B$11:$O$140,($B$1+2),FALSE))-(O37*(O$7/VLOOKUP($B37,'Paddock Names'!$B$11:$D$140,3))) -> #DIV/0! | P38: =O38+(VLOOKUP($B37,'Growth Rates'!$B$11:$O$140,($B$1+2),FALSE))-(P37*(P$7/VLOOKUP($B37,'Paddock Names'!$B$11:$D$140,3))) -> #DIV/0! | Q38: =P38+(VLOOKUP($B37,'Growth Rates'!$B$11:$O$140,($B$1+2),FALSE))-(Q37*(Q$7/VLOOKUP($B37,'Paddock Names'!$B$11:$D$140,3))) -> #DIV/0! | ... AM38: =AL38+(VLOOKUP($B37,'Growth Rates'!$B$11:$O$140,($B$1+2),FALSE))-(AM37*(AM$7/VLOOKUP($B37,'Paddock Names'!$B$11:$D$140,3))) -> #DIV/0!
B39: =B38+0.5 -> 15 | C39: =IF(VLOOKUP(B39,'Paddock Names'!$B$11:$C$140,2)>0,VLOOKUP(B39,'Paddock Names'!$B$11:$C$140,2),"") | D39: =IF(((F39-G39)/(((VLOOKUP(B39,'Growth Rates'!$B$11:$O$140,($B$1+2),FALSE)))+0.001-(((I$7/VLOOKUP(B39,'Paddock Names'!$B$11:$D$140,3))))))*-1>(VALUE(CONCATENATE("01/",$B$1+1,"/",'Group Name and Year'!$E$14))-VALUE(CONCATENATE("01/",$B$1,"/",'Group Name and Year'!$E$14))),(VALUE(CONCATENATE("01/",$B$1+1,"/",'Group Name and Year'!$E$14))-VALUE(CONCATENATE("01/",$B$1,"/",'Group Name and Year'!$E$14))),(IF(((F39-G39)/(((VLOOKUP(B39,'Growth Rates'!$B$11:$O$140,($B$1+2),FALSE)))+0.001-(((I$7/VLOOKUP(B39,'Paddock Names'!$B$11:$D$140,3))))))*-1>0,ROUNDDOWN(((F39-G39)/(((VLOOKUP(B39,'Growth Rates'!$B$11:$O$140,($B$1+2),FALSE)))-(((I$7/VLOOKUP(B39,'Paddock Names'!$B$11:$D$140,3))))))*-1,0),VALUE(CONCATENATE("01/",$B$1+1,"/",'Group Name and Year'!$E$14))-VALUE(CONCATENATE("01/",$B$1,"/",'Group Name and Year'!$E$14))))) -> #DIV/0! | E39: =IF(SUM(I39:AM39)>0,SUM(I39:AM39)," ") | G39: =VLOOKUP(B39,'Herbage Mass Residual'!$B$11:$O$140,($B$1+2),FALSE) -> 2200 | H39: =($F$7/VLOOKUP(B39,'Paddock Names'!$B$11:$D$140,3))*(SUM(I39:AM39)/31) -> #DIV/0!
B40: =B39+0.5 -> 15.5 | I40: =F39+(VLOOKUP(B39,'Growth Rates'!$B$11:$O$140,($B$1+2),FALSE))-(I39*(I$7/VLOOKUP(B39,'Paddock Names'!$B$11:$D$140,3))) -> #DIV/0! | J40: =I40+(VLOOKUP($B39,'Growth Rates'!$B$11:$O$140,($B$1+2),FALSE))-(J39*(J$7/VLOOKUP($B39,'Paddock Names'!$B$11:$D$140,3))) -> #DIV/0! | K40: =J40+(VLOOKUP($B39,'Growth Rates'!$B$11:$O$140,($B$1+2),FALSE))-(K39*(K$7/VLOOKUP($B39,'Paddock Names'!$B$11:$D$140,3))) -> #DIV/0! | L40: =K40+(VLOOKUP($B39,'Growth Rates'!$B$11:$O$140,($B$1+2),FALSE))-(L39*(L$7/VLOOKUP($B39,'Paddock Names'!$B$11:$D$140,3))) -> #DIV/0! | M40: =L40+(VLOOKUP($B39,'Growth Rates'!$B$11:$O$140,($B$1+2),FALSE))-(M39*(M$7/VLOOKUP($B39,'Paddock Names'!$B$11:$D$140,3))) -> #DIV/0! | N40: =M40+(VLOOKUP($B39,'Growth Rates'!$B$11:$O$140,($B$1+2),FALSE))-(N39*(N$7/VLOOKUP($B39,'Paddock Names'!$B$11:$D$140,3))) -> #DIV/0! | O40: =N40+(VLOOKUP($B39,'Growth Rates'!$B$11:$O$140,($B$1+2),FALSE))-(O39*(O$7/VLOOKUP($B39,'Paddock Names'!$B$11:$D$140,3))) -> #DIV/0! | P40: =O40+(VLOOKUP($B39,'Growth Rates'!$B$11:$O$140,($B$1+2),FALSE))-(P39*(P$7/VLOOKUP($B39,'Paddock Names'!$B$11:$D$140,3))) -> #DIV/0! | Q40: =P40+(VLOOKUP($B39,'Growth Rates'!$B$11:$O$140,($B$1+2),FALSE))-(Q39*(Q$7/VLOOKUP($B39,'Paddock Names'!$B$11:$D$140,3))) -> #DIV/0! | ... AM40: =AL40+(VLOOKUP($B39,'Growth Rates'!$B$11:$O$140,($B$1+2),FALSE))-(AM39*(AM$7/VLOOKUP($B39,'Paddock Names'!$B$11:$D$140,3))) -> #DIV/0!
B41: =B40+0.5 -> 16 | C41: =IF(VLOOKUP(B41,'Paddock Names'!$B$11:$C$140,2)>0,VLOOKUP(B41,'Paddock Names'!$B$11:$C$140,2),"") | D41: =IF(((F41-G41)/(((VLOOKUP(B41,'Growth Rates'!$B$11:$O$140,($B$1+2),FALSE)))+0.001-(((I$7/VLOOKUP(B41,'Paddock Names'!$B$11:$D$140,3))))))*-1>(VALUE(CONCATENATE("01/",$B$1+1,"/",'Group Name and Year'!$E$14))-VALUE(CONCATENATE("01/",$B$1,"/",'Group Name and Year'!$E$14))),(VALUE(CONCATENATE("01/",$B$1+1,"/",'Group Name and Year'!$E$14))-VALUE(CONCATENATE("01/",$B$1,"/",'Group Name and Year'!$E$14))),(IF(((F41-G41)/(((VLOOKUP(B41,'Growth Rates'!$B$11:$O$140,($B$1+2),FALSE)))+0.001-(((I$7/VLOOKUP(B41,'Paddock Names'!$B$11:$D$140,3))))))*-1>0,ROUNDDOWN(((F41-G41)/(((VLOOKUP(B41,'Growth Rates'!$B$11:$O$140,($B$1+2),FALSE)))-(((I$7/VLOOKUP(B41,'Paddock Names'!$B$11:$D$140,3))))))*-1,0),VALUE(CONCATENATE("01/",$B$1+1,"/",'Group Name and Year'!$E$14))-VALUE(CONCATENATE("01/",$B$1,"/",'Group Name and Year'!$E$14))))) -> #DIV/0! | E41: =IF(SUM(I41:AM41)>0,SUM(I41:AM41)," ") | G41: =VLOOKUP(B41,'Herbage Mass Residual'!$B$11:$O$140,($B$1+2),FALSE) -> 2200 | H41: =($F$7/VLOOKUP(B41,'Paddock Names'!$B$11:$D$140,3))*(SUM(I41:AM41)/31) -> #DIV/0!
B42: =B41+0.5 -> 16.5 | I42: =F41+(VLOOKUP(B41,'Growth Rates'!$B$11:$O$140,($B$1+2),FALSE))-(I41*(I$7/VLOOKUP(B41,'Paddock Names'!$B$11:$D$140,3))) -> #DIV/0! | J42: =I42+(VLOOKUP($B41,'Growth Rates'!$B$11:$O$140,($B$1+2),FALSE))-(J41*(J$7/VLOOKUP($B41,'Paddock Names'!$B$11:$D$140,3))) -> #DIV/0! | K42: =J42+(VLOOKUP($B41,'Growth Rates'!$B$11:$O$140,($B$1+2),FALSE))-(K41*(K$7/VLOOKUP($B41,'Paddock Names'!$B$11:$D$140,3))) -> #DIV/0! | L42: =K42+(VLOOKUP($B41,'Growth Rates'!$B$11:$O$140,($B$1+2),FALSE))-(L41*(L$7/VLOOKUP($B41,'Paddock Names'!$B$11:$D$140,3))) -> #DIV/0! | M42: =L42+(VLOOKUP($B41,'Growth Rates'!$B$11:$O$140,($B$1+2),FALSE))-(M41*(M$7/VLOOKUP($B41,'Paddock Names'!$B$11:$D$140,3))) -> #DIV/0! | N42: =M42+(VLOOKUP($B41,'Growth Rates'!$B$11:$O$140,($B$1+2),FALSE))-(N41*(N$7/VLOOKUP($B41,'Paddock Names'!$B$11:$D$140,3))) -> #DIV/0! | O42: =N42+(VLOOKUP($B41,'Growth Rates'!$B$11:$O$140,($B$1+2),FALSE))-(O41*(O$7/VLOOKUP($B41,'Paddock Names'!$B$11:$D$140,3))) -> #DIV/0! | P42: =O42+(VLOOKUP($B41,'Growth Rates'!$B$11:$O$140,($B$1+2),FALSE))-(P41*(P$7/VLOOKUP($B41,'Paddock Names'!$B$11:$D$140,3))) -> #DIV/0! | Q42: =P42+(VLOOKUP($B41,'Growth Rates'!$B$11:$O$140,($B$1+2),FALSE))-(Q41*(Q$7/VLOOKUP($B41,'Paddock Names'!$B$11:$D$140,3))) -> #DIV/0! | ... AM42: =AL42+(VLOOKUP($B41,'Growth Rates'!$B$11:$O$140,($B$1+2),FALSE))-(AM41*(AM$7/VLOOKUP($B41,'Paddock Names'!$B$11:$D$140,3))) -> #DIV/0!
B43: =B42+0.5 -> 17 | C43: =IF(VLOOKUP(B43,'Paddock Names'!$B$11:$C$140,2)>0,VLOOKUP(B43,'Paddock Names'!$B$11:$C$140,2),"") | D43: =IF(((F43-G43)/(((VLOOKUP(B43,'Growth Rates'!$B$11:$O$140,($B$1+2),FALSE)))+0.001-(((I$7/VLOOKUP(B43,'Paddock Names'!$B$11:$D$140,3))))))*-1>(VALUE(CONCATENATE("01/",$B$1+1,"/",'Group Name and Year'!$E$14))-VALUE(CONCATENATE("01/",$B$1,"/",'Group Name and Year'!$E$14))),(VALUE(CONCATENATE("01/",$B$1+1,"/",'Group Name and Year'!$E$14))-VALUE(CONCATENATE("01/",$B$1,"/",'Group Name and Year'!$E$14))),(IF(((F43-G43)/(((VLOOKUP(B43,'Growth Rates'!$B$11:$O$140,($B$1+2),FALSE)))+0.001-(((I$7/VLOOKUP(B43,'Paddock Names'!$B$11:$D$140,3))))))*-1>0,ROUNDDOWN(((F43-G43)/(((VLOOKUP(B43,'Growth Rates'!$B$11:$O$140,($B$1+2),FALSE)))-(((I$7/VLOOKUP(B43,'Paddock Names'!$B$11:$D$140,3))))))*-1,0),VALUE(CONCATENATE("01/",$B$1+1,"/",'Group Name and Year'!$E$14))-VALUE(CONCATENATE("01/",$B$1,"/",'Group Name and Year'!$E$14))))) -> #DIV/0! | E43: =IF(SUM(I43:AM43)>0,SUM(I43:AM43)," ") | G43: =VLOOKUP(B43,'Herbage Mass Residual'!$B$11:$O$140,($B$1+2),FALSE) -> 2200 | H43: =($F$7/VLOOKUP(B43,'Paddock Names'!$B$11:$D$140,3))*(SUM(I43:AM43)/31) -> #DIV/0!
B44: =B43+0.5 -> 17.5 | I44: =F43+(VLOOKUP(B43,'Growth Rates'!$B$11:$O$140,($B$1+2),FALSE))-(I43*(I$7/VLOOKUP(B43,'Paddock Names'!$B$11:$D$140,3))) -> #DIV/0! | J44: =I44+(VLOOKUP($B43,'Growth Rates'!$B$11:$O$140,($B$1+2),FALSE))-(J43*(J$7/VLOOKUP($B43,'Paddock Names'!$B$11:$D$140,3))) -> #DIV/0! | K44: =J44+(VLOOKUP($B43,'Growth Rates'!$B$11:$O$140,($B$1+2),FALSE))-(K43*(K$7/VLOOKUP($B43,'Paddock Names'!$B$11:$D$140,3))) -> #DIV/0! | L44: =K44+(VLOOKUP($B43,'Growth Rates'!$B$11:$O$140,($B$1+2),FALSE))-(L43*(L$7/VLOOKUP($B43,'Paddock Names'!$B$11:$D$140,3))) -> #DIV/0! | M44: =L44+(VLOOKUP($B43,'Growth Rates'!$B$11:$O$140,($B$1+2),FALSE))-(M43*(M$7/VLOOKUP($B43,'Paddock Names'!$B$11:$D$140,3))) -> #DIV/0! | N44: =M44+(VLOOKUP($B43,'Growth Rates'!$B$11:$O$140,($B$1+2),FALSE))-(N43*(N$7/VLOOKUP($B43,'Paddock Names'!$B$11:$D$140,3))) -> #DIV/0! | O44: =N44+(VLOOKUP($B43,'Growth Rates'!$B$11:$O$140,($B$1+2),FALSE))-(O43*(O$7/VLOOKUP($B43,'Paddock Names'!$B$11:$D$140,3))) -> #DIV/0! | P44: =O44+(VLOOKUP($B43,'Growth Rates'!$B$11:$O$140,($B$1+2),FALSE))-(P43*(P$7/VLOOKUP($B43,'Paddock Names'!$B$11:$D$140,3))) -> #DIV/0! | Q44: =P44+(VLOOKUP($B43,'Growth Rates'!$B$11:$O$140,($B$1+2),FALSE))-(Q43*(Q$7/VLOOKUP($B43,'Paddock Names'!$B$11:$D$140,3))) -> #DIV/0! | ... AM44: =AL44+(VLOOKUP($B43,'Growth Rates'!$B$11:$O$140,($B$1+2),FALSE))-(AM43*(AM$7/VLOOKUP($B43,'Paddock Names'!$B$11:$D$140,3))) -> #DIV/0!
B45: =B44+0.5 -> 18 | C45: =IF(VLOOKUP(B45,'Paddock Names'!$B$11:$C$140,2)>0,VLOOKUP(B45,'Paddock Names'!$B$11:$C$140,2),"") | D45: =IF(((F45-G45)/(((VLOOKUP(B45,'Growth Rates'!$B$11:$O$140,($B$1+2),FALSE)))+0.001-(((I$7/VLOOKUP(B45,'Paddock Names'!$B$11:$D$140,3))))))*-1>(VALUE(CONCATENATE("01/",$B$1+1,"/",'Group Name and Year'!$E$14))-VALUE(CONCATENATE("01/",$B$1,"/",'Group Name and Year'!$E$14))),(VALUE(CONCATENATE("01/",$B$1+1,"/",'Group Name and Year'!$E$14))-VALUE(CONCATENATE("01/",$B$1,"/",'Group Name and Year'!$E$14))),(IF(((F45-G45)/(((VLOOKUP(B45,'Growth Rates'!$B$11:$O$140,($B$1+2),FALSE)))+0.001-(((I$7/VLOOKUP(B45,'Paddock Names'!$B$11:$D$140,3))))))*-1>0,ROUNDDOWN(((F45-G45)/(((VLOOKUP(B45,'Growth Rates'!$B$11:$O$140,($B$1+2),FALSE)))-(((I$7/VLOOKUP(B45,'Paddock Names'!$B$11:$D$140,3))))))*-1,0),VALUE(CONCATENATE("01/",$B$1+1,"/",'Group Name and Year'!$E$14))-VALUE(CONCATENATE("01/",$B$1,"/",'Group Name and Year'!$E$14))))) -> #DIV/0! | E45: =IF(SUM(I45:AM45)>0,SUM(I45:AM45)," ") | G45: =VLOOKUP(B45,'Herbage Mass Residual'!$B$11:$O$140,($B$1+2),FALSE) -> 2200 | H45: =($F$7/VLOOKUP(B45,'Paddock Names'!$B$11:$D$140,3))*(SUM(I45:AM45)/31) -> #DIV/0!
B46: =B45+0.5 -> 18.5 | I46: =F45+(VLOOKUP(B45,'Growth Rates'!$B$11:$O$140,($B$1+2),FALSE))-(I45*(I$7/VLOOKUP(B45,'Paddock Names'!$B$11:$D$140,3))) -> #DIV/0! | J46: =I46+(VLOOKUP($B45,'Growth Rates'!$B$11:$O$140,($B$1+2),FALSE))-(J45*(J$7/VLOOKUP($B45,'Paddock Names'!$B$11:$D$140,3))) -> #DIV/0! | K46: =J46+(VLOOKUP($B45,'Growth Rates'!$B$11:$O$140,($B$1+2),FALSE))-(K45*(K$7/VLOOKUP($B45,'Paddock Names'!$B$11:$D$140,3))) -> #DIV/0! | L46: =K46+(VLOOKUP($B45,'Growth Rates'!$B$11:$O$140,($B$1+2),FALSE))-(L45*(L$7/VLOOKUP($B45,'Paddock Names'!$B$11:$D$140,3))) -> #DIV/0! | M46: =L46+(VLOOKUP($B45,'Growth Rates'!$B$11:$O$140,($B$1+2),FALSE))-(M45*(M$7/VLOOKUP($B45,'Paddock Names'!$B$11:$D$140,3))) -> #DIV/0! | N46: =M46+(VLOOKUP($B45,'Growth Rates'!$B$11:$O$140,($B$1+2),FALSE))-(N45*(N$7/VLOOKUP($B45,'Paddock Names'!$B$11:$D$140,3))) -> #DIV/0! | O46: =N46+(VLOOKUP($B45,'Growth Rates'!$B$11:$O$140,($B$1+2),FALSE))-(O45*(O$7/VLOOKUP($B45,'Paddock Names'!$B$11:$D$140,3))) -> #DIV/0! | P46: =O46+(VLOOKUP($B45,'Growth Rates'!$B$11:$O$140,($B$1+2),FALSE))-(P45*(P$7/VLOOKUP($B45,'Paddock Names'!$B$11:$D$140,3))) -> #DIV/0! | Q46: =P46+(VLOOKUP($B45,'Growth Rates'!$B$11:$O$140,($B$1+2),FALSE))-(Q45*(Q$7/VLOOKUP($B45,'Paddock Names'!$B$11:$D$140,3))) -> #DIV/0! | ... AM46: =AL46+(VLOOKUP($B45,'Growth Rates'!$B$11:$O$140,($B$1+2),FALSE))-(AM45*(AM$7/VLOOKUP($B45,'Paddock Names'!$B$11:$D$140,3))) -> #DIV/0!
B47: =B46+0.5 -> 19 | C47: =IF(VLOOKUP(B47,'Paddock Names'!$B$11:$C$140,2)>0,VLOOKUP(B47,'Paddock Names'!$B$11:$C$140,2),"") | D47: =IF(((F47-G47)/(((VLOOKUP(B47,'Growth Rates'!$B$11:$O$140,($B$1+2),FALSE)))+0.001-(((I$7/VLOOKUP(B47,'Paddock Names'!$B$11:$D$140,3))))))*-1>(VALUE(CONCATENATE("01/",$B$1+1,"/",'Group Name and Year'!$E$14))-VALUE(CONCATENATE("01/",$B$1,"/",'Group Name and Year'!$E$14))),(VALUE(CONCATENATE("01/",$B$1+1,"/",'Group Name and Year'!$E$14))-VALUE(CONCATENATE("01/",$B$1,"/",'Group Name and Year'!$E$14))),(IF(((F47-G47)/(((VLOOKUP(B47,'Growth Rates'!$B$11:$O$140,($B$1+2),FALSE)))+0.001-(((I$7/VLOOKUP(B47,'Paddock Names'!$B$11:$D$140,3))))))*-1>0,ROUNDDOWN(((F47-G47)/(((VLOOKUP(B47,'Growth Rates'!$B$11:$O$140,($B$1+2),FALSE)))-(((I$7/VLOOKUP(B47,'Paddock Names'!$B$11:$D$140,3))))))*-1,0),VALUE(CONCATENATE("01/",$B$1+1,"/",'Group Name and Year'!$E$14))-VALUE(CONCATENATE("01/",$B$1,"/",'Group Name and Year'!$E$14))))) -> #DIV/0! | E47: =IF(SUM(I47:AM47)>0,SUM(I47:AM47)," ") | G47: =VLOOKUP(B47,'Herbage Mass Residual'!$B$11:$O$140,($B$1+2),FALSE) -> 2200 | H47: =($F$7/VLOOKUP(B47,'Paddock Names'!$B$11:$D$140,3))*(SUM(I47:AM47)/31) -> #DIV/0!
B48: =B47+0.5 -> 19.5 | I48: =F47+(VLOOKUP(B47,'Growth Rates'!$B$11:$O$140,($B$1+2),FALSE))-(I47*(I$7/VLOOKUP(B47,'Paddock Names'!$B$11:$D$140,3))) -> #DIV/0! | J48: =I48+(VLOOKUP($B47,'Growth Rates'!$B$11:$O$140,($B$1+2),FALSE))-(J47*(J$7/VLOOKUP($B47,'Paddock Names'!$B$11:$D$140,3))) -> #DIV/0! | K48: =J48+(VLOOKUP($B47,'Growth Rates'!$B$11:$O$140,($B$1+2),FALSE))-(K47*(K$7/VLOOKUP($B47,'Paddock Names'!$B$11:$D$140,3))) -> #DIV/0! | L48: =K48+(VLOOKUP($B47,'Growth Rates'!$B$11:$O$140,($B$1+2),FALSE))-(L47*(L$7/VLOOKUP($B47,'Paddock Names'!$B$11:$D$140,3))) -> #DIV/0! | M48: =L48+(VLOOKUP($B47,'Growth Rates'!$B$11:$O$140,($B$1+2),FALSE))-(M47*(M$7/VLOOKUP($B47,'Paddock Names'!$B$11:$D$140,3))) -> #DIV/0! | N48: =M48+(VLOOKUP($B47,'Growth Rates'!$B$11:$O$140,($B$1+2),FALSE))-(N47*(N$7/VLOOKUP($B47,'Paddock Names'!$B$11:$D$140,3))) -> #DIV/0! | O48: =N48+(VLOOKUP($B47,'Growth Rates'!$B$11:$O$140,($B$1+2),FALSE))-(O47*(O$7/VLOOKUP($B47,'Paddock Names'!$B$11:$D$140,3))) -> #DIV/0! | P48: =O48+(VLOOKUP($B47,'Growth Rates'!$B$11:$O$140,($B$1+2),FALSE))-(P47*(P$7/VLOOKUP($B47,'Paddock Names'!$B$11:$D$140,3))) -> #DIV/0! | Q48: =P48+(VLOOKUP($B47,'Growth Rates'!$B$11:$O$140,($B$1+2),FALSE))-(Q47*(Q$7/VLOOKUP($B47,'Paddock Names'!$B$11:$D$140,3))) -> #DIV/0! | ... AM48: =AL48+(VLOOKUP($B47,'Growth Rates'!$B$11:$O$140,($B$1+2),FALSE))-(AM47*(AM$7/VLOOKUP($B47,'Paddock Names'!$B$11:$D$140,3))) -> #DIV/0!
B49: =B48+0.5 -> 20 | C49: =IF(VLOOKUP(B49,'Paddock Names'!$B$11:$C$140,2)>0,VLOOKUP(B49,'Paddock Names'!$B$11:$C$140,2),"") | D49: =IF(((F49-G49)/(((VLOOKUP(B49,'Growth Rates'!$B$11:$O$140,($B$1+2),FALSE)))+0.001-(((I$7/VLOOKUP(B49,'Paddock Names'!$B$11:$D$140,3))))))*-1>(VALUE(CONCATENATE("01/",$B$1+1,"/",'Group Name and Year'!$E$14))-VALUE(CONCATENATE("01/",$B$1,"/",'Group Name and Year'!$E$14))),(VALUE(CONCATENATE("01/",$B$1+1,"/",'Group Name and Year'!$E$14))-VALUE(CONCATENATE("01/",$B$1,"/",'Group Name and Year'!$E$14))),(IF(((F49-G49)/(((VLOOKUP(B49,'Growth Rates'!$B$11:$O$140,($B$1+2),FALSE)))+0.001-(((I$7/VLOOKUP(B49,'Paddock Names'!$B$11:$D$140,3))))))*-1>0,ROUNDDOWN(((F49-G49)/(((VLOOKUP(B49,'Growth Rates'!$B$11:$O$140,($B$1+2),FALSE)))-(((I$7/VLOOKUP(B49,'Paddock Names'!$B$11:$D$140,3))))))*-1,0),VALUE(CONCATENATE("01/",$B$1+1,"/",'Group Name and Year'!$E$14))-VALUE(CONCATENATE("01/",$B$1,"/",'Group Name and Year'!$E$14))))) -> #DIV/0! | E49: =IF(SUM(I49:AM49)>0,SUM(I49:AM49)," ") | G49: =VLOOKUP(B49,'Herbage Mass Residual'!$B$11:$O$140,($B$1+2),FALSE) -> 2200 | H49: =($F$7/VLOOKUP(B49,'Paddock Names'!$B$11:$D$140,3))*(SUM(I49:AM49)/31) -> #DIV/0!
B50: =B49+0.5 -> 20.5 | I50: =F49+(VLOOKUP(B49,'Growth Rates'!$B$11:$O$140,($B$1+2),FALSE))-(I49*(I$7/VLOOKUP(B49,'Paddock Names'!$B$11:$D$140,3))) -> #DIV/0! | J50: =I50+(VLOOKUP($B49,'Growth Rates'!$B$11:$O$140,($B$1+2),FALSE))-(J49*(J$7/VLOOKUP($B49,'Paddock Names'!$B$11:$D$140,3))) -> #DIV/0! | K50: =J50+(VLOOKUP($B49,'Growth Rates'!$B$11:$O$140,($B$1+2),FALSE))-(K49*(K$7/VLOOKUP($B49,'Paddock Names'!$B$11:$D$140,3))) -> #DIV/0! | L50: =K50+(VLOOKUP($B49,'Growth Rates'!$B$11:$O$140,($B$1+2),FALSE))-(L49*(L$7/VLOOKUP($B49,'Paddock Names'!$B$11:$D$140,3))) -> #DIV/0! | M50: =L50+(VLOOKUP($B49,'Growth Rates'!$B$11:$O$140,($B$1+2),FALSE))-(M49*(M$7/VLOOKUP($B49,'Paddock Names'!$B$11:$D$140,3))) -> #DIV/0! | N50: =M50+(VLOOKUP($B49,'Growth Rates'!$B$11:$O$140,($B$1+2),FALSE))-(N49*(N$7/VLOOKUP($B49,'Paddock Names'!$B$11:$D$140,3))) -> #DIV/0! | O50: =N50+(VLOOKUP($B49,'Growth Rates'!$B$11:$O$140,($B$1+2),FALSE))-(O49*(O$7/VLOOKUP($B49,'Paddock Names'!$B$11:$D$140,3))) -> #DIV/0! | P50: =O50+(VLOOKUP($B49,'Growth Rates'!$B$11:$O$140,($B$1+2),FALSE))-(P49*(P$7/VLOOKUP($B49,'Paddock Names'!$B$11:$D$140,3))) -> #DIV/0! | Q50: =P50+(VLOOKUP($B49,'Growth Rates'!$B$11:$O$140,($B$1+2),FALSE))-(Q49*(Q$7/VLOOKUP($B49,'Paddock Names'!$B$11:$D$140,3))) -> #DIV/0! | ... AM50: =AL50+(VLOOKUP($B49,'Growth Rates'!$B$11:$O$140,($B$1+2),FALSE))-(AM49*(AM$7/VLOOKUP($B49,'Paddock Names'!$B$11:$D$140,3))) -> #DIV/0!
B51: =B50+0.5 -> 21 | C51: =IF(VLOOKUP(B51,'Paddock Names'!$B$11:$C$140,2)>0,VLOOKUP(B51,'Paddock Names'!$B$11:$C$140,2),"") | D51: =IF(((F51-G51)/(((VLOOKUP(B51,'Growth Rates'!$B$11:$O$140,($B$1+2),FALSE)))+0.001-(((I$7/VLOOKUP(B51,'Paddock Names'!$B$11:$D$140,3))))))*-1>(VALUE(CONCATENATE("01/",$B$1+1,"/",'Group Name and Year'!$E$14))-VALUE(CONCATENATE("01/",$B$1,"/",'Group Name and Year'!$E$14))),(VALUE(CONCATENATE("01/",$B$1+1,"/",'Group Name and Year'!$E$14))-VALUE(CONCATENATE("01/",$B$1,"/",'Group Name and Year'!$E$14))),(IF(((F51-G51)/(((VLOOKUP(B51,'Growth Rates'!$B$11:$O$140,($B$1+2),FALSE)))+0.001-(((I$7/VLOOKUP(B51,'Paddock Names'!$B$11:$D$140,3))))))*-1>0,ROUNDDOWN(((F51-G51)/(((VLOOKUP(B51,'Growth Rates'!$B$11:$O$140,($B$1+2),FALSE)))-(((I$7/VLOOKUP(B51,'Paddock Names'!$B$11:$D$140,3))))))*-1,0),VALUE(CONCATENATE("01/",$B$1+1,"/",'Group Name and Year'!$E$14))-VALUE(CONCATENATE("01/",$B$1,"/",'Group Name and Year'!$E$14))))) -> #DIV/0! | E51: =IF(SUM(I51:AM51)>0,SUM(I51:AM51)," ") | G51: =VLOOKUP(B51,'Herbage Mass Residual'!$B$11:$O$140,($B$1+2),FALSE) -> 2200 | H51: =($F$7/VLOOKUP(B51,'Paddock Names'!$B$11:$D$140,3))*(SUM(I51:AM51)/31) -> #DIV/0!
B52: =B51+0.5 -> 21.5 | I52: =F51+(VLOOKUP(B51,'Growth Rates'!$B$11:$O$140,($B$1+2),FALSE))-(I51*(I$7/VLOOKUP(B51,'Paddock Names'!$B$11:$D$140,3))) -> #DIV/0! | J52: =I52+(VLOOKUP($B51,'Growth Rates'!$B$11:$O$140,($B$1+2),FALSE))-(J51*(J$7/VLOOKUP($B51,'Paddock Names'!$B$11:$D$140,3))) -> #DIV/0! | K52: =J52+(VLOOKUP($B51,'Growth Rates'!$B$11:$O$140,($B$1+2),FALSE))-(K51*(K$7/VLOOKUP($B51,'Paddock Names'!$B$11:$D$140,3))) -> #DIV/0! | L52: =K52+(VLOOKUP($B51,'Growth Rates'!$B$11:$O$140,($B$1+2),FALSE))-(L51*(L$7/VLOOKUP($B51,'Paddock Names'!$B$11:$D$140,3))) -> #DIV/0! | M52: =L52+(VLOOKUP($B51,'Growth Rates'!$B$11:$O$140,($B$1+2),FALSE))-(M51*(M$7/VLOOKUP($B51,'Paddock Names'!$B$11:$D$140,3))) -> #DIV/0! | N52: =M52+(VLOOKUP($B51,'Growth Rates'!$B$11:$O$140,($B$1+2),FALSE))-(N51*(N$7/VLOOKUP($B51,'Paddock Names'!$B$11:$D$140,3))) -> #DIV/0! | O52: =N52+(VLOOKUP($B51,'Growth Rates'!$B$11:$O$140,($B$1+2),FALSE))-(O51*(O$7/VLOOKUP($B51,'Paddock Names'!$B$11:$D$140,3))) -> #DIV/0! | P52: =O52+(VLOOKUP($B51,'Growth Rates'!$B$11:$O$140,($B$1+2),FALSE))-(P51*(P$7/VLOOKUP($B51,'Paddock Names'!$B$11:$D$140,3))) -> #DIV/0! | Q52: =P52+(VLOOKUP($B51,'Growth Rates'!$B$11:$O$140,($B$1+2),FALSE))-(Q51*(Q$7/VLOOKUP($B51,'Paddock Names'!$B$11:$D$140,3))) -> #DIV/0! | ... AM52: =AL52+(VLOOKUP($B51,'Growth Rates'!$B$11:$O$140,($B$1+2),FALSE))-(AM51*(AM$7/VLOOKUP($B51,'Paddock Names'!$B$11:$D$140,3))) -> #DIV/0!
B53: =B52+0.5 -> 22 | C53: =IF(VLOOKUP(B53,'Paddock Names'!$B$11:$C$140,2)>0,VLOOKUP(B53,'Paddock Names'!$B$11:$C$140,2),"") | D53: =IF(((F53-G53)/(((VLOOKUP(B53,'Growth Rates'!$B$11:$O$140,($B$1+2),FALSE)))+0.001-(((I$7/VLOOKUP(B53,'Paddock Names'!$B$11:$D$140,3))))))*-1>(VALUE(CONCATENATE("01/",$B$1+1,"/",'Group Name and Year'!$E$14))-VALUE(CONCATENATE("01/",$B$1,"/",'Group Name and Year'!$E$14))),(VALUE(CONCATENATE("01/",$B$1+1,"/",'Group Name and Year'!$E$14))-VALUE(CONCATENATE("01/",$B$1,"/",'Group Name and Year'!$E$14))),(IF(((F53-G53)/(((VLOOKUP(B53,'Growth Rates'!$B$11:$O$140,($B$1+2),FALSE)))+0.001-(((I$7/VLOOKUP(B53,'Paddock Names'!$B$11:$D$140,3))))))*-1>0,ROUNDDOWN(((F53-G53)/(((VLOOKUP(B53,'Growth Rates'!$B$11:$O$140,($B$1+2),FALSE)))-(((I$7/VLOOKUP(B53,'Paddock Names'!$B$11:$D$140,3))))))*-1,0),VALUE(CONCATENATE("01/",$B$1+1,"/",'Group Name and Year'!$E$14))-VALUE(CONCATENATE("01/",$B$1,"/",'Group Name and Year'!$E$14))))) -> #DIV/0! | E53: =IF(SUM(I53:AM53)>0,SUM(I53:AM53)," ") | G53: =VLOOKUP(B53,'Herbage Mass Residual'!$B$11:$O$140,($B$1+2),FALSE) -> 2200 | H53: =($F$7/VLOOKUP(B53,'Paddock Names'!$B$11:$D$140,3))*(SUM(I53:AM53)/31) -> #DIV/0!
B54: =B53+0.5 -> 22.5 | I54: =F53+(VLOOKUP(B53,'Growth Rates'!$B$11:$O$140,($B$1+2),FALSE))-(I53*(I$7/VLOOKUP(B53,'Paddock Names'!$B$11:$D$140,3))) -> #DIV/0! | J54: =I54+(VLOOKUP($B53,'Growth Rates'!$B$11:$O$140,($B$1+2),FALSE))-(J53*(J$7/VLOOKUP($B53,'Paddock Names'!$B$11:$D$140,3))) -> #DIV/0! | K54: =J54+(VLOOKUP($B53,'Growth Rates'!$B$11:$O$140,($B$1+2),FALSE))-(K53*(K$7/VLOOKUP($B53,'Paddock Names'!$B$11:$D$140,3))) -> #DIV/0! | L54: =K54+(VLOOKUP($B53,'Growth Rates'!$B$11:$O$140,($B$1+2),FALSE))-(L53*(L$7/VLOOKUP($B53,'Paddock Names'!$B$11:$D$140,3))) -> #DIV/0! | M54: =L54+(VLOOKUP($B53,'Growth Rates'!$B$11:$O$140,($B$1+2),FALSE))-(M53*(M$7/VLOOKUP($B53,'Paddock Names'!$B$11:$D$140,3))) -> #DIV/0! | N54: =M54+(VLOOKUP($B53,'Growth Rates'!$B$11:$O$140,($B$1+2),FALSE))-(N53*(N$7/VLOOKUP($B53,'Paddock Names'!$B$11:$D$140,3))) -> #DIV/0! | O54: =N54+(VLOOKUP($B53,'Growth Rates'!$B$11:$O$140,($B$1+2),FALSE))-(O53*(O$7/VLOOKUP($B53,'Paddock Names'!$B$11:$D$140,3))) -> #DIV/0! | P54: =O54+(VLOOKUP($B53,'Growth Rates'!$B$11:$O$140,($B$1+2),FALSE))-(P53*(P$7/VLOOKUP($B53,'Paddock Names'!$B$11:$D$140,3))) -> #DIV/0! | Q54: =P54+(VLOOKUP($B53,'Growth Rates'!$B$11:$O$140,($B$1+2),FALSE))-(Q53*(Q$7/VLOOKUP($B53,'Paddock Names'!$B$11:$D$140,3))) -> #DIV/0! | ... AM54: =AL54+(VLOOKUP($B53,'Growth Rates'!$B$11:$O$140,($B$1+2),FALSE))-(AM53*(AM$7/VLOOKUP($B53,'Paddock Names'!$B$11:$D$140,3))) -> #DIV/0!
B55: =B54+0.5 -> 23 | C55: =IF(VLOOKUP(B55,'Paddock Names'!$B$11:$C$140,2)>0,VLOOKUP(B55,'Paddock Names'!$B$11:$C$140,2),"") | D55: =IF(((F55-G55)/(((VLOOKUP(B55,'Growth Rates'!$B$11:$O$140,($B$1+2),FALSE)))+0.001-(((I$7/VLOOKUP(B55,'Paddock Names'!$B$11:$D$140,3))))))*-1>(VALUE(CONCATENATE("01/",$B$1+1,"/",'Group Name and Year'!$E$14))-VALUE(CONCATENATE("01/",$B$1,"/",'Group Name and Year'!$E$14))),(VALUE(CONCATENATE("01/",$B$1+1,"/",'Group Name and Year'!$E$14))-VALUE(CONCATENATE("01/",$B$1,"/",'Group Name and Year'!$E$14))),(IF(((F55-G55)/(((VLOOKUP(B55,'Growth Rates'!$B$11:$O$140,($B$1+2),FALSE)))+0.001-(((I$7/VLOOKUP(B55,'Paddock Names'!$B$11:$D$140,3))))))*-1>0,ROUNDDOWN(((F55-G55)/(((VLOOKUP(B55,'Growth Rates'!$B$11:$O$140,($B$1+2),FALSE)))-(((I$7/VLOOKUP(B55,'Paddock Names'!$B$11:$D$140,3))))))*-1,0),VALUE(CONCATENATE("01/",$B$1+1,"/",'Group Name and Year'!$E$14))-VALUE(CONCATENATE("01/",$B$1,"/",'Group Name and Year'!$E$14))))) -> #DIV/0! | E55: =IF(SUM(I55:AM55)>0,SUM(I55:AM55)," ") | G55: =VLOOKUP(B55,'Herbage Mass Residual'!$B$11:$O$140,($B$1+2),FALSE) -> 2200 | H55: =($F$7/VLOOKUP(B55,'Paddock Names'!$B$11:$D$140,3))*(SUM(I55:AM55)/31) -> #DIV/0!
B56: =B55+0.5 -> 23.5 | I56: =F55+(VLOOKUP(B55,'Growth Rates'!$B$11:$O$140,($B$1+2),FALSE))-(I55*(I$7/VLOOKUP(B55,'Paddock Names'!$B$11:$D$140,3))) -> #DIV/0! | J56: =I56+(VLOOKUP($B55,'Growth Rates'!$B$11:$O$140,($B$1+2),FALSE))-(J55*(J$7/VLOOKUP($B55,'Paddock Names'!$B$11:$D$140,3))) -> #DIV/0! | K56: =J56+(VLOOKUP($B55,'Growth Rates'!$B$11:$O$140,($B$1+2),FALSE))-(K55*(K$7/VLOOKUP($B55,'Paddock Names'!$B$11:$D$140,3))) -> #DIV/0! | L56: =K56+(VLOOKUP($B55,'Growth Rates'!$B$11:$O$140,($B$1+2),FALSE))-(L55*(L$7/VLOOKUP($B55,'Paddock Names'!$B$11:$D$140,3))) -> #DIV/0! | M56: =L56+(VLOOKUP($B55,'Growth Rates'!$B$11:$O$140,($B$1+2),FALSE))-(M55*(M$7/VLOOKUP($B55,'Paddock Names'!$B$11:$D$140,3))) -> #DIV/0! | N56: =M56+(VLOOKUP($B55,'Growth Rates'!$B$11:$O$140,($B$1+2),FALSE))-(N55*(N$7/VLOOKUP($B55,'Paddock Names'!$B$11:$D$140,3))) -> #DIV/0! | O56: =N56+(VLOOKUP($B55,'Growth Rates'!$B$11:$O$140,($B$1+2),FALSE))-(O55*(O$7/VLOOKUP($B55,'Paddock Names'!$B$11:$D$140,3))) -> #DIV/0! | P56: =O56+(VLOOKUP($B55,'Growth Rates'!$B$11:$O$140,($B$1+2),FALSE))-(P55*(P$7/VLOOKUP($B55,'Paddock Names'!$B$11:$D$140,3))) -> #DIV/0! | Q56: =P56+(VLOOKUP($B55,'Growth Rates'!$B$11:$O$140,($B$1+2),FALSE))-(Q55*(Q$7/VLOOKUP($B55,'Paddock Names'!$B$11:$D$140,3))) -> #DIV/0! | ... AM56: =AL56+(VLOOKUP($B55,'Growth Rates'!$B$11:$O$140,($B$1+2),FALSE))-(AM55*(AM$7/VLOOKUP($B55,'Paddock Names'!$B$11:$D$140,3))) -> #DIV/0!
B57: =B56+0.5 -> 24 | C57: =IF(VLOOKUP(B57,'Paddock Names'!$B$11:$C$140,2)>0,VLOOKUP(B57,'Paddock Names'!$B$11:$C$140,2),"") | D57: =IF(((F57-G57)/(((VLOOKUP(B57,'Growth Rates'!$B$11:$O$140,($B$1+2),FALSE)))+0.001-(((I$7/VLOOKUP(B57,'Paddock Names'!$B$11:$D$140,3))))))*-1>(VALUE(CONCATENATE("01/",$B$1+1,"/",'Group Name and Year'!$E$14))-VALUE(CONCATENATE("01/",$B$1,"/",'Group Name and Year'!$E$14))),(VALUE(CONCATENATE("01/",$B$1+1,"/",'Group Name and Year'!$E$14))-VALUE(CONCATENATE("01/",$B$1,"/",'Group Name and Year'!$E$14))),(IF(((F57-G57)/(((VLOOKUP(B57,'Growth Rates'!$B$11:$O$140,($B$1+2),FALSE)))+0.001-(((I$7/VLOOKUP(B57,'Paddock Names'!$B$11:$D$140,3))))))*-1>0,ROUNDDOWN(((F57-G57)/(((VLOOKUP(B57,'Growth Rates'!$B$11:$O$140,($B$1+2),FALSE)))-(((I$7/VLOOKUP(B57,'Paddock Names'!$B$11:$D$140,3))))))*-1,0),VALUE(CONCATENATE("01/",$B$1+1,"/",'Group Name and Year'!$E$14))-VALUE(CONCATENATE("01/",$B$1,"/",'Group Name and Year'!$E$14))))) -> #DIV/0! | E57: =IF(SUM(I57:AM57)>0,SUM(I57:AM57)," ") | G57: =VLOOKUP(B57,'Herbage Mass Residual'!$B$11:$O$140,($B$1+2),FALSE) -> 2200 | H57: =($F$7/VLOOKUP(B57,'Paddock Names'!$B$11:$D$140,3))*(SUM(I57:AM57)/31) -> #DIV/0!
B58: =B57+0.5 -> 24.5 | I58: =F57+(VLOOKUP(B57,'Growth Rates'!$B$11:$O$140,($B$1+2),FALSE))-(I57*(I$7/VLOOKUP(B57,'Paddock Names'!$B$11:$D$140,3))) -> #DIV/0! | J58: =I58+(VLOOKUP($B57,'Growth Rates'!$B$11:$O$140,($B$1+2),FALSE))-(J57*(J$7/VLOOKUP($B57,'Paddock Names'!$B$11:$D$140,3))) -> #DIV/0! | K58: =J58+(VLOOKUP($B57,'Growth Rates'!$B$11:$O$140,($B$1+2),FALSE))-(K57*(K$7/VLOOKUP($B57,'Paddock Names'!$B$11:$D$140,3))) -> #DIV/0! | L58: =K58+(VLOOKUP($B57,'Growth Rates'!$B$11:$O$140,($B$1+2),FALSE))-(L57*(L$7/VLOOKUP($B57,'Paddock Names'!$B$11:$D$140,3))) -> #DIV/0! | M58: =L58+(VLOOKUP($B57,'Growth Rates'!$B$11:$O$140,($B$1+2),FALSE))-(M57*(M$7/VLOOKUP($B57,'Paddock Names'!$B$11:$D$140,3))) -> #DIV/0! | N58: =M58+(VLOOKUP($B57,'Growth Rates'!$B$11:$O$140,($B$1+2),FALSE))-(N57*(N$7/VLOOKUP($B57,'Paddock Names'!$B$11:$D$140,3))) -> #DIV/0! | O58: =N58+(VLOOKUP($B57,'Growth Rates'!$B$11:$O$140,($B$1+2),FALSE))-(O57*(O$7/VLOOKUP($B57,'Paddock Names'!$B$11:$D$140,3))) -> #DIV/0! | P58: =O58+(VLOOKUP($B57,'Growth Rates'!$B$11:$O$140,($B$1+2),FALSE))-(P57*(P$7/VLOOKUP($B57,'Paddock Names'!$B$11:$D$140,3))) -> #DIV/0! | Q58: =P58+(VLOOKUP($B57,'Growth Rates'!$B$11:$O$140,($B$1+2),FALSE))-(Q57*(Q$7/VLOOKUP($B57,'Paddock Names'!$B$11:$D$140,3))) -> #DIV/0! | ... AM58: =AL58+(VLOOKUP($B57,'Growth Rates'!$B$11:$O$140,($B$1+2),FALSE))-(AM57*(AM$7/VLOOKUP($B57,'Paddock Names'!$B$11:$D$140,3))) -> #DIV/0!
B59: =B58+0.5 -> 25 | C59: =IF(VLOOKUP(B59,'Paddock Names'!$B$11:$C$140,2)>0,VLOOKUP(B59,'Paddock Names'!$B$11:$C$140,2),"") | D59: =IF(((F59-G59)/(((VLOOKUP(B59,'Growth Rates'!$B$11:$O$140,($B$1+2),FALSE)))+0.001-(((I$7/VLOOKUP(B59,'Paddock Names'!$B$11:$D$140,3))))))*-1>(VALUE(CONCATENATE("01/",$B$1+1,"/",'Group Name and Year'!$E$14))-VALUE(CONCATENATE("01/",$B$1,"/",'Group Name and Year'!$E$14))),(VALUE(CONCATENATE("01/",$B$1+1,"/",'Group Name and Year'!$E$14))-VALUE(CONCATENATE("01/",$B$1,"/",'Group Name and Year'!$E$14))),(IF(((F59-G59)/(((VLOOKUP(B59,'Growth Rates'!$B$11:$O$140,($B$1+2),FALSE)))+0.001-(((I$7/VLOOKUP(B59,'Paddock Names'!$B$11:$D$140,3))))))*-1>0,ROUNDDOWN(((F59-G59)/(((VLOOKUP(B59,'Growth Rates'!$B$11:$O$140,($B$1+2),FALSE)))-(((I$7/VLOOKUP(B59,'Paddock Names'!$B$11:$D$140,3))))))*-1,0),VALUE(CONCATENATE("01/",$B$1+1,"/",'Group Name and Year'!$E$14))-VALUE(CONCATENATE("01/",$B$1,"/",'Group Name and Year'!$E$14))))) -> #DIV/0! | E59: =IF(SUM(I59:AM59)>0,SUM(I59:AM59)," ") | G59: =VLOOKUP(B59,'Herbage Mass Residual'!$B$11:$O$140,($B$1+2),FALSE) -> 2200 | H59: =($F$7/VLOOKUP(B59,'Paddock Names'!$B$11:$D$140,3))*(SUM(I59:AM59)/31) -> #DIV/0!
B60: =B59+0.5 -> 25.5 | I60: =F59+(VLOOKUP(B59,'Growth Rates'!$B$11:$O$140,($B$1+2),FALSE))-(I59*(I$7/VLOOKUP(B59,'Paddock Names'!$B$11:$D$140,3))) -> #DIV/0! | J60: =I60+(VLOOKUP($B59,'Growth Rates'!$B$11:$O$140,($B$1+2),FALSE))-(J59*(J$7/VLOOKUP($B59,'Paddock Names'!$B$11:$D$140,3))) -> #DIV/0! | K60: =J60+(VLOOKUP($B59,'Growth Rates'!$B$11:$O$140,($B$1+2),FALSE))-(K59*(K$7/VLOOKUP($B59,'Paddock Names'!$B$11:$D$140,3))) -> #DIV/0! | L60: =K60+(VLOOKUP($B59,'Growth Rates'!$B$11:$O$140,($B$1+2),FALSE))-(L59*(L$7/VLOOKUP($B59,'Paddock Names'!$B$11:$D$140,3))) -> #DIV/0! | M60: =L60+(VLOOKUP($B59,'Growth Rates'!$B$11:$O$140,($B$1+2),FALSE))-(M59*(M$7/VLOOKUP($B59,'Paddock Names'!$B$11:$D$140,3))) -> #DIV/0! | N60: =M60+(VLOOKUP($B59,'Growth Rates'!$B$11:$O$140,($B$1+2),FALSE))-(N59*(N$7/VLOOKUP($B59,'Paddock Names'!$B$11:$D$140,3))) -> #DIV/0! | O60: =N60+(VLOOKUP($B59,'Growth Rates'!$B$11:$O$140,($B$1+2),FALSE))-(O59*(O$7/VLOOKUP($B59,'Paddock Names'!$B$11:$D$140,3))) -> #DIV/0! | P60: =O60+(VLOOKUP($B59,'Growth Rates'!$B$11:$O$140,($B$1+2),FALSE))-(P59*(P$7/VLOOKUP($B59,'Paddock Names'!$B$11:$D$140,3))) -> #DIV/0! | Q60: =P60+(VLOOKUP($B59,'Growth Rates'!$B$11:$O$140,($B$1+2),FALSE))-(Q59*(Q$7/VLOOKUP($B59,'Paddock Names'!$B$11:$D$140,3))) -> #DIV/0! | ... AM60: =AL60+(VLOOKUP($B59,'Growth Rates'!$B$11:$O$140,($B$1+2),FALSE))-(AM59*(AM$7/VLOOKUP($B59,'Paddock Names'!$B$11:$D$140,3))) -> #DIV/0!
B61: =B60+0.5 -> 26 | C61: =IF(VLOOKUP(B61,'Paddock Names'!$B$11:$C$140,2)>0,VLOOKUP(B61,'Paddock Names'!$B$11:$C$140,2),"") | D61: =IF(((F61-G61)/(((VLOOKUP(B61,'Growth Rates'!$B$11:$O$140,($B$1+2),FALSE)))+0.001-(((I$7/VLOOKUP(B61,'Paddock Names'!$B$11:$D$140,3))))))*-1>(VALUE(CONCATENATE("01/",$B$1+1,"/",'Group Name and Year'!$E$14))-VALUE(CONCATENATE("01/",$B$1,"/",'Group Name and Year'!$E$14))),(VALUE(CONCATENATE("01/",$B$1+1,"/",'Group Name and Year'!$E$14))-VALUE(CONCATENATE("01/",$B$1,"/",'Group Name and Year'!$E$14))),(IF(((F61-G61)/(((VLOOKUP(B61,'Growth Rates'!$B$11:$O$140,($B$1+2),FALSE)))+0.001-(((I$7/VLOOKUP(B61,'Paddock Names'!$B$11:$D$140,3))))))*-1>0,ROUNDDOWN(((F61-G61)/(((VLOOKUP(B61,'Growth Rates'!$B$11:$O$140,($B$1+2),FALSE)))-(((I$7/VLOOKUP(B61,'Paddock Names'!$B$11:$D$140,3))))))*-1,0),VALUE(CONCATENATE("01/",$B$1+1,"/",'Group Name and Year'!$E$14))-VALUE(CONCATENATE("01/",$B$1,"/",'Group Name and Year'!$E$14))))) -> #DIV/0! | E61: =IF(SUM(I61:AM61)>0,SUM(I61:AM61)," ") | G61: =VLOOKUP(B61,'Herbage Mass Residual'!$B$11:$O$140,($B$1+2),FALSE) -> 2200 | H61: =($F$7/VLOOKUP(B61,'Paddock Names'!$B$11:$D$140,3))*(SUM(I61:AM61)/31) -> #DIV/0!
B62: =B61+0.5 -> 26.5 | I62: =F61+(VLOOKUP(B61,'Growth Rates'!$B$11:$O$140,($B$1+2),FALSE))-(I61*(I$7/VLOOKUP(B61,'Paddock Names'!$B$11:$D$140,3))) -> #DIV/0! | J62: =I62+(VLOOKUP($B61,'Growth Rates'!$B$11:$O$140,($B$1+2),FALSE))-(J61*(J$7/VLOOKUP($B61,'Paddock Names'!$B$11:$D$140,3))) -> #DIV/0! | K62: =J62+(VLOOKUP($B61,'Growth Rates'!$B$11:$O$140,($B$1+2),FALSE))-(K61*(K$7/VLOOKUP($B61,'Paddock Names'!$B$11:$D$140,3))) -> #DIV/0! | L62: =K62+(VLOOKUP($B61,'Growth Rates'!$B$11:$O$140,($B$1+2),FALSE))-(L61*(L$7/VLOOKUP($B61,'Paddock Names'!$B$11:$D$140,3))) -> #DIV/0! | M62: =L62+(VLOOKUP($B61,'Growth Rates'!$B$11:$O$140,($B$1+2),FALSE))-(M61*(M$7/VLOOKUP($B61,'Paddock Names'!$B$11:$D$140,3))) -> #DIV/0! | N62: =M62+(VLOOKUP($B61,'Growth Rates'!$B$11:$O$140,($B$1+2),FALSE))-(N61*(N$7/VLOOKUP($B61,'Paddock Names'!$B$11:$D$140,3))) -> #DIV/0! | O62: =N62+(VLOOKUP($B61,'Growth Rates'!$B$11:$O$140,($B$1+2),FALSE))-(O61*(O$7/VLOOKUP($B61,'Paddock Names'!$B$11:$D$140,3))) -> #DIV/0! | P62: =O62+(VLOOKUP($B61,'Growth Rates'!$B$11:$O$140,($B$1+2),FALSE))-(P61*(P$7/VLOOKUP($B61,'Paddock Names'!$B$11:$D$140,3))) -> #DIV/0! | Q62: =P62+(VLOOKUP($B61,'Growth Rates'!$B$11:$O$140,($B$1+2),FALSE))-(Q61*(Q$7/VLOOKUP($B61,'Paddock Names'!$B$11:$D$140,3))) -> #DIV/0! | ... AM62: =AL62+(VLOOKUP($B61,'Growth Rates'!$B$11:$O$140,($B$1+2),FALSE))-(AM61*(AM$7/VLOOKUP($B61,'Paddock Names'!$B$11:$D$140,3))) -> #DIV/0!
B63: =B62+0.5 -> 27 | C63: =IF(VLOOKUP(B63,'Paddock Names'!$B$11:$C$140,2)>0,VLOOKUP(B63,'Paddock Names'!$B$11:$C$140,2),"") | D63: =IF(((F63-G63)/(((VLOOKUP(B63,'Growth Rates'!$B$11:$O$140,($B$1+2),FALSE)))+0.001-(((I$7/VLOOKUP(B63,'Paddock Names'!$B$11:$D$140,3))))))*-1>(VALUE(CONCATENATE("01/",$B$1+1,"/",'Group Name and Year'!$E$14))-VALUE(CONCATENATE("01/",$B$1,"/",'Group Name and Year'!$E$14))),(VALUE(CONCATENATE("01/",$B$1+1,"/",'Group Name and Year'!$E$14))-VALUE(CONCATENATE("01/",$B$1,"/",'Group Name and Year'!$E$14))),(IF(((F63-G63)/(((VLOOKUP(B63,'Growth Rates'!$B$11:$O$140,($B$1+2),FALSE)))+0.001-(((I$7/VLOOKUP(B63,'Paddock Names'!$B$11:$D$140,3))))))*-1>0,ROUNDDOWN(((F63-G63)/(((VLOOKUP(B63,'Growth Rates'!$B$11:$O$140,($B$1+2),FALSE)))-(((I$7/VLOOKUP(B63,'Paddock Names'!$B$11:$D$140,3))))))*-1,0),VALUE(CONCATENATE("01/",$B$1+1,"/",'Group Name and Year'!$E$14))-VALUE(CONCATENATE("01/",$B$1,"/",'Group Name and Year'!$E$14))))) -> #DIV/0! | E63: =IF(SUM(I63:AM63)>0,SUM(I63:AM63)," ") | G63: =VLOOKUP(B63,'Herbage Mass Residual'!$B$11:$O$140,($B$1+2),FALSE) -> 2200 | H63: =($F$7/VLOOKUP(B63,'Paddock Names'!$B$11:$D$140,3))*(SUM(I63:AM63)/31) -> #DIV/0!
B64: =B63+0.5 -> 27.5 | I64: =F63+(VLOOKUP(B63,'Growth Rates'!$B$11:$O$140,($B$1+2),FALSE))-(I63*(I$7/VLOOKUP(B63,'Paddock Names'!$B$11:$D$140,3))) -> #DIV/0! | J64: =I64+(VLOOKUP($B63,'Growth Rates'!$B$11:$O$140,($B$1+2),FALSE))-(J63*(J$7/VLOOKUP($B63,'Paddock Names'!$B$11:$D$140,3))) -> #DIV/0! | K64: =J64+(VLOOKUP($B63,'Growth Rates'!$B$11:$O$140,($B$1+2),FALSE))-(K63*(K$7/VLOOKUP($B63,'Paddock Names'!$B$11:$D$140,3))) -> #DIV/0! | L64: =K64+(VLOOKUP($B63,'Growth Rates'!$B$11:$O$140,($B$1+2),FALSE))-(L63*(L$7/VLOOKUP($B63,'Paddock Names'!$B$11:$D$140,3))) -> #DIV/0! | M64: =L64+(VLOOKUP($B63,'Growth Rates'!$B$11:$O$140,($B$1+2),FALSE))-(M63*(M$7/VLOOKUP($B63,'Paddock Names'!$B$11:$D$140,3))) -> #DIV/0! | N64: =M64+(VLOOKUP($B63,'Growth Rates'!$B$11:$O$140,($B$1+2),FALSE))-(N63*(N$7/VLOOKUP($B63,'Paddock Names'!$B$11:$D$140,3))) -> #DIV/0! | O64: =N64+(VLOOKUP($B63,'Growth Rates'!$B$11:$O$140,($B$1+2),FALSE))-(O63*(O$7/VLOOKUP($B63,'Paddock Names'!$B$11:$D$140,3))) -> #DIV/0! | P64: =O64+(VLOOKUP($B63,'Growth Rates'!$B$11:$O$140,($B$1+2),FALSE))-(P63*(P$7/VLOOKUP($B63,'Paddock Names'!$B$11:$D$140,3))) -> #DIV/0! | Q64: =P64+(VLOOKUP($B63,'Growth Rates'!$B$11:$O$140,($B$1+2),FALSE))-(Q63*(Q$7/VLOOKUP($B63,'Paddock Names'!$B$11:$D$140,3))) -> #DIV/0! | ... AM64: =AL64+(VLOOKUP($B63,'Growth Rates'!$B$11:$O$140,($B$1+2),FALSE))-(AM63*(AM$7/VLOOKUP($B63,'Paddock Names'!$B$11:$D$140,3))) -> #DIV/0!
B65: =B64+0.5 -> 28 | C65: =IF(VLOOKUP(B65,'Paddock Names'!$B$11:$C$140,2)>0,VLOOKUP(B65,'Paddock Names'!$B$11:$C$140,2),"") | D65: =IF(((F65-G65)/(((VLOOKUP(B65,'Growth Rates'!$B$11:$O$140,($B$1+2),FALSE)))+0.001-(((I$7/VLOOKUP(B65,'Paddock Names'!$B$11:$D$140,3))))))*-1>(VALUE(CONCATENATE("01/",$B$1+1,"/",'Group Name and Year'!$E$14))-VALUE(CONCATENATE("01/",$B$1,"/",'Group Name and Year'!$E$14))),(VALUE(CONCATENATE("01/",$B$1+1,"/",'Group Name and Year'!$E$14))-VALUE(CONCATENATE("01/",$B$1,"/",'Group Name and Year'!$E$14))),(IF(((F65-G65)/(((VLOOKUP(B65,'Growth Rates'!$B$11:$O$140,($B$1+2),FALSE)))+0.001-(((I$7/VLOOKUP(B65,'Paddock Names'!$B$11:$D$140,3))))))*-1>0,ROUNDDOWN(((F65-G65)/(((VLOOKUP(B65,'Growth Rates'!$B$11:$O$140,($B$1+2),FALSE)))-(((I$7/VLOOKUP(B65,'Paddock Names'!$B$11:$D$140,3))))))*-1,0),VALUE(CONCATENATE("01/",$B$1+1,"/",'Group Name and Year'!$E$14))-VALUE(CONCATENATE("01/",$B$1,"/",'Group Name and Year'!$E$14))))) -> #DIV/0! | E65: =IF(SUM(I65:AM65)>0,SUM(I65:AM65)," ") | G65: =VLOOKUP(B65,'Herbage Mass Residual'!$B$11:$O$140,($B$1+2),FALSE) -> 2200 | H65: =($F$7/VLOOKUP(B65,'Paddock Names'!$B$11:$D$140,3))*(SUM(I65:AM65)/31) -> #DIV/0!
B66: =B65+0.5 -> 28.5 | I66: =F65+(VLOOKUP(B65,'Growth Rates'!$B$11:$O$140,($B$1+2),FALSE))-(I65*(I$7/VLOOKUP(B65,'Paddock Names'!$B$11:$D$140,3))) -> #DIV/0! | J66: =I66+(VLOOKUP($B65,'Growth Rates'!$B$11:$O$140,($B$1+2),FALSE))-(J65*(J$7/VLOOKUP($B65,'Paddock Names'!$B$11:$D$140,3))) -> #DIV/0! | K66: =J66+(VLOOKUP($B65,'Growth Rates'!$B$11:$O$140,($B$1+2),FALSE))-(K65*(K$7/VLOOKUP($B65,'Paddock Names'!$B$11:$D$140,3))) -> #DIV/0! | L66: =K66+(VLOOKUP($B65,'Growth Rates'!$B$11:$O$140,($B$1+2),FALSE))-(L65*(L$7/VLOOKUP($B65,'Paddock Names'!$B$11:$D$140,3))) -> #DIV/0! | M66: =L66+(VLOOKUP($B65,'Growth Rates'!$B$11:$O$140,($B$1+2),FALSE))-(M65*(M$7/VLOOKUP($B65,'Paddock Names'!$B$11:$D$140,3))) -> #DIV/0! | N66: =M66+(VLOOKUP($B65,'Growth Rates'!$B$11:$O$140,($B$1+2),FALSE))-(N65*(N$7/VLOOKUP($B65,'Paddock Names'!$B$11:$D$140,3))) -> #DIV/0! | O66: =N66+(VLOOKUP($B65,'Growth Rates'!$B$11:$O$140,($B$1+2),FALSE))-(O65*(O$7/VLOOKUP($B65,'Paddock Names'!$B$11:$D$140,3))) -> #DIV/0! | P66: =O66+(VLOOKUP($B65,'Growth Rates'!$B$11:$O$140,($B$1+2),FALSE))-(P65*(P$7/VLOOKUP($B65,'Paddock Names'!$B$11:$D$140,3))) -> #DIV/0! | Q66: =P66+(VLOOKUP($B65,'Growth Rates'!$B$11:$O$140,($B$1+2),FALSE))-(Q65*(Q$7/VLOOKUP($B65,'Paddock Names'!$B$11:$D$140,3))) -> #DIV/0! | ... AM66: =AL66+(VLOOKUP($B65,'Growth Rates'!$B$11:$O$140,($B$1+2),FALSE))-(AM65*(AM$7/VLOOKUP($B65,'Paddock Names'!$B$11:$D$140,3))) -> #DIV/0!
B67: =B66+0.5 -> 29 | C67: =IF(VLOOKUP(B67,'Paddock Names'!$B$11:$C$140,2)>0,VLOOKUP(B67,'Paddock Names'!$B$11:$C$140,2),"") | D67: =IF(((F67-G67)/(((VLOOKUP(B67,'Growth Rates'!$B$11:$O$140,($B$1+2),FALSE)))+0.001-(((I$7/VLOOKUP(B67,'Paddock Names'!$B$11:$D$140,3))))))*-1>(VALUE(CONCATENATE("01/",$B$1+1,"/",'Group Name and Year'!$E$14))-VALUE(CONCATENATE("01/",$B$1,"/",'Group Name and Year'!$E$14))),(VALUE(CONCATENATE("01/",$B$1+1,"/",'Group Name and Year'!$E$14))-VALUE(CONCATENATE("01/",$B$1,"/",'Group Name and Year'!$E$14))),(IF(((F67-G67)/(((VLOOKUP(B67,'Growth Rates'!$B$11:$O$140,($B$1+2),FALSE)))+0.001-(((I$7/VLOOKUP(B67,'Paddock Names'!$B$11:$D$140,3))))))*-1>0,ROUNDDOWN(((F67-G67)/(((VLOOKUP(B67,'Growth Rates'!$B$11:$O$140,($B$1+2),FALSE)))-(((I$7/VLOOKUP(B67,'Paddock Names'!$B$11:$D$140,3))))))*-1,0),VALUE(CONCATENATE("01/",$B$1+1,"/",'Group Name and Year'!$E$14))-VALUE(CONCATENATE("01/",$B$1,"/",'Group Name and Year'!$E$14))))) -> #DIV/0! | E67: =IF(SUM(I67:AM67)>0,SUM(I67:AM67)," ") | G67: =VLOOKUP(B67,'Herbage Mass Residual'!$B$11:$O$140,($B$1+2),FALSE) -> 2200 | H67: =($F$7/VLOOKUP(B67,'Paddock Names'!$B$11:$D$140,3))*(SUM(I67:AM67)/31) -> #DIV/0!
B68: =B67+0.5 -> 29.5 | I68: =F67+(VLOOKUP(B67,'Growth Rates'!$B$11:$O$140,($B$1+2),FALSE))-(I67*(I$7/VLOOKUP(B67,'Paddock Names'!$B$11:$D$140,3))) -> #DIV/0! | J68: =I68+(VLOOKUP($B67,'Growth Rates'!$B$11:$O$140,($B$1+2),FALSE))-(J67*(J$7/VLOOKUP($B67,'Paddock Names'!$B$11:$D$140,3))) -> #DIV/0! | K68: =J68+(VLOOKUP($B67,'Growth Rates'!$B$11:$O$140,($B$1+2),FALSE))-(K67*(K$7/VLOOKUP($B67,'Paddock Names'!$B$11:$D$140,3))) -> #DIV/0! | L68: =K68+(VLOOKUP($B67,'Growth Rates'!$B$11:$O$140,($B$1+2),FALSE))-(L67*(L$7/VLOOKUP($B67,'Paddock Names'!$B$11:$D$140,3))) -> #DIV/0! | M68: =L68+(VLOOKUP($B67,'Growth Rates'!$B$11:$O$140,($B$1+2),FALSE))-(M67*(M$7/VLOOKUP($B67,'Paddock Names'!$B$11:$D$140,3))) -> #DIV/0! | N68: =M68+(VLOOKUP($B67,'Growth Rates'!$B$11:$O$140,($B$1+2),FALSE))-(N67*(N$7/VLOOKUP($B67,'Paddock Names'!$B$11:$D$140,3))) -> #DIV/0! | O68: =N68+(VLOOKUP($B67,'Growth Rates'!$B$11:$O$140,($B$1+2),FALSE))-(O67*(O$7/VLOOKUP($B67,'Paddock Names'!$B$11:$D$140,3))) -> #DIV/0! | P68: =O68+(VLOOKUP($B67,'Growth Rates'!$B$11:$O$140,($B$1+2),FALSE))-(P67*(P$7/VLOOKUP($B67,'Paddock Names'!$B$11:$D$140,3))) -> #DIV/0! | Q68: =P68+(VLOOKUP($B67,'Growth Rates'!$B$11:$O$140,($B$1+2),FALSE))-(Q67*(Q$7/VLOOKUP($B67,'Paddock Names'!$B$11:$D$140,3))) -> #DIV/0! | ... AM68: =AL68+(VLOOKUP($B67,'Growth Rates'!$B$11:$O$140,($B$1+2),FALSE))-(AM67*(AM$7/VLOOKUP($B67,'Paddock Names'!$B$11:$D$140,3))) -> #DIV/0!
B69: =B68+0.5 -> 30 | C69: =IF(VLOOKUP(B69,'Paddock Names'!$B$11:$C$140,2)>0,VLOOKUP(B69,'Paddock Names'!$B$11:$C$140,2),"") | D69: =IF(((F69-G69)/(((VLOOKUP(B69,'Growth Rates'!$B$11:$O$140,($B$1+2),FALSE)))+0.001-(((I$7/VLOOKUP(B69,'Paddock Names'!$B$11:$D$140,3))))))*-1>(VALUE(CONCATENATE("01/",$B$1+1,"/",'Group Name and Year'!$E$14))-VALUE(CONCATENATE("01/",$B$1,"/",'Group Name and Year'!$E$14))),(VALUE(CONCATENATE("01/",$B$1+1,"/",'Group Name and Year'!$E$14))-VALUE(CONCATENATE("01/",$B$1,"/",'Group Name and Year'!$E$14))),(IF(((F69-G69)/(((VLOOKUP(B69,'Growth Rates'!$B$11:$O$140,($B$1+2),FALSE)))+0.001-(((I$7/VLOOKUP(B69,'Paddock Names'!$B$11:$D$140,3))))))*-1>0,ROUNDDOWN(((F69-G69)/(((VLOOKUP(B69,'Growth Rates'!$B$11:$O$140,($B$1+2),FALSE)))-(((I$7/VLOOKUP(B69,'Paddock Names'!$B$11:$D$140,3))))))*-1,0),VALUE(CONCATENATE("01/",$B$1+1,"/",'Group Name and Year'!$E$14))-VALUE(CONCATENATE("01/",$B$1,"/",'Group Name and Year'!$E$14))))) -> #DIV/0! | E69: =IF(SUM(I69:AM69)>0,SUM(I69:AM69)," ") | G69: =VLOOKUP(B69,'Herbage Mass Residual'!$B$11:$O$140,($B$1+2),FALSE) -> 2200 | H69: =($F$7/VLOOKUP(B69,'Paddock Names'!$B$11:$D$140,3))*(SUM(I69:AM69)/31) -> #DIV/0!
B70: =B69+0.5 -> 30.5 | I70: =F69+(VLOOKUP(B69,'Growth Rates'!$B$11:$O$140,($B$1+2),FALSE))-(I69*(I$7/VLOOKUP(B69,'Paddock Names'!$B$11:$D$140,3))) -> #DIV/0! | J70: =I70+(VLOOKUP($B69,'Growth Rates'!$B$11:$O$140,($B$1+2),FALSE))-(J69*(J$7/VLOOKUP($B69,'Paddock Names'!$B$11:$D$140,3))) -> #DIV/0! | K70: =J70+(VLOOKUP($B69,'Growth Rates'!$B$11:$O$140,($B$1+2),FALSE))-(K69*(K$7/VLOOKUP($B69,'Paddock Names'!$B$11:$D$140,3))) -> #DIV/0! | L70: =K70+(VLOOKUP($B69,'Growth Rates'!$B$11:$O$140,($B$1+2),FALSE))-(L69*(L$7/VLOOKUP($B69,'Paddock Names'!$B$11:$D$140,3))) -> #DIV/0! | M70: =L70+(VLOOKUP($B69,'Growth Rates'!$B$11:$O$140,($B$1+2),FALSE))-(M69*(M$7/VLOOKUP($B69,'Paddock Names'!$B$11:$D$140,3))) -> #DIV/0! | N70: =M70+(VLOOKUP($B69,'Growth Rates'!$B$11:$O$140,($B$1+2),FALSE))-(N69*(N$7/VLOOKUP($B69,'Paddock Names'!$B$11:$D$140,3))) -> #DIV/0! | O70: =N70+(VLOOKUP($B69,'Growth Rates'!$B$11:$O$140,($B$1+2),FALSE))-(O69*(O$7/VLOOKUP($B69,'Paddock Names'!$B$11:$D$140,3))) -> #DIV/0! | P70: =O70+(VLOOKUP($B69,'Growth Rates'!$B$11:$O$140,($B$1+2),FALSE))-(P69*(P$7/VLOOKUP($B69,'Paddock Names'!$B$11:$D$140,3))) -> #DIV/0! | Q70: =P70+(VLOOKUP($B69,'Growth Rates'!$B$11:$O$140,($B$1+2),FALSE))-(Q69*(Q$7/VLOOKUP($B69,'Paddock Names'!$B$11:$D$140,3))) -> #DIV/0! | ... AM70: =AL70+(VLOOKUP($B69,'Growth Rates'!$B$11:$O$140,($B$1+2),FALSE))-(AM69*(AM$7/VLOOKUP($B69,'Paddock Names'!$B$11:$D$140,3))) -> #DIV/0!
B71: =B70+0.5 -> 31 | C71: =IF(VLOOKUP(B71,'Paddock Names'!$B$11:$C$140,2)>0,VLOOKUP(B71,'Paddock Names'!$B$11:$C$140,2),"") | D71: =IF(((F71-G71)/(((VLOOKUP(B71,'Growth Rates'!$B$11:$O$140,($B$1+2),FALSE)))+0.001-(((I$7/VLOOKUP(B71,'Paddock Names'!$B$11:$D$140,3))))))*-1>(VALUE(CONCATENATE("01/",$B$1+1,"/",'Group Name and Year'!$E$14))-VALUE(CONCATENATE("01/",$B$1,"/",'Group Name and Year'!$E$14))),(VALUE(CONCATENATE("01/",$B$1+1,"/",'Group Name and Year'!$E$14))-VALUE(CONCATENATE("01/",$B$1,"/",'Group Name and Year'!$E$14))),(IF(((F71-G71)/(((VLOOKUP(B71,'Growth Rates'!$B$11:$O$140,($B$1+2),FALSE)))+0.001-(((I$7/VLOOKUP(B71,'Paddock Names'!$B$11:$D$140,3))))))*-1>0,ROUNDDOWN(((F71-G71)/(((VLOOKUP(B71,'Growth Rates'!$B$11:$O$140,($B$1+2),FALSE)))-(((I$7/VLOOKUP(B71,'Paddock Names'!$B$11:$D$140,3))))))*-1,0),VALUE(CONCATENATE("01/",$B$1+1,"/",'Group Name and Year'!$E$14))-VALUE(CONCATENATE("01/",$B$1,"/",'Group Name and Year'!$E$14))))) -> #DIV/0! | E71: =IF(SUM(I71:AM71)>0,SUM(I71:AM71)," ") | G71: =VLOOKUP(B71,'Herbage Mass Residual'!$B$11:$O$140,($B$1+2),FALSE) -> 2200 | H71: =($F$7/VLOOKUP(B71,'Paddock Names'!$B$11:$D$140,3))*(SUM(I71:AM71)/31) -> #DIV/0!
B72: =B71+0.5 -> 31.5 | I72: =F71+(VLOOKUP(B71,'Growth Rates'!$B$11:$O$140,($B$1+2),FALSE))-(I71*(I$7/VLOOKUP(B71,'Paddock Names'!$B$11:$D$140,3))) -> #DIV/0! | J72: =I72+(VLOOKUP($B71,'Growth Rates'!$B$11:$O$140,($B$1+2),FALSE))-(J71*(J$7/VLOOKUP($B71,'Paddock Names'!$B$11:$D$140,3))) -> #DIV/0! | K72: =J72+(VLOOKUP($B71,'Growth Rates'!$B$11:$O$140,($B$1+2),FALSE))-(K71*(K$7/VLOOKUP($B71,'Paddock Names'!$B$11:$D$140,3))) -> #DIV/0! | L72: =K72+(VLOOKUP($B71,'Growth Rates'!$B$11:$O$140,($B$1+2),FALSE))-(L71*(L$7/VLOOKUP($B71,'Paddock Names'!$B$11:$D$140,3))) -> #DIV/0! | M72: =L72+(VLOOKUP($B71,'Growth Rates'!$B$11:$O$140,($B$1+2),FALSE))-(M71*(M$7/VLOOKUP($B71,'Paddock Names'!$B$11:$D$140,3))) -> #DIV/0! | N72: =M72+(VLOOKUP($B71,'Growth Rates'!$B$11:$O$140,($B$1+2),FALSE))-(N71*(N$7/VLOOKUP($B71,'Paddock Names'!$B$11:$D$140,3))) -> #DIV/0! | O72: =N72+(VLOOKUP($B71,'Growth Rates'!$B$11:$O$140,($B$1+2),FALSE))-(O71*(O$7/VLOOKUP($B71,'Paddock Names'!$B$11:$D$140,3))) -> #DIV/0! | P72: =O72+(VLOOKUP($B71,'Growth Rates'!$B$11:$O$140,($B$1+2),FALSE))-(P71*(P$7/VLOOKUP($B71,'Paddock Names'!$B$11:$D$140,3))) -> #DIV/0! | Q72: =P72+(VLOOKUP($B71,'Growth Rates'!$B$11:$O$140,($B$1+2),FALSE))-(Q71*(Q$7/VLOOKUP($B71,'Paddock Names'!$B$11:$D$140,3))) -> #DIV/0! | ... AM72: =AL72+(VLOOKUP($B71,'Growth Rates'!$B$11:$O$140,($B$1+2),FALSE))-(AM71*(AM$7/VLOOKUP($B71,'Paddock Names'!$B$11:$D$140,3))) -> #DIV/0!
B73: =B72+0.5 -> 32 | C73: =IF(VLOOKUP(B73,'Paddock Names'!$B$11:$C$140,2)>0,VLOOKUP(B73,'Paddock Names'!$B$11:$C$140,2),"") | D73: =IF(((F73-G73)/(((VLOOKUP(B73,'Growth Rates'!$B$11:$O$140,($B$1+2),FALSE)))+0.001-(((I$7/VLOOKUP(B73,'Paddock Names'!$B$11:$D$140,3))))))*-1>(VALUE(CONCATENATE("01/",$B$1+1,"/",'Group Name and Year'!$E$14))-VALUE(CONCATENATE("01/",$B$1,"/",'Group Name and Year'!$E$14))),(VALUE(CONCATENATE("01/",$B$1+1,"/",'Group Name and Year'!$E$14))-VALUE(CONCATENATE("01/",$B$1,"/",'Group Name and Year'!$E$14))),(IF(((F73-G73)/(((VLOOKUP(B73,'Growth Rates'!$B$11:$O$140,($B$1+2),FALSE)))+0.001-(((I$7/VLOOKUP(B73,'Paddock Names'!$B$11:$D$140,3))))))*-1>0,ROUNDDOWN(((F73-G73)/(((VLOOKUP(B73,'Growth Rates'!$B$11:$O$140,($B$1+2),FALSE)))-(((I$7/VLOOKUP(B73,'Paddock Names'!$B$11:$D$140,3))))))*-1,0),VALUE(CONCATENATE("01/",$B$1+1,"/",'Group Name and Year'!$E$14))-VALUE(CONCATENATE("01/",$B$1,"/",'Group Name and Year'!$E$14))))) -> #DIV/0! | E73: =IF(SUM(I73:AM73)>0,SUM(I73:AM73)," ") | G73: =VLOOKUP(B73,'Herbage Mass Residual'!$B$11:$O$140,($B$1+2),FALSE) -> 2200 | H73: =($F$7/VLOOKUP(B73,'Paddock Names'!$B$11:$D$140,3))*(SUM(I73:AM73)/31) -> #DIV/0!
B74: =B73+0.5 -> 32.5 | I74: =F73+(VLOOKUP(B73,'Growth Rates'!$B$11:$O$140,($B$1+2),FALSE))-(I73*(I$7/VLOOKUP(B73,'Paddock Names'!$B$11:$D$140,3))) -> #DIV/0! | J74: =I74+(VLOOKUP($B73,'Growth Rates'!$B$11:$O$140,($B$1+2),FALSE))-(J73*(J$7/VLOOKUP($B73,'Paddock Names'!$B$11:$D$140,3))) -> #DIV/0! | K74: =J74+(VLOOKUP($B73,'Growth Rates'!$B$11:$O$140,($B$1+2),FALSE))-(K73*(K$7/VLOOKUP($B73,'Paddock Names'!$B$11:$D$140,3))) -> #DIV/0! | L74: =K74+(VLOOKUP($B73,'Growth Rates'!$B$11:$O$140,($B$1+2),FALSE))-(L73*(L$7/VLOOKUP($B73,'Paddock Names'!$B$11:$D$140,3))) -> #DIV/0! | M74: =L74+(VLOOKUP($B73,'Growth Rates'!$B$11:$O$140,($B$1+2),FALSE))-(M73*(M$7/VLOOKUP($B73,'Paddock Names'!$B$11:$D$140,3))) -> #DIV/0! | N74: =M74+(VLOOKUP($B73,'Growth Rates'!$B$11:$O$140,($B$1+2),FALSE))-(N73*(N$7/VLOOKUP($B73,'Paddock Names'!$B$11:$D$140,3))) -> #DIV/0! | O74: =N74+(VLOOKUP($B73,'Growth Rates'!$B$11:$O$140,($B$1+2),FALSE))-(O73*(O$7/VLOOKUP($B73,'Paddock Names'!$B$11:$D$140,3))) -> #DIV/0! | P74: =O74+(VLOOKUP($B73,'Growth Rates'!$B$11:$O$140,($B$1+2),FALSE))-(P73*(P$7/VLOOKUP($B73,'Paddock Names'!$B$11:$D$140,3))) -> #DIV/0! | Q74: =P74+(VLOOKUP($B73,'Growth Rates'!$B$11:$O$140,($B$1+2),FALSE))-(Q73*(Q$7/VLOOKUP($B73,'Paddock Names'!$B$11:$D$140,3))) -> #DIV/0! | ... AM74: =AL74+(VLOOKUP($B73,'Growth Rates'!$B$11:$O$140,($B$1+2),FALSE))-(AM73*(AM$7/VLOOKUP($B73,'Paddock Names'!$B$11:$D$140,3))) -> #DIV/0!
B75: =B74+0.5 -> 33 | C75: =IF(VLOOKUP(B75,'Paddock Names'!$B$11:$C$140,2)>0,VLOOKUP(B75,'Paddock Names'!$B$11:$C$140,2),"") | D75: =IF(((F75-G75)/(((VLOOKUP(B75,'Growth Rates'!$B$11:$O$140,($B$1+2),FALSE)))+0.001-(((I$7/VLOOKUP(B75,'Paddock Names'!$B$11:$D$140,3))))))*-1>(VALUE(CONCATENATE("01/",$B$1+1,"/",'Group Name and Year'!$E$14))-VALUE(CONCATENATE("01/",$B$1,"/",'Group Name and Year'!$E$14))),(VALUE(CONCATENATE("01/",$B$1+1,"/",'Group Name and Year'!$E$14))-VALUE(CONCATENATE("01/",$B$1,"/",'Group Name and Year'!$E$14))),(IF(((F75-G75)/(((VLOOKUP(B75,'Growth Rates'!$B$11:$O$140,($B$1+2),FALSE)))+0.001-(((I$7/VLOOKUP(B75,'Paddock Names'!$B$11:$D$140,3))))))*-1>0,ROUNDDOWN(((F75-G75)/(((VLOOKUP(B75,'Growth Rates'!$B$11:$O$140,($B$1+2),FALSE)))-(((I$7/VLOOKUP(B75,'Paddock Names'!$B$11:$D$140,3))))))*-1,0),VALUE(CONCATENATE("01/",$B$1+1,"/",'Group Name and Year'!$E$14))-VALUE(CONCATENATE("01/",$B$1,"/",'Group Name and Year'!$E$14))))) -> #DIV/0! | E75: =IF(SUM(I75:AM75)>0,SUM(I75:AM75)," ") | G75: =VLOOKUP(B75,'Herbage Mass Residual'!$B$11:$O$140,($B$1+2),FALSE) -> 2200 | H75: =($F$7/VLOOKUP(B75,'Paddock Names'!$B$11:$D$140,3))*(SUM(I75:AM75)/31) -> #DIV/0!
B76: =B75+0.5 -> 33.5 | I76: =F75+(VLOOKUP(B75,'Growth Rates'!$B$11:$O$140,($B$1+2),FALSE))-(I75*(I$7/VLOOKUP(B75,'Paddock Names'!$B$11:$D$140,3))) -> #DIV/0! | J76: =I76+(VLOOKUP($B75,'Growth Rates'!$B$11:$O$140,($B$1+2),FALSE))-(J75*(J$7/VLOOKUP($B75,'Paddock Names'!$B$11:$D$140,3))) -> #DIV/0! | K76: =J76+(VLOOKUP($B75,'Growth Rates'!$B$11:$O$140,($B$1+2),FALSE))-(K75*(K$7/VLOOKUP($B75,'Paddock Names'!$B$11:$D$140,3))) -> #DIV/0! | L76: =K76+(VLOOKUP($B75,'Growth Rates'!$B$11:$O$140,($B$1+2),FALSE))-(L75*(L$7/VLOOKUP($B75,'Paddock Names'!$B$11:$D$140,3))) -> #DIV/0! | M76: =L76+(VLOOKUP($B75,'Growth Rates'!$B$11:$O$140,($B$1+2),FALSE))-(M75*(M$7/VLOOKUP($B75,'Paddock Names'!$B$11:$D$140,3))) -> #DIV/0! | N76: =M76+(VLOOKUP($B75,'Growth Rates'!$B$11:$O$140,($B$1+2),FALSE))-(N75*(N$7/VLOOKUP($B75,'Paddock Names'!$B$11:$D$140,3))) -> #DIV/0! | O76: =N76+(VLOOKUP($B75,'Growth Rates'!$B$11:$O$140,($B$1+2),FALSE))-(O75*(O$7/VLOOKUP($B75,'Paddock Names'!$B$11:$D$140,3))) -> #DIV/0! | P76: =O76+(VLOOKUP($B75,'Growth Rates'!$B$11:$O$140,($B$1+2),FALSE))-(P75*(P$7/VLOOKUP($B75,'Paddock Names'!$B$11:$D$140,3))) -> #DIV/0! | Q76: =P76+(VLOOKUP($B75,'Growth Rates'!$B$11:$O$140,($B$1+2),FALSE))-(Q75*(Q$7/VLOOKUP($B75,'Paddock Names'!$B$11:$D$140,3))) -> #DIV/0! | ... AM76: =AL76+(VLOOKUP($B75,'Growth Rates'!$B$11:$O$140,($B$1+2),FALSE))-(AM75*(AM$7/VLOOKUP($B75,'Paddock Names'!$B$11:$D$140,3))) -> #DIV/0!
B77: =B76+0.5 -> 34 | C77: =IF(VLOOKUP(B77,'Paddock Names'!$B$11:$C$140,2)>0,VLOOKUP(B77,'Paddock Names'!$B$11:$C$140,2),"") | D77: =IF(((F77-G77)/(((VLOOKUP(B77,'Growth Rates'!$B$11:$O$140,($B$1+2),FALSE)))+0.001-(((I$7/VLOOKUP(B77,'Paddock Names'!$B$11:$D$140,3))))))*-1>(VALUE(CONCATENATE("01/",$B$1+1,"/",'Group Name and Year'!$E$14))-VALUE(CONCATENATE("01/",$B$1,"/",'Group Name and Year'!$E$14))),(VALUE(CONCATENATE("01/",$B$1+1,"/",'Group Name and Year'!$E$14))-VALUE(CONCATENATE("01/",$B$1,"/",'Group Name and Year'!$E$14))),(IF(((F77-G77)/(((VLOOKUP(B77,'Growth Rates'!$B$11:$O$140,($B$1+2),FALSE)))+0.001-(((I$7/VLOOKUP(B77,'Paddock Names'!$B$11:$D$140,3))))))*-1>0,ROUNDDOWN(((F77-G77)/(((VLOOKUP(B77,'Growth Rates'!$B$11:$O$140,($B$1+2),FALSE)))-(((I$7/VLOOKUP(B77,'Paddock Names'!$B$11:$D$140,3))))))*-1,0),VALUE(CONCATENATE("01/",$B$1+1,"/",'Group Name and Year'!$E$14))-VALUE(CONCATENATE("01/",$B$1,"/",'Group Name and Year'!$E$14))))) -> #DIV/0! | E77: =IF(SUM(I77:AM77)>0,SUM(I77:AM77)," ") | G77: =VLOOKUP(B77,'Herbage Mass Residual'!$B$11:$O$140,($B$1+2),FALSE) -> 2200 | H77: =($F$7/VLOOKUP(B77,'Paddock Names'!$B$11:$D$140,3))*(SUM(I77:AM77)/31) -> #DIV/0!
B78: =B77+0.5 -> 34.5 | I78: =F77+(VLOOKUP(B77,'Growth Rates'!$B$11:$O$140,($B$1+2),FALSE))-(I77*(I$7/VLOOKUP(B77,'Paddock Names'!$B$11:$D$140,3))) -> #DIV/0! | J78: =I78+(VLOOKUP($B77,'Growth Rates'!$B$11:$O$140,($B$1+2),FALSE))-(J77*(J$7/VLOOKUP($B77,'Paddock Names'!$B$11:$D$140,3))) -> #DIV/0! | K78: =J78+(VLOOKUP($B77,'Growth Rates'!$B$11:$O$140,($B$1+2),FALSE))-(K77*(K$7/VLOOKUP($B77,'Paddock Names'!$B$11:$D$140,3))) -> #DIV/0! | L78: =K78+(VLOOKUP($B77,'Growth Rates'!$B$11:$O$140,($B$1+2),FALSE))-(L77*(L$7/VLOOKUP($B77,'Paddock Names'!$B$11:$D$140,3))) -> #DIV/0! | M78: =L78+(VLOOKUP($B77,'Growth Rates'!$B$11:$O$140,($B$1+2),FALSE))-(M77*(M$7/VLOOKUP($B77,'Paddock Names'!$B$11:$D$140,3))) -> #DIV/0! | N78: =M78+(VLOOKUP($B77,'Growth Rates'!$B$11:$O$140,($B$1+2),FALSE))-(N77*(N$7/VLOOKUP($B77,'Paddock Names'!$B$11:$D$140,3))) -> #DIV/0! | O78: =N78+(VLOOKUP($B77,'Growth Rates'!$B$11:$O$140,($B$1+2),FALSE))-(O77*(O$7/VLOOKUP($B77,'Paddock Names'!$B$11:$D$140,3))) -> #DIV/0! | P78: =O78+(VLOOKUP($B77,'Growth Rates'!$B$11:$O$140,($B$1+2),FALSE))-(P77*(P$7/VLOOKUP($B77,'Paddock Names'!$B$11:$D$140,3))) -> #DIV/0! | Q78: =P78+(VLOOKUP($B77,'Growth Rates'!$B$11:$O$140,($B$1+2),FALSE))-(Q77*(Q$7/VLOOKUP($B77,'Paddock Names'!$B$11:$D$140,3))) -> #DIV/0! | ... AM78: =AL78+(VLOOKUP($B77,'Growth Rates'!$B$11:$O$140,($B$1+2),FALSE))-(AM77*(AM$7/VLOOKUP($B77,'Paddock Names'!$B$11:$D$140,3))) -> #DIV/0!
B79: =B78+0.5 -> 35 | C79: =IF(VLOOKUP(B79,'Paddock Names'!$B$11:$C$140,2)>0,VLOOKUP(B79,'Paddock Names'!$B$11:$C$140,2),"") | D79: =IF(((F79-G79)/(((VLOOKUP(B79,'Growth Rates'!$B$11:$O$140,($B$1+2),FALSE)))+0.001-(((I$7/VLOOKUP(B79,'Paddock Names'!$B$11:$D$140,3))))))*-1>(VALUE(CONCATENATE("01/",$B$1+1,"/",'Group Name and Year'!$E$14))-VALUE(CONCATENATE("01/",$B$1,"/",'Group Name and Year'!$E$14))),(VALUE(CONCATENATE("01/",$B$1+1,"/",'Group Name and Year'!$E$14))-VALUE(CONCATENATE("01/",$B$1,"/",'Group Name and Year'!$E$14))),(IF(((F79-G79)/(((VLOOKUP(B79,'Growth Rates'!$B$11:$O$140,($B$1+2),FALSE)))+0.001-(((I$7/VLOOKUP(B79,'Paddock Names'!$B$11:$D$140,3))))))*-1>0,ROUNDDOWN(((F79-G79)/(((VLOOKUP(B79,'Growth Rates'!$B$11:$O$140,($B$1+2),FALSE)))-(((I$7/VLOOKUP(B79,'Paddock Names'!$B$11:$D$140,3))))))*-1,0),VALUE(CONCATENATE("01/",$B$1+1,"/",'Group Name and Year'!$E$14))-VALUE(CONCATENATE("01/",$B$1,"/",'Group Name and Year'!$E$14))))) -> #DIV/0! | E79: =IF(SUM(I79:AM79)>0,SUM(I79:AM79)," ") | G79: =VLOOKUP(B79,'Herbage Mass Residual'!$B$11:$O$140,($B$1+2),FALSE) -> 2200 | H79: =($F$7/VLOOKUP(B79,'Paddock Names'!$B$11:$D$140,3))*(SUM(I79:AM79)/31) -> #DIV/0!
B80: =B79+0.5 -> 35.5 | I80: =F79+(VLOOKUP(B79,'Growth Rates'!$B$11:$O$140,($B$1+2),FALSE))-(I79*(I$7/VLOOKUP(B79,'Paddock Names'!$B$11:$D$140,3))) -> #DIV/0! | J80: =I80+(VLOOKUP($B79,'Growth Rates'!$B$11:$O$140,($B$1+2),FALSE))-(J79*(J$7/VLOOKUP($B79,'Paddock Names'!$B$11:$D$140,3))) -> #DIV/0! | K80: =J80+(VLOOKUP($B79,'Growth Rates'!$B$11:$O$140,($B$1+2),FALSE))-(K79*(K$7/VLOOKUP($B79,'Paddock Names'!$B$11:$D$140,3))) -> #DIV/0! | L80: =K80+(VLOOKUP($B79,'Growth Rates'!$B$11:$O$140,($B$1+2),FALSE))-(L79*(L$7/VLOOKUP($B79,'Paddock Names'!$B$11:$D$140,3))) -> #DIV/0! | M80: =L80+(VLOOKUP($B79,'Growth Rates'!$B$11:$O$140,($B$1+2),FALSE))-(M79*(M$7/VLOOKUP($B79,'Paddock Names'!$B$11:$D$140,3))) -> #DIV/0! | N80: =M80+(VLOOKUP($B79,'Growth Rates'!$B$11:$O$140,($B$1+2),FALSE))-(N79*(N$7/VLOOKUP($B79,'Paddock Names'!$B$11:$D$140,3))) -> #DIV/0! | O80: =N80+(VLOOKUP($B79,'Growth Rates'!$B$11:$O$140,($B$1+2),FALSE))-(O79*(O$7/VLOOKUP($B79,'Paddock Names'!$B$11:$D$140,3))) -> #DIV/0! | P80: =O80+(VLOOKUP($B79,'Growth Rates'!$B$11:$O$140,($B$1+2),FALSE))-(P79*(P$7/VLOOKUP($B79,'Paddock Names'!$B$11:$D$140,3))) -> #DIV/0! | Q80: =P80+(VLOOKUP($B79,'Growth Rates'!$B$11:$O$140,($B$1+2),FALSE))-(Q79*(Q$7/VLOOKUP($B79,'Paddock Names'!$B$11:$D$140,3))) -> #DIV/0! | ... AM80: =AL80+(VLOOKUP($B79,'Growth Rates'!$B$11:$O$140,($B$1+2),FALSE))-(AM79*(AM$7/VLOOKUP($B79,'Paddock Names'!$B$11:$D$140,3))) -> #DIV/0!
B81: =B80+0.5 -> 36 | C81: =IF(VLOOKUP(B81,'Paddock Names'!$B$11:$C$140,2)>0,VLOOKUP(B81,'Paddock Names'!$B$11:$C$140,2),"") | D81: =IF(((F81-G81)/(((VLOOKUP(B81,'Growth Rates'!$B$11:$O$140,($B$1+2),FALSE)))+0.001-(((I$7/VLOOKUP(B81,'Paddock Names'!$B$11:$D$140,3))))))*-1>(VALUE(CONCATENATE("01/",$B$1+1,"/",'Group Name and Year'!$E$14))-VALUE(CONCATENATE("01/",$B$1,"/",'Group Name and Year'!$E$14))),(VALUE(CONCATENATE("01/",$B$1+1,"/",'Group Name and Year'!$E$14))-VALUE(CONCATENATE("01/",$B$1,"/",'Group Name and Year'!$E$14))),(IF(((F81-G81)/(((VLOOKUP(B81,'Growth Rates'!$B$11:$O$140,($B$1+2),FALSE)))+0.001-(((I$7/VLOOKUP(B81,'Paddock Names'!$B$11:$D$140,3))))))*-1>0,ROUNDDOWN(((F81-G81)/(((VLOOKUP(B81,'Growth Rates'!$B$11:$O$140,($B$1+2),FALSE)))-(((I$7/VLOOKUP(B81,'Paddock Names'!$B$11:$D$140,3))))))*-1,0),VALUE(CONCATENATE("01/",$B$1+1,"/",'Group Name and Year'!$E$14))-VALUE(CONCATENATE("01/",$B$1,"/",'Group Name and Year'!$E$14))))) -> #DIV/0! | E81: =IF(SUM(I81:AM81)>0,SUM(I81:AM81)," ") | G81: =VLOOKUP(B81,'Herbage Mass Residual'!$B$11:$O$140,($B$1+2),FALSE) -> 2200 | H81: =($F$7/VLOOKUP(B81,'Paddock Names'!$B$11:$D$140,3))*(SUM(I81:AM81)/31) -> #DIV/0!
B82: =B81+0.5 -> 36.5 | I82: =F81+(VLOOKUP(B81,'Growth Rates'!$B$11:$O$140,($B$1+2),FALSE))-(I81*(I$7/VLOOKUP(B81,'Paddock Names'!$B$11:$D$140,3))) -> #DIV/0! | J82: =I82+(VLOOKUP($B81,'Growth Rates'!$B$11:$O$140,($B$1+2),FALSE))-(J81*(J$7/VLOOKUP($B81,'Paddock Names'!$B$11:$D$140,3))) -> #DIV/0! | K82: =J82+(VLOOKUP($B81,'Growth Rates'!$B$11:$O$140,($B$1+2),FALSE))-(K81*(K$7/VLOOKUP($B81,'Paddock Names'!$B$11:$D$140,3))) -> #DIV/0! | L82: =K82+(VLOOKUP($B81,'Growth Rates'!$B$11:$O$140,($B$1+2),FALSE))-(L81*(L$7/VLOOKUP($B81,'Paddock Names'!$B$11:$D$140,3))) -> #DIV/0! | M82: =L82+(VLOOKUP($B81,'Growth Rates'!$B$11:$O$140,($B$1+2),FALSE))-(M81*(M$7/VLOOKUP($B81,'Paddock Names'!$B$11:$D$140,3))) -> #DIV/0! | N82: =M82+(VLOOKUP($B81,'Growth Rates'!$B$11:$O$140,($B$1+2),FALSE))-(N81*(N$7/VLOOKUP($B81,'Paddock Names'!$B$11:$D$140,3))) -> #DIV/0! | O82: =N82+(VLOOKUP($B81,'Growth Rates'!$B$11:$O$140,($B$1+2),FALSE))-(O81*(O$7/VLOOKUP($B81,'Paddock Names'!$B$11:$D$140,3))) -> #DIV/0! | P82: =O82+(VLOOKUP($B81,'Growth Rates'!$B$11:$O$140,($B$1+2),FALSE))-(P81*(P$7/VLOOKUP($B81,'Paddock Names'!$B$11:$D$140,3))) -> #DIV/0! | Q82: =P82+(VLOOKUP($B81,'Growth Rates'!$B$11:$O$140,($B$1+2),FALSE))-(Q81*(Q$7/VLOOKUP($B81,'Paddock Names'!$B$11:$D$140,3))) -> #DIV/0! | ... AM82: =AL82+(VLOOKUP($B81,'Growth Rates'!$B$11:$O$140,($B$1+2),FALSE))-(AM81*(AM$7/VLOOKUP($B81,'Paddock Names'!$B$11:$D$140,3))) -> #DIV/0!
B83: =B82+0.5 -> 37 | C83: =IF(VLOOKUP(B83,'Paddock Names'!$B$11:$C$140,2)>0,VLOOKUP(B83,'Paddock Names'!$B$11:$C$140,2),"") | D83: =IF(((F83-G83)/(((VLOOKUP(B83,'Growth Rates'!$B$11:$O$140,($B$1+2),FALSE)))+0.001-(((I$7/VLOOKUP(B83,'Paddock Names'!$B$11:$D$140,3))))))*-1>(VALUE(CONCATENATE("01/",$B$1+1,"/",'Group Name and Year'!$E$14))-VALUE(CONCATENATE("01/",$B$1,"/",'Group Name and Year'!$E$14))),(VALUE(CONCATENATE("01/",$B$1+1,"/",'Group Name and Year'!$E$14))-VALUE(CONCATENATE("01/",$B$1,"/",'Group Name and Year'!$E$14))),(IF(((F83-G83)/(((VLOOKUP(B83,'Growth Rates'!$B$11:$O$140,($B$1+2),FALSE)))+0.001-(((I$7/VLOOKUP(B83,'Paddock Names'!$B$11:$D$140,3))))))*-1>0,ROUNDDOWN(((F83-G83)/(((VLOOKUP(B83,'Growth Rates'!$B$11:$O$140,($B$1+2),FALSE)))-(((I$7/VLOOKUP(B83,'Paddock Names'!$B$11:$D$140,3))))))*-1,0),VALUE(CONCATENATE("01/",$B$1+1,"/",'Group Name and Year'!$E$14))-VALUE(CONCATENATE("01/",$B$1,"/",'Group Name and Year'!$E$14))))) -> #DIV/0! | E83: =IF(SUM(I83:AM83)>0,SUM(I83:AM83)," ") | G83: =VLOOKUP(B83,'Herbage Mass Residual'!$B$11:$O$140,($B$1+2),FALSE) -> 2200 | H83: =($F$7/VLOOKUP(B83,'Paddock Names'!$B$11:$D$140,3))*(SUM(I83:AM83)/31) -> #DIV/0!
B84: =B83+0.5 -> 37.5 | I84: =F83+(VLOOKUP(B83,'Growth Rates'!$B$11:$O$140,($B$1+2),FALSE))-(I83*(I$7/VLOOKUP(B83,'Paddock Names'!$B$11:$D$140,3))) -> #DIV/0! | J84: =I84+(VLOOKUP($B83,'Growth Rates'!$B$11:$O$140,($B$1+2),FALSE))-(J83*(J$7/VLOOKUP($B83,'Paddock Names'!$B$11:$D$140,3))) -> #DIV/0! | K84: =J84+(VLOOKUP($B83,'Growth Rates'!$B$11:$O$140,($B$1+2),FALSE))-(K83*(K$7/VLOOKUP($B83,'Paddock Names'!$B$11:$D$140,3))) -> #DIV/0! | L84: =K84+(VLOOKUP($B83,'Growth Rates'!$B$11:$O$140,($B$1+2),FALSE))-(L83*(L$7/VLOOKUP($B83,'Paddock Names'!$B$11:$D$140,3))) -> #DIV/0! | M84: =L84+(VLOOKUP($B83,'Growth Rates'!$B$11:$O$140,($B$1+2),FALSE))-(M83*(M$7/VLOOKUP($B83,'Paddock Names'!$B$11:$D$140,3))) -> #DIV/0! | N84: =M84+(VLOOKUP($B83,'Growth Rates'!$B$11:$O$140,($B$1+2),FALSE))-(N83*(N$7/VLOOKUP($B83,'Paddock Names'!$B$11:$D$140,3))) -> #DIV/0! | O84: =N84+(VLOOKUP($B83,'Growth Rates'!$B$11:$O$140,($B$1+2),FALSE))-(O83*(O$7/VLOOKUP($B83,'Paddock Names'!$B$11:$D$140,3))) -> #DIV/0! | P84: =O84+(VLOOKUP($B83,'Growth Rates'!$B$11:$O$140,($B$1+2),FALSE))-(P83*(P$7/VLOOKUP($B83,'Paddock Names'!$B$11:$D$140,3))) -> #DIV/0! | Q84: =P84+(VLOOKUP($B83,'Growth Rates'!$B$11:$O$140,($B$1+2),FALSE))-(Q83*(Q$7/VLOOKUP($B83,'Paddock Names'!$B$11:$D$140,3))) -> #DIV/0! | ... AM84: =AL84+(VLOOKUP($B83,'Growth Rates'!$B$11:$O$140,($B$1+2),FALSE))-(AM83*(AM$7/VLOOKUP($B83,'Paddock Names'!$B$11:$D$140,3))) -> #DIV/0!
B85: =B84+0.5 -> 38 | C85: =IF(VLOOKUP(B85,'Paddock Names'!$B$11:$C$140,2)>0,VLOOKUP(B85,'Paddock Names'!$B$11:$C$140,2),"") | D85: =IF(((F85-G85)/(((VLOOKUP(B85,'Growth Rates'!$B$11:$O$140,($B$1+2),FALSE)))+0.001-(((I$7/VLOOKUP(B85,'Paddock Names'!$B$11:$D$140,3))))))*-1>(VALUE(CONCATENATE("01/",$B$1+1,"/",'Group Name and Year'!$E$14))-VALUE(CONCATENATE("01/",$B$1,"/",'Group Name and Year'!$E$14))),(VALUE(CONCATENATE("01/",$B$1+1,"/",'Group Name and Year'!$E$14))-VALUE(CONCATENATE("01/",$B$1,"/",'Group Name and Year'!$E$14))),(IF(((F85-G85)/(((VLOOKUP(B85,'Growth Rates'!$B$11:$O$140,($B$1+2),FALSE)))+0.001-(((I$7/VLOOKUP(B85,'Paddock Names'!$B$11:$D$140,3))))))*-1>0,ROUNDDOWN(((F85-G85)/(((VLOOKUP(B85,'Growth Rates'!$B$11:$O$140,($B$1+2),FALSE)))-(((I$7/VLOOKUP(B85,'Paddock Names'!$B$11:$D$140,3))))))*-1,0),VALUE(CONCATENATE("01/",$B$1+1,"/",'Group Name and Year'!$E$14))-VALUE(CONCATENATE("01/",$B$1,"/",'Group Name and Year'!$E$14))))) -> #DIV/0! | E85: =IF(SUM(I85:AM85)>0,SUM(I85:AM85)," ") | G85: =VLOOKUP(B85,'Herbage Mass Residual'!$B$11:$O$140,($B$1+2),FALSE) -> 2200 | H85: =($F$7/VLOOKUP(B85,'Paddock Names'!$B$11:$D$140,3))*(SUM(I85:AM85)/31) -> #DIV/0!
B86: =B85+0.5 -> 38.5 | I86: =F85+(VLOOKUP(B85,'Growth Rates'!$B$11:$O$140,($B$1+2),FALSE))-(I85*(I$7/VLOOKUP(B85,'Paddock Names'!$B$11:$D$140,3))) -> #DIV/0! | J86: =I86+(VLOOKUP($B85,'Growth Rates'!$B$11:$O$140,($B$1+2),FALSE))-(J85*(J$7/VLOOKUP($B85,'Paddock Names'!$B$11:$D$140,3))) -> #DIV/0! | K86: =J86+(VLOOKUP($B85,'Growth Rates'!$B$11:$O$140,($B$1+2),FALSE))-(K85*(K$7/VLOOKUP($B85,'Paddock Names'!$B$11:$D$140,3))) -> #DIV/0! | L86: =K86+(VLOOKUP($B85,'Growth Rates'!$B$11:$O$140,($B$1+2),FALSE))-(L85*(L$7/VLOOKUP($B85,'Paddock Names'!$B$11:$D$140,3))) -> #DIV/0! | M86: =L86+(VLOOKUP($B85,'Growth Rates'!$B$11:$O$140,($B$1+2),FALSE))-(M85*(M$7/VLOOKUP($B85,'Paddock Names'!$B$11:$D$140,3))) -> #DIV/0! | N86: =M86+(VLOOKUP($B85,'Growth Rates'!$B$11:$O$140,($B$1+2),FALSE))-(N85*(N$7/VLOOKUP($B85,'Paddock Names'!$B$11:$D$140,3))) -> #DIV/0! | O86: =N86+(VLOOKUP($B85,'Growth Rates'!$B$11:$O$140,($B$1+2),FALSE))-(O85*(O$7/VLOOKUP($B85,'Paddock Names'!$B$11:$D$140,3))) -> #DIV/0! | P86: =O86+(VLOOKUP($B85,'Growth Rates'!$B$11:$O$140,($B$1+2),FALSE))-(P85*(P$7/VLOOKUP($B85,'Paddock Names'!$B$11:$D$140,3))) -> #DIV/0! | Q86: =P86+(VLOOKUP($B85,'Growth Rates'!$B$11:$O$140,($B$1+2),FALSE))-(Q85*(Q$7/VLOOKUP($B85,'Paddock Names'!$B$11:$D$140,3))) -> #DIV/0! | ... AM86: =AL86+(VLOOKUP($B85,'Growth Rates'!$B$11:$O$140,($B$1+2),FALSE))-(AM85*(AM$7/VLOOKUP($B85,'Paddock Names'!$B$11:$D$140,3))) -> #DIV/0!
B87: =B86+0.5 -> 39 | C87: =IF(VLOOKUP(B87,'Paddock Names'!$B$11:$C$140,2)>0,VLOOKUP(B87,'Paddock Names'!$B$11:$C$140,2),"") | D87: =IF(((F87-G87)/(((VLOOKUP(B87,'Growth Rates'!$B$11:$O$140,($B$1+2),FALSE)))+0.001-(((I$7/VLOOKUP(B87,'Paddock Names'!$B$11:$D$140,3))))))*-1>(VALUE(CONCATENATE("01/",$B$1+1,"/",'Group Name and Year'!$E$14))-VALUE(CONCATENATE("01/",$B$1,"/",'Group Name and Year'!$E$14))),(VALUE(CONCATENATE("01/",$B$1+1,"/",'Group Name and Year'!$E$14))-VALUE(CONCATENATE("01/",$B$1,"/",'Group Name and Year'!$E$14))),(IF(((F87-G87)/(((VLOOKUP(B87,'Growth Rates'!$B$11:$O$140,($B$1+2),FALSE)))+0.001-(((I$7/VLOOKUP(B87,'Paddock Names'!$B$11:$D$140,3))))))*-1>0,ROUNDDOWN(((F87-G87)/(((VLOOKUP(B87,'Growth Rates'!$B$11:$O$140,($B$1+2),FALSE)))-(((I$7/VLOOKUP(B87,'Paddock Names'!$B$11:$D$140,3))))))*-1,0),VALUE(CONCATENATE("01/",$B$1+1,"/",'Group Name and Year'!$E$14))-VALUE(CONCATENATE("01/",$B$1,"/",'Group Name and Year'!$E$14))))) -> #DIV/0! | E87: =IF(SUM(I87:AM87)>0,SUM(I87:AM87)," ") | G87: =VLOOKUP(B87,'Herbage Mass Residual'!$B$11:$O$140,($B$1+2),FALSE) -> 2200 | H87: =($F$7/VLOOKUP(B87,'Paddock Names'!$B$11:$D$140,3))*(SUM(I87:AM87)/31) -> #DIV/0!
B88: =B87+0.5 -> 39.5 | I88: =F87+(VLOOKUP(B87,'Growth Rates'!$B$11:$O$140,($B$1+2),FALSE))-(I87*(I$7/VLOOKUP(B87,'Paddock Names'!$B$11:$D$140,3))) -> #DIV/0! | J88: =I88+(VLOOKUP($B87,'Growth Rates'!$B$11:$O$140,($B$1+2),FALSE))-(J87*(J$7/VLOOKUP($B87,'Paddock Names'!$B$11:$D$140,3))) -> #DIV/0! | K88: =J88+(VLOOKUP($B87,'Growth Rates'!$B$11:$O$140,($B$1+2),FALSE))-(K87*(K$7/VLOOKUP($B87,'Paddock Names'!$B$11:$D$140,3))) -> #DIV/0! | L88: =K88+(VLOOKUP($B87,'Growth Rates'!$B$11:$O$140,($B$1+2),FALSE))-(L87*(L$7/VLOOKUP($B87,'Paddock Names'!$B$11:$D$140,3))) -> #DIV/0! | M88: =L88+(VLOOKUP($B87,'Growth Rates'!$B$11:$O$140,($B$1+2),FALSE))-(M87*(M$7/VLOOKUP($B87,'Paddock Names'!$B$11:$D$140,3))) -> #DIV/0! | N88: =M88+(VLOOKUP($B87,'Growth Rates'!$B$11:$O$140,($B$1+2),FALSE))-(N87*(N$7/VLOOKUP($B87,'Paddock Names'!$B$11:$D$140,3))) -> #DIV/0! | O88: =N88+(VLOOKUP($B87,'Growth Rates'!$B$11:$O$140,($B$1+2),FALSE))-(O87*(O$7/VLOOKUP($B87,'Paddock Names'!$B$11:$D$140,3))) -> #DIV/0! | P88: =O88+(VLOOKUP($B87,'Growth Rates'!$B$11:$O$140,($B$1+2),FALSE))-(P87*(P$7/VLOOKUP($B87,'Paddock Names'!$B$11:$D$140,3))) -> #DIV/0! | Q88: =P88+(VLOOKUP($B87,'Growth Rates'!$B$11:$O$140,($B$1+2),FALSE))-(Q87*(Q$7/VLOOKUP($B87,'Paddock Names'!$B$11:$D$140,3))) -> #DIV/0! | ... AM88: =AL88+(VLOOKUP($B87,'Growth Rates'!$B$11:$O$140,($B$1+2),FALSE))-(AM87*(AM$7/VLOOKUP($B87,'Paddock Names'!$B$11:$D$140,3))) -> #DIV/0!
B89: =B88+0.5 -> 40 | C89: =IF(VLOOKUP(B89,'Paddock Names'!$B$11:$C$140,2)>0,VLOOKUP(B89,'Paddock Names'!$B$11:$C$140,2),"") | D89: =IF(((F89-G89)/(((VLOOKUP(B89,'Growth Rates'!$B$11:$O$140,($B$1+2),FALSE)))+0.001-(((I$7/VLOOKUP(B89,'Paddock Names'!$B$11:$D$140,3))))))*-1>(VALUE(CONCATENATE("01/",$B$1+1,"/",'Group Name and Year'!$E$14))-VALUE(CONCATENATE("01/",$B$1,"/",'Group Name and Year'!$E$14))),(VALUE(CONCATENATE("01/",$B$1+1,"/",'Group Name and Year'!$E$14))-VALUE(CONCATENATE("01/",$B$1,"/",'Group Name and Year'!$E$14))),(IF(((F89-G89)/(((VLOOKUP(B89,'Growth Rates'!$B$11:$O$140,($B$1+2),FALSE)))+0.001-(((I$7/VLOOKUP(B89,'Paddock Names'!$B$11:$D$140,3))))))*-1>0,ROUNDDOWN(((F89-G89)/(((VLOOKUP(B89,'Growth Rates'!$B$11:$O$140,($B$1+2),FALSE)))-(((I$7/VLOOKUP(B89,'Paddock Names'!$B$11:$D$140,3))))))*-1,0),VALUE(CONCATENATE("01/",$B$1+1,"/",'Group Name and Year'!$E$14))-VALUE(CONCATENATE("01/",$B$1,"/",'Group Name and Year'!$E$14))))) -> #DIV/0! | E89: =IF(SUM(I89:AM89)>0,SUM(I89:AM89)," ") | G89: =VLOOKUP(B89,'Herbage Mass Residual'!$B$11:$O$140,($B$1+2),FALSE) -> 2200 | H89: =($F$7/VLOOKUP(B89,'Paddock Names'!$B$11:$D$140,3))*(SUM(I89:AM89)/31) -> #DIV/0!
B90: =B89+0.5 -> 40.5 | I90: =F89+(VLOOKUP(B89,'Growth Rates'!$B$11:$O$140,($B$1+2),FALSE))-(I89*(I$7/VLOOKUP(B89,'Paddock Names'!$B$11:$D$140,3))) -> #DIV/0! | J90: =I90+(VLOOKUP($B89,'Growth Rates'!$B$11:$O$140,($B$1+2),FALSE))-(J89*(J$7/VLOOKUP($B89,'Paddock Names'!$B$11:$D$140,3))) -> #DIV/0! | K90: =J90+(VLOOKUP($B89,'Growth Rates'!$B$11:$O$140,($B$1+2),FALSE))-(K89*(K$7/VLOOKUP($B89,'Paddock Names'!$B$11:$D$140,3))) -> #DIV/0! | L90: =K90+(VLOOKUP($B89,'Growth Rates'!$B$11:$O$140,($B$1+2),FALSE))-(L89*(L$7/VLOOKUP($B89,'Paddock Names'!$B$11:$D$140,3))) -> #DIV/0! | M90: =L90+(VLOOKUP($B89,'Growth Rates'!$B$11:$O$140,($B$1+2),FALSE))-(M89*(M$7/VLOOKUP($B89,'Paddock Names'!$B$11:$D$140,3))) -> #DIV/0! | N90: =M90+(VLOOKUP($B89,'Growth Rates'!$B$11:$O$140,($B$1+2),FALSE))-(N89*(N$7/VLOOKUP($B89,'Paddock Names'!$B$11:$D$140,3))) -> #DIV/0! | O90: =N90+(VLOOKUP($B89,'Growth Rates'!$B$11:$O$140,($B$1+2),FALSE))-(O89*(O$7/VLOOKUP($B89,'Paddock Names'!$B$11:$D$140,3))) -> #DIV/0! | P90: =O90+(VLOOKUP($B89,'Growth Rates'!$B$11:$O$140,($B$1+2),FALSE))-(P89*(P$7/VLOOKUP($B89,'Paddock Names'!$B$11:$D$140,3))) -> #DIV/0! | Q90: =P90+(VLOOKUP($B89,'Growth Rates'!$B$11:$O$140,($B$1+2),FALSE))-(Q89*(Q$7/VLOOKUP($B89,'Paddock Names'!$B$11:$D$140,3))) -> #DIV/0! | ... AM90: =AL90+(VLOOKUP($B89,'Growth Rates'!$B$11:$O$140,($B$1+2),FALSE))-(AM89*(AM$7/VLOOKUP($B89,'Paddock Names'!$B$11:$D$140,3))) -> #DIV/0!
B91: =B90+0.5 -> 41 | C91: =IF(VLOOKUP(B91,'Paddock Names'!$B$11:$C$140,2)>0,VLOOKUP(B91,'Paddock Names'!$B$11:$C$140,2),"") | D91: =IF(((F91-G91)/(((VLOOKUP(B91,'Growth Rates'!$B$11:$O$140,($B$1+2),FALSE)))+0.001-(((I$7/VLOOKUP(B91,'Paddock Names'!$B$11:$D$140,3))))))*-1>(VALUE(CONCATENATE("01/",$B$1+1,"/",'Group Name and Year'!$E$14))-VALUE(CONCATENATE("01/",$B$1,"/",'Group Name and Year'!$E$14))),(VALUE(CONCATENATE("01/",$B$1+1,"/",'Group Name and Year'!$E$14))-VALUE(CONCATENATE("01/",$B$1,"/",'Group Name and Year'!$E$14))),(IF(((F91-G91)/(((VLOOKUP(B91,'Growth Rates'!$B$11:$O$140,($B$1+2),FALSE)))+0.001-(((I$7/VLOOKUP(B91,'Paddock Names'!$B$11:$D$140,3))))))*-1>0,ROUNDDOWN(((F91-G91)/(((VLOOKUP(B91,'Growth Rates'!$B$11:$O$140,($B$1+2),FALSE)))-(((I$7/VLOOKUP(B91,'Paddock Names'!$B$11:$D$140,3))))))*-1,0),VALUE(CONCATENATE("01/",$B$1+1,"/",'Group Name and Year'!$E$14))-VALUE(CONCATENATE("01/",$B$1,"/",'Group Name and Year'!$E$14))))) -> #DIV/0! | E91: =IF(SUM(I91:AM91)>0,SUM(I91:AM91)," ") | G91: =VLOOKUP(B91,'Herbage Mass Residual'!$B$11:$O$140,($B$1+2),FALSE) -> 2200 | H91: =($F$7/VLOOKUP(B91,'Paddock Names'!$B$11:$D$140,3))*(SUM(I91:AM91)/31) -> #DIV/0!
B92: =B91+0.5 -> 41.5 | I92: =F91+(VLOOKUP(B91,'Growth Rates'!$B$11:$O$140,($B$1+2),FALSE))-(I91*(I$7/VLOOKUP(B91,'Paddock Names'!$B$11:$D$140,3))) -> #DIV/0! | J92: =I92+(VLOOKUP($B91,'Growth Rates'!$B$11:$O$140,($B$1+2),FALSE))-(J91*(J$7/VLOOKUP($B91,'Paddock Names'!$B$11:$D$140,3))) -> #DIV/0! | K92: =J92+(VLOOKUP($B91,'Growth Rates'!$B$11:$O$140,($B$1+2),FALSE))-(K91*(K$7/VLOOKUP($B91,'Paddock Names'!$B$11:$D$140,3))) -> #DIV/0! | L92: =K92+(VLOOKUP($B91,'Growth Rates'!$B$11:$O$140,($B$1+2),FALSE))-(L91*(L$7/VLOOKUP($B91,'Paddock Names'!$B$11:$D$140,3))) -> #DIV/0! | M92: =L92+(VLOOKUP($B91,'Growth Rates'!$B$11:$O$140,($B$1+2),FALSE))-(M91*(M$7/VLOOKUP($B91,'Paddock Names'!$B$11:$D$140,3))) -> #DIV/0! | N92: =M92+(VLOOKUP($B91,'Growth Rates'!$B$11:$O$140,($B$1+2),FALSE))-(N91*(N$7/VLOOKUP($B91,'Paddock Names'!$B$11:$D$140,3))) -> #DIV/0! | O92: =N92+(VLOOKUP($B91,'Growth Rates'!$B$11:$O$140,($B$1+2),FALSE))-(O91*(O$7/VLOOKUP($B91,'Paddock Names'!$B$11:$D$140,3))) -> #DIV/0! | P92: =O92+(VLOOKUP($B91,'Growth Rates'!$B$11:$O$140,($B$1+2),FALSE))-(P91*(P$7/VLOOKUP($B91,'Paddock Names'!$B$11:$D$140,3))) -> #DIV/0! | Q92: =P92+(VLOOKUP($B91,'Growth Rates'!$B$11:$O$140,($B$1+2),FALSE))-(Q91*(Q$7/VLOOKUP($B91,'Paddock Names'!$B$11:$D$140,3))) -> #DIV/0! | ... AM92: =AL92+(VLOOKUP($B91,'Growth Rates'!$B$11:$O$140,($B$1+2),FALSE))-(AM91*(AM$7/VLOOKUP($B91,'Paddock Names'!$B$11:$D$140,3))) -> #DIV/0!
B93: =B92+0.5 -> 42 | C93: =IF(VLOOKUP(B93,'Paddock Names'!$B$11:$C$140,2)>0,VLOOKUP(B93,'Paddock Names'!$B$11:$C$140,2),"") | D93: =IF(((F93-G93)/(((VLOOKUP(B93,'Growth Rates'!$B$11:$O$140,($B$1+2),FALSE)))+0.001-(((I$7/VLOOKUP(B93,'Paddock Names'!$B$11:$D$140,3))))))*-1>(VALUE(CONCATENATE("01/",$B$1+1,"/",'Group Name and Year'!$E$14))-VALUE(CONCATENATE("01/",$B$1,"/",'Group Name and Year'!$E$14))),(VALUE(CONCATENATE("01/",$B$1+1,"/",'Group Name and Year'!$E$14))-VALUE(CONCATENATE("01/",$B$1,"/",'Group Name and Year'!$E$14))),(IF(((F93-G93)/(((VLOOKUP(B93,'Growth Rates'!$B$11:$O$140,($B$1+2),FALSE)))+0.001-(((I$7/VLOOKUP(B93,'Paddock Names'!$B$11:$D$140,3))))))*-1>0,ROUNDDOWN(((F93-G93)/(((VLOOKUP(B93,'Growth Rates'!$B$11:$O$140,($B$1+2),FALSE)))-(((I$7/VLOOKUP(B93,'Paddock Names'!$B$11:$D$140,3))))))*-1,0),VALUE(CONCATENATE("01/",$B$1+1,"/",'Group Name and Year'!$E$14))-VALUE(CONCATENATE("01/",$B$1,"/",'Group Name and Year'!$E$14))))) -> #DIV/0! | E93: =IF(SUM(I93:AM93)>0,SUM(I93:AM93)," ") | G93: =VLOOKUP(B93,'Herbage Mass Residual'!$B$11:$O$140,($B$1+2),FALSE) -> 2200 | H93: =($F$7/VLOOKUP(B93,'Paddock Names'!$B$11:$D$140,3))*(SUM(I93:AM93)/31) -> #DIV/0!
B94: =B93+0.5 -> 42.5 | I94: =F93+(VLOOKUP(B93,'Growth Rates'!$B$11:$O$140,($B$1+2),FALSE))-(I93*(I$7/VLOOKUP(B93,'Paddock Names'!$B$11:$D$140,3))) -> #DIV/0! | J94: =I94+(VLOOKUP($B93,'Growth Rates'!$B$11:$O$140,($B$1+2),FALSE))-(J93*(J$7/VLOOKUP($B93,'Paddock Names'!$B$11:$D$140,3))) -> #DIV/0! | K94: =J94+(VLOOKUP($B93,'Growth Rates'!$B$11:$O$140,($B$1+2),FALSE))-(K93*(K$7/VLOOKUP($B93,'Paddock Names'!$B$11:$D$140,3))) -> #DIV/0! | L94: =K94+(VLOOKUP($B93,'Growth Rates'!$B$11:$O$140,($B$1+2),FALSE))-(L93*(L$7/VLOOKUP($B93,'Paddock Names'!$B$11:$D$140,3))) -> #DIV/0! | M94: =L94+(VLOOKUP($B93,'Growth Rates'!$B$11:$O$140,($B$1+2),FALSE))-(M93*(M$7/VLOOKUP($B93,'Paddock Names'!$B$11:$D$140,3))) -> #DIV/0! | N94: =M94+(VLOOKUP($B93,'Growth Rates'!$B$11:$O$140,($B$1+2),FALSE))-(N93*(N$7/VLOOKUP($B93,'Paddock Names'!$B$11:$D$140,3))) -> #DIV/0! | O94: =N94+(VLOOKUP($B93,'Growth Rates'!$B$11:$O$140,($B$1+2),FALSE))-(O93*(O$7/VLOOKUP($B93,'Paddock Names'!$B$11:$D$140,3))) -> #DIV/0! | P94: =O94+(VLOOKUP($B93,'Growth Rates'!$B$11:$O$140,($B$1+2),FALSE))-(P93*(P$7/VLOOKUP($B93,'Paddock Names'!$B$11:$D$140,3))) -> #DIV/0! | Q94: =P94+(VLOOKUP($B93,'Growth Rates'!$B$11:$O$140,($B$1+2),FALSE))-(Q93*(Q$7/VLOOKUP($B93,'Paddock Names'!$B$11:$D$140,3))) -> #DIV/0! | ... AM94: =AL94+(VLOOKUP($B93,'Growth Rates'!$B$11:$O$140,($B$1+2),FALSE))-(AM93*(AM$7/VLOOKUP($B93,'Paddock Names'!$B$11:$D$140,3))) -> #DIV/0!
B95: =B94+0.5 -> 43 | C95: =IF(VLOOKUP(B95,'Paddock Names'!$B$11:$C$140,2)>0,VLOOKUP(B95,'Paddock Names'!$B$11:$C$140,2),"") | D95: =IF(((F95-G95)/(((VLOOKUP(B95,'Growth Rates'!$B$11:$O$140,($B$1+2),FALSE)))+0.001-(((I$7/VLOOKUP(B95,'Paddock Names'!$B$11:$D$140,3))))))*-1>(VALUE(CONCATENATE("01/",$B$1+1,"/",'Group Name and Year'!$E$14))-VALUE(CONCATENATE("01/",$B$1,"/",'Group Name and Year'!$E$14))),(VALUE(CONCATENATE("01/",$B$1+1,"/",'Group Name and Year'!$E$14))-VALUE(CONCATENATE("01/",$B$1,"/",'Group Name and Year'!$E$14))),(IF(((F95-G95)/(((VLOOKUP(B95,'Growth Rates'!$B$11:$O$140,($B$1+2),FALSE)))+0.001-(((I$7/VLOOKUP(B95,'Paddock Names'!$B$11:$D$140,3))))))*-1>0,ROUNDDOWN(((F95-G95)/(((VLOOKUP(B95,'Growth Rates'!$B$11:$O$140,($B$1+2),FALSE)))-(((I$7/VLOOKUP(B95,'Paddock Names'!$B$11:$D$140,3))))))*-1,0),VALUE(CONCATENATE("01/",$B$1+1,"/",'Group Name and Year'!$E$14))-VALUE(CONCATENATE("01/",$B$1,"/",'Group Name and Year'!$E$14))))) -> #DIV/0! | E95: =IF(SUM(I95:AM95)>0,SUM(I95:AM95)," ") | G95: =VLOOKUP(B95,'Herbage Mass Residual'!$B$11:$O$140,($B$1+2),FALSE) -> 2200 | H95: =($F$7/VLOOKUP(B95,'Paddock Names'!$B$11:$D$140,3))*(SUM(I95:AM95)/31) -> #DIV/0!
B96: =B95+0.5 -> 43.5 | I96: =F95+(VLOOKUP(B95,'Growth Rates'!$B$11:$O$140,($B$1+2),FALSE))-(I95*(I$7/VLOOKUP(B95,'Paddock Names'!$B$11:$D$140,3))) -> #DIV/0! | J96: =I96+(VLOOKUP($B95,'Growth Rates'!$B$11:$O$140,($B$1+2),FALSE))-(J95*(J$7/VLOOKUP($B95,'Paddock Names'!$B$11:$D$140,3))) -> #DIV/0! | K96: =J96+(VLOOKUP($B95,'Growth Rates'!$B$11:$O$140,($B$1+2),FALSE))-(K95*(K$7/VLOOKUP($B95,'Paddock Names'!$B$11:$D$140,3))) -> #DIV/0! | L96: =K96+(VLOOKUP($B95,'Growth Rates'!$B$11:$O$140,($B$1+2),FALSE))-(L95*(L$7/VLOOKUP($B95,'Paddock Names'!$B$11:$D$140,3))) -> #DIV/0! | M96: =L96+(VLOOKUP($B95,'Growth Rates'!$B$11:$O$140,($B$1+2),FALSE))-(M95*(M$7/VLOOKUP($B95,'Paddock Names'!$B$11:$D$140,3))) -> #DIV/0! | N96: =M96+(VLOOKUP($B95,'Growth Rates'!$B$11:$O$140,($B$1+2),FALSE))-(N95*(N$7/VLOOKUP($B95,'Paddock Names'!$B$11:$D$140,3))) -> #DIV/0! | O96: =N96+(VLOOKUP($B95,'Growth Rates'!$B$11:$O$140,($B$1+2),FALSE))-(O95*(O$7/VLOOKUP($B95,'Paddock Names'!$B$11:$D$140,3))) -> #DIV/0! | P96: =O96+(VLOOKUP($B95,'Growth Rates'!$B$11:$O$140,($B$1+2),FALSE))-(P95*(P$7/VLOOKUP($B95,'Paddock Names'!$B$11:$D$140,3))) -> #DIV/0! | Q96: =P96+(VLOOKUP($B95,'Growth Rates'!$B$11:$O$140,($B$1+2),FALSE))-(Q95*(Q$7/VLOOKUP($B95,'Paddock Names'!$B$11:$D$140,3))) -> #DIV/0! | ... AM96: =AL96+(VLOOKUP($B95,'Growth Rates'!$B$11:$O$140,($B$1+2),FALSE))-(AM95*(AM$7/VLOOKUP($B95,'Paddock Names'!$B$11:$D$140,3))) -> #DIV/0!
B97: =B96+0.5 -> 44 | C97: =IF(VLOOKUP(B97,'Paddock Names'!$B$11:$C$140,2)>0,VLOOKUP(B97,'Paddock Names'!$B$11:$C$140,2),"") | D97: =IF(((F97-G97)/(((VLOOKUP(B97,'Growth Rates'!$B$11:$O$140,($B$1+2),FALSE)))+0.001-(((I$7/VLOOKUP(B97,'Paddock Names'!$B$11:$D$140,3))))))*-1>(VALUE(CONCATENATE("01/",$B$1+1,"/",'Group Name and Year'!$E$14))-VALUE(CONCATENATE("01/",$B$1,"/",'Group Name and Year'!$E$14))),(VALUE(CONCATENATE("01/",$B$1+1,"/",'Group Name and Year'!$E$14))-VALUE(CONCATENATE("01/",$B$1,"/",'Group Name and Year'!$E$14))),(IF(((F97-G97)/(((VLOOKUP(B97,'Growth Rates'!$B$11:$O$140,($B$1+2),FALSE)))+0.001-(((I$7/VLOOKUP(B97,'Paddock Names'!$B$11:$D$140,3))))))*-1>0,ROUNDDOWN(((F97-G97)/(((VLOOKUP(B97,'Growth Rates'!$B$11:$O$140,($B$1+2),FALSE)))-(((I$7/VLOOKUP(B97,'Paddock Names'!$B$11:$D$140,3))))))*-1,0),VALUE(CONCATENATE("01/",$B$1+1,"/",'Group Name and Year'!$E$14))-VALUE(CONCATENATE("01/",$B$1,"/",'Group Name and Year'!$E$14))))) -> #DIV/0! | E97: =IF(SUM(I97:AM97)>0,SUM(I97:AM97)," ") | G97: =VLOOKUP(B97,'Herbage Mass Residual'!$B$11:$O$140,($B$1+2),FALSE) -> 2200 | H97: =($F$7/VLOOKUP(B97,'Paddock Names'!$B$11:$D$140,3))*(SUM(I97:AM97)/31) -> #DIV/0!
B98: =B97+0.5 -> 44.5 | I98: =F97+(VLOOKUP(B97,'Growth Rates'!$B$11:$O$140,($B$1+2),FALSE))-(I97*(I$7/VLOOKUP(B97,'Paddock Names'!$B$11:$D$140,3))) -> #DIV/0! | J98: =I98+(VLOOKUP($B97,'Growth Rates'!$B$11:$O$140,($B$1+2),FALSE))-(J97*(J$7/VLOOKUP($B97,'Paddock Names'!$B$11:$D$140,3))) -> #DIV/0! | K98: =J98+(VLOOKUP($B97,'Growth Rates'!$B$11:$O$140,($B$1+2),FALSE))-(K97*(K$7/VLOOKUP($B97,'Paddock Names'!$B$11:$D$140,3))) -> #DIV/0! | L98: =K98+(VLOOKUP($B97,'Growth Rates'!$B$11:$O$140,($B$1+2),FALSE))-(L97*(L$7/VLOOKUP($B97,'Paddock Names'!$B$11:$D$140,3))) -> #DIV/0! | M98: =L98+(VLOOKUP($B97,'Growth Rates'!$B$11:$O$140,($B$1+2),FALSE))-(M97*(M$7/VLOOKUP($B97,'Paddock Names'!$B$11:$D$140,3))) -> #DIV/0! | N98: =M98+(VLOOKUP($B97,'Growth Rates'!$B$11:$O$140,($B$1+2),FALSE))-(N97*(N$7/VLOOKUP($B97,'Paddock Names'!$B$11:$D$140,3))) -> #DIV/0! | O98: =N98+(VLOOKUP($B97,'Growth Rates'!$B$11:$O$140,($B$1+2),FALSE))-(O97*(O$7/VLOOKUP($B97,'Paddock Names'!$B$11:$D$140,3))) -> #DIV/0! | P98: =O98+(VLOOKUP($B97,'Growth Rates'!$B$11:$O$140,($B$1+2),FALSE))-(P97*(P$7/VLOOKUP($B97,'Paddock Names'!$B$11:$D$140,3))) -> #DIV/0! | Q98: =P98+(VLOOKUP($B97,'Growth Rates'!$B$11:$O$140,($B$1+2),FALSE))-(Q97*(Q$7/VLOOKUP($B97,'Paddock Names'!$B$11:$D$140,3))) -> #DIV/0! | ... AM98: =AL98+(VLOOKUP($B97,'Growth Rates'!$B$11:$O$140,($B$1+2),FALSE))-(AM97*(AM$7/VLOOKUP($B97,'Paddock Names'!$B$11:$D$140,3))) -> #DIV/0!
B99: =B98+0.5 -> 45 | C99: =IF(VLOOKUP(B99,'Paddock Names'!$B$11:$C$140,2)>0,VLOOKUP(B99,'Paddock Names'!$B$11:$C$140,2),"") | D99: =IF(((F99-G99)/(((VLOOKUP(B99,'Growth Rates'!$B$11:$O$140,($B$1+2),FALSE)))+0.001-(((I$7/VLOOKUP(B99,'Paddock Names'!$B$11:$D$140,3))))))*-1>(VALUE(CONCATENATE("01/",$B$1+1,"/",'Group Name and Year'!$E$14))-VALUE(CONCATENATE("01/",$B$1,"/",'Group Name and Year'!$E$14))),(VALUE(CONCATENATE("01/",$B$1+1,"/",'Group Name and Year'!$E$14))-VALUE(CONCATENATE("01/",$B$1,"/",'Group Name and Year'!$E$14))),(IF(((F99-G99)/(((VLOOKUP(B99,'Growth Rates'!$B$11:$O$140,($B$1+2),FALSE)))+0.001-(((I$7/VLOOKUP(B99,'Paddock Names'!$B$11:$D$140,3))))))*-1>0,ROUNDDOWN(((F99-G99)/(((VLOOKUP(B99,'Growth Rates'!$B$11:$O$140,($B$1+2),FALSE)))-(((I$7/VLOOKUP(B99,'Paddock Names'!$B$11:$D$140,3))))))*-1,0),VALUE(CONCATENATE("01/",$B$1+1,"/",'Group Name and Year'!$E$14))-VALUE(CONCATENATE("01/",$B$1,"/",'Group Name and Year'!$E$14))))) -> #DIV/0! | E99: =IF(SUM(I99:AM99)>0,SUM(I99:AM99)," ") | G99: =VLOOKUP(B99,'Herbage Mass Residual'!$B$11:$O$140,($B$1+2),FALSE) -> 2200 | H99: =($F$7/VLOOKUP(B99,'Paddock Names'!$B$11:$D$140,3))*(SUM(I99:AM99)/31) -> #DIV/0!
B100: =B99+0.5 -> 45.5 | I100: =F99+(VLOOKUP(B99,'Growth Rates'!$B$11:$O$140,($B$1+2),FALSE))-(I99*(I$7/VLOOKUP(B99,'Paddock Names'!$B$11:$D$140,3))) -> #DIV/0! | J100: =I100+(VLOOKUP($B99,'Growth Rates'!$B$11:$O$140,($B$1+2),FALSE))-(J99*(J$7/VLOOKUP($B99,'Paddock Names'!$B$11:$D$140,3))) -> #DIV/0! | K100: =J100+(VLOOKUP($B99,'Growth Rates'!$B$11:$O$140,($B$1+2),FALSE))-(K99*(K$7/VLOOKUP($B99,'Paddock Names'!$B$11:$D$140,3))) -> #DIV/0! | L100: =K100+(VLOOKUP($B99,'Growth Rates'!$B$11:$O$140,($B$1+2),FALSE))-(L99*(L$7/VLOOKUP($B99,'Paddock Names'!$B$11:$D$140,3))) -> #DIV/0! | M100: =L100+(VLOOKUP($B99,'Growth Rates'!$B$11:$O$140,($B$1+2),FALSE))-(M99*(M$7/VLOOKUP($B99,'Paddock Names'!$B$11:$D$140,3))) -> #DIV/0! | N100: =M100+(VLOOKUP($B99,'Growth Rates'!$B$11:$O$140,($B$1+2),FALSE))-(N99*(N$7/VLOOKUP($B99,'Paddock Names'!$B$11:$D$140,3))) -> #DIV/0! | O100: =N100+(VLOOKUP($B99,'Growth Rates'!$B$11:$O$140,($B$1+2),FALSE))-(O99*(O$7/VLOOKUP($B99,'Paddock Names'!$B$11:$D$140,3))) -> #DIV/0! | P100: =O100+(VLOOKUP($B99,'Growth Rates'!$B$11:$O$140,($B$1+2),FALSE))-(P99*(P$7/VLOOKUP($B99,'Paddock Names'!$B$11:$D$140,3))) -> #DIV/0! | Q100: =P100+(VLOOKUP($B99,'Growth Rates'!$B$11:$O$140,($B$1+2),FALSE))-(Q99*(Q$7/VLOOKUP($B99,'Paddock Names'!$B$11:$D$140,3))) -> #DIV/0! | ... AM100: =AL100+(VLOOKUP($B99,'Growth Rates'!$B$11:$O$140,($B$1+2),FALSE))-(AM99*(AM$7/VLOOKUP($B99,'Paddock Names'!$B$11:$D$140,3))) -> #DIV/0!
B101: =B100+0.5 -> 46 | C101: =IF(VLOOKUP(B101,'Paddock Names'!$B$11:$C$140,2)>0,VLOOKUP(B101,'Paddock Names'!$B$11:$C$140,2),"") | D101: =IF(((F101-G101)/(((VLOOKUP(B101,'Growth Rates'!$B$11:$O$140,($B$1+2),FALSE)))+0.001-(((I$7/VLOOKUP(B101,'Paddock Names'!$B$11:$D$140,3))))))*-1>(VALUE(CONCATENATE("01/",$B$1+1,"/",'Group Name and Year'!$E$14))-VALUE(CONCATENATE("01/",$B$1,"/",'Group Name and Year'!$E$14))),(VALUE(CONCATENATE("01/",$B$1+1,"/",'Group Name and Year'!$E$14))-VALUE(CONCATENATE("01/",$B$1,"/",'Group Name and Year'!$E$14))),(IF(((F101-G101)/(((VLOOKUP(B101,'Growth Rates'!$B$11:$O$140,($B$1+2),FALSE)))+0.001-(((I$7/VLOOKUP(B101,'Paddock Names'!$B$11:$D$140,3))))))*-1>0,ROUNDDOWN(((F101-G101)/(((VLOOKUP(B101,'Growth Rates'!$B$11:$O$140,($B$1+2),FALSE)))-(((I$7/VLOOKUP(B101,'Paddock Names'!$B$11:$D$140,3))))))*-1,0),VALUE(CONCATENATE("01/",$B$1+1,"/",'Group Name and Year'!$E$14))-VALUE(CONCATENATE("01/",$B$1,"/",'Group Name and Year'!$E$14))))) -> #DIV/0! | E101: =IF(SUM(I101:AM101)>0,SUM(I101:AM101)," ") | G101: =VLOOKUP(B101,'Herbage Mass Residual'!$B$11:$O$140,($B$1+2),FALSE) -> 2200 | H101: =($F$7/VLOOKUP(B101,'Paddock Names'!$B$11:$D$140,3))*(SUM(I101:AM101)/31) -> #DIV/0!
B102: =B101+0.5 -> 46.5 | I102: =F101+(VLOOKUP(B101,'Growth Rates'!$B$11:$O$140,($B$1+2),FALSE))-(I101*(I$7/VLOOKUP(B101,'Paddock Names'!$B$11:$D$140,3))) -> #DIV/0! | J102: =I102+(VLOOKUP($B101,'Growth Rates'!$B$11:$O$140,($B$1+2),FALSE))-(J101*(J$7/VLOOKUP($B101,'Paddock Names'!$B$11:$D$140,3))) -> #DIV/0! | K102: =J102+(VLOOKUP($B101,'Growth Rates'!$B$11:$O$140,($B$1+2),FALSE))-(K101*(K$7/VLOOKUP($B101,'Paddock Names'!$B$11:$D$140,3))) -> #DIV/0! | L102: =K102+(VLOOKUP($B101,'Growth Rates'!$B$11:$O$140,($B$1+2),FALSE))-(L101*(L$7/VLOOKUP($B101,'Paddock Names'!$B$11:$D$140,3))) -> #DIV/0! | M102: =L102+(VLOOKUP($B101,'Growth Rates'!$B$11:$O$140,($B$1+2),FALSE))-(M101*(M$7/VLOOKUP($B101,'Paddock Names'!$B$11:$D$140,3))) -> #DIV/0! | N102: =M102+(VLOOKUP($B101,'Growth Rates'!$B$11:$O$140,($B$1+2),FALSE))-(N101*(N$7/VLOOKUP($B101,'Paddock Names'!$B$11:$D$140,3))) -> #DIV/0! | O102: =N102+(VLOOKUP($B101,'Growth Rates'!$B$11:$O$140,($B$1+2),FALSE))-(O101*(O$7/VLOOKUP($B101,'Paddock Names'!$B$11:$D$140,3))) -> #DIV/0! | P102: =O102+(VLOOKUP($B101,'Growth Rates'!$B$11:$O$140,($B$1+2),FALSE))-(P101*(P$7/VLOOKUP($B101,'Paddock Names'!$B$11:$D$140,3))) -> #DIV/0! | Q102: =P102+(VLOOKUP($B101,'Growth Rates'!$B$11:$O$140,($B$1+2),FALSE))-(Q101*(Q$7/VLOOKUP($B101,'Paddock Names'!$B$11:$D$140,3))) -> #DIV/0! | ... AM102: =AL102+(VLOOKUP($B101,'Growth Rates'!$B$11:$O$140,($B$1+2),FALSE))-(AM101*(AM$7/VLOOKUP($B101,'Paddock Names'!$B$11:$D$140,3))) -> #DIV/0!
B103: =B102+0.5 -> 47 | C103: =IF(VLOOKUP(B103,'Paddock Names'!$B$11:$C$140,2)>0,VLOOKUP(B103,'Paddock Names'!$B$11:$C$140,2),"") | D103: =IF(((F103-G103)/(((VLOOKUP(B103,'Growth Rates'!$B$11:$O$140,($B$1+2),FALSE)))+0.001-(((I$7/VLOOKUP(B103,'Paddock Names'!$B$11:$D$140,3))))))*-1>(VALUE(CONCATENATE("01/",$B$1+1,"/",'Group Name and Year'!$E$14))-VALUE(CONCATENATE("01/",$B$1,"/",'Group Name and Year'!$E$14))),(VALUE(CONCATENATE("01/",$B$1+1,"/",'Group Name and Year'!$E$14))-VALUE(CONCATENATE("01/",$B$1,"/",'Group Name and Year'!$E$14))),(IF(((F103-G103)/(((VLOOKUP(B103,'Growth Rates'!$B$11:$O$140,($B$1+2),FALSE)))+0.001-(((I$7/VLOOKUP(B103,'Paddock Names'!$B$11:$D$140,3))))))*-1>0,ROUNDDOWN(((F103-G103)/(((VLOOKUP(B103,'Growth Rates'!$B$11:$O$140,($B$1+2),FALSE)))-(((I$7/VLOOKUP(B103,'Paddock Names'!$B$11:$D$140,3))))))*-1,0),VALUE(CONCATENATE("01/",$B$1+1,"/",'Group Name and Year'!$E$14))-VALUE(CONCATENATE("01/",$B$1,"/",'Group Name and Year'!$E$14))))) -> #DIV/0! | E103: =IF(SUM(I103:AM103)>0,SUM(I103:AM103)," ") | G103: =VLOOKUP(B103,'Herbage Mass Residual'!$B$11:$O$140,($B$1+2),FALSE) -> 2200 | H103: =($F$7/VLOOKUP(B103,'Paddock Names'!$B$11:$D$140,3))*(SUM(I103:AM103)/31) -> #DIV/0!
B104: =B103+0.5 -> 47.5 | I104: =F103+(VLOOKUP(B103,'Growth Rates'!$B$11:$O$140,($B$1+2),FALSE))-(I103*(I$7/VLOOKUP(B103,'Paddock Names'!$B$11:$D$140,3))) -> #DIV/0! | J104: =I104+(VLOOKUP($B103,'Growth Rates'!$B$11:$O$140,($B$1+2),FALSE))-(J103*(J$7/VLOOKUP($B103,'Paddock Names'!$B$11:$D$140,3))) -> #DIV/0! | K104: =J104+(VLOOKUP($B103,'Growth Rates'!$B$11:$O$140,($B$1+2),FALSE))-(K103*(K$7/VLOOKUP($B103,'Paddock Names'!$B$11:$D$140,3))) -> #DIV/0! | L104: =K104+(VLOOKUP($B103,'Growth Rates'!$B$11:$O$140,($B$1+2),FALSE))-(L103*(L$7/VLOOKUP($B103,'Paddock Names'!$B$11:$D$140,3))) -> #DIV/0! | M104: =L104+(VLOOKUP($B103,'Growth Rates'!$B$11:$O$140,($B$1+2),FALSE))-(M103*(M$7/VLOOKUP($B103,'Paddock Names'!$B$11:$D$140,3))) -> #DIV/0! | N104: =M104+(VLOOKUP($B103,'Growth Rates'!$B$11:$O$140,($B$1+2),FALSE))-(N103*(N$7/VLOOKUP($B103,'Paddock Names'!$B$11:$D$140,3))) -> #DIV/0! | O104: =N104+(VLOOKUP($B103,'Growth Rates'!$B$11:$O$140,($B$1+2),FALSE))-(O103*(O$7/VLOOKUP($B103,'Paddock Names'!$B$11:$D$140,3))) -> #DIV/0! | P104: =O104+(VLOOKUP($B103,'Growth Rates'!$B$11:$O$140,($B$1+2),FALSE))-(P103*(P$7/VLOOKUP($B103,'Paddock Names'!$B$11:$D$140,3))) -> #DIV/0! | Q104: =P104+(VLOOKUP($B103,'Growth Rates'!$B$11:$O$140,($B$1+2),FALSE))-(Q103*(Q$7/VLOOKUP($B103,'Paddock Names'!$B$11:$D$140,3))) -> #DIV/0! | ... AM104: =AL104+(VLOOKUP($B103,'Growth Rates'!$B$11:$O$140,($B$1+2),FALSE))-(AM103*(AM$7/VLOOKUP($B103,'Paddock Names'!$B$11:$D$140,3))) -> #DIV/0!
...

Sheet Feb
B1: 2
E6: ='Group Name and Year'!E14 -> 2022 | I6: =SUM(I11,I13,I15,I17,I19,I21,I23,I25,I27,I29,I31,I33,I35,I37,I39,I41,I43,I45,I47,I49,I51,I53,I55,I57,I59)+SUM(I61,I63,I65,I67,I69,I71,I73,I75,I77,I79,I81,I83,I85,I87,I89,I91,I93,I95,I97,I99,I101,I103,I105,I107,I109)+SUM(I111,I113,I115,I117,I119,I121,I123,I125,I127,I129,I131,I133,I135,I137,I139,I141,I143,I145,I147,I149,I151,I153,I155,I157,I159)+SUM(I161,I163,I165,I167,I169,I171,I173,I175,I177,I179,I181,I183,I185,I187,I189,I191,I193,I195,I197,I199,I201,I203,I205,I207,I209)+SUM(I211,I213,I215,I217,I219,I221,I223,I225,I227,I229,I231,I233,I235,I237,I239,I241,I243,I245,I247,I249,I251,I253,I255,I257,I259)+SUM(I261,I263,I265,I267,I269) -> 0 | J6: =SUM(J11,J13,J15,J17,J19,J21,J23,J25,J27,J29,J31,J33,J35,J37,J39,J41,J43,J45,J47,J49,J51,J53,J55,J57,J59)+SUM(J61,J63,J65,J67,J69,J71,J73,J75,J77,J79,J81,J83,J85,J87,J89,J91,J93,J95,J97,J99,J101,J103,J105,J107,J109)+SUM(J111,J113,J115,J117,J119,J121,J123,J125,J127,J129,J131,J133,J135,J137,J139,J141,J143,J145,J147,J149,J151,J153,J155,J157,J159)+SUM(J161,J163,J165,J167,J169,J171,J173,J175,J177,J179,J181,J183,J185,J187,J189,J191,J193,J195,J197,J199,J201,J203,J205,J207,J209)+SUM(J211,J213,J215,J217,J219,J221,J223,J225,J227,J229,J231,J233,J235,J237,J239,J241,J243,J245,J247,J249,J251,J253,J255,J257,J259)+SUM(J261,J263,J265,J267,J269) -> 0 | K6: =SUM(K11,K13,K15,K17,K19,K21,K23,K25,K27,K29,K31,K33,K35,K37,K39,K41,K43,K45,K47,K49,K51,K53,K55,K57,K59)+SUM(K61,K63,K65,K67,K69,K71,K73,K75,K77,K79,K81,K83,K85,K87,K89,K91,K93,K95,K97,K99,K101,K103,K105,K107,K109)+SUM(K111,K113,K115,K117,K119,K121,K123,K125,K127,K129,K131,K133,K135,K137,K139,K141,K143,K145,K147,K149,K151,K153,K155,K157,K159)+SUM(K161,K163,K165,K167,K169,K171,K173,K175,K177,K179,K181,K183,K185,K187,K189,K191,K193,K195,K197,K199,K201,K203,K205,K207,K209)+SUM(K211,K213,K215,K217,K219,K221,K223,K225,K227,K229,K231,K233,K235,K237,K239,K241,K243,K245,K247,K249,K251,K253,K255,K257,K259)+SUM(K261,K263,K265,K267,K269) -> 0 | L6: =SUM(L11,L13,L15,L17,L19,L21,L23,L25,L27,L29,L31,L33,L35,L37,L39,L41,L43,L45,L47,L49,L51,L53,L55,L57,L59)+SUM(L61,L63,L65,L67,L69,L71,L73,L75,L77,L79,L81,L83,L85,L87,L89,L91,L93,L95,L97,L99,L101,L103,L105,L107,L109)+SUM(L111,L113,L115,L117,L119,L121,L123,L125,L127,L129,L131,L133,L135,L137,L139,L141,L143,L145,L147,L149,L151,L153,L155,L157,L159)+SUM(L161,L163,L165,L167,L169,L171,L173,L175,L177,L179,L181,L183,L185,L187,L189,L191,L193,L195,L197,L199,L201,L203,L205,L207,L209)+SUM(L211,L213,L215,L217,L219,L221,L223,L225,L227,L229,L231,L233,L235,L237,L239,L241,L243,L245,L247,L249,L251,L253,L255,L257,L259)+SUM(L261,L263,L265,L267,L269) -> 0 | M6: =SUM(M11,M13,M15,M17,M19,M21,M23,M25,M27,M29,M31,M33,M35,M37,M39,M41,M43,M45,M47,M49,M51,M53,M55,M57,M59)+SUM(M61,M63,M65,M67,M69,M71,M73,M75,M77,M79,M81,M83,M85,M87,M89,M91,M93,M95,M97,M99,M101,M103,M105,M107,M109)+SUM(M111,M113,M115,M117,M119,M121,M123,M125,M127,M129,M131,M133,M135,M137,M139,M141,M143,M145,M147,M149,M151,M153,M155,M157,M159)+SUM(M161,M163,M165,M167,M169,M171,M173,M175,M177,M179,M181,M183,M185,M187,M189,M191,M193,M195,M197,M199,M201,M203,M205,M207,M209)+SUM(M211,M213,M215,M217,M219,M221,M223,M225,M227,M229,M231,M233,M235,M237,M239,M241,M243,M245,M247,M249,M251,M253,M255,M257,M259)+SUM(M261,M263,M265,M267,M269) -> 0 | N6: =SUM(N11,N13,N15,N17,N19,N21,N23,N25,N27,N29,N31,N33,N35,N37,N39,N41,N43,N45,N47,N49,N51,N53,N55,N57,N59)+SUM(N61,N63,N65,N67,N69,N71,N73,N75,N77,N79,N81,N83,N85,N87,N89,N91,N93,N95,N97,N99,N101,N103,N105,N107,N109)+SUM(N111,N113,N115,N117,N119,N121,N123,N125,N127,N129,N131,N133,N135,N137,N139,N141,N143,N145,N147,N149,N151,N153,N155,N157,N159)+SUM(N161,N163,N165,N167,N169,N171,N173,N175,N177,N179,N181,N183,N185,N187,N189,N191,N193,N195,N197,N199,N201,N203,N205,N207,N209)+SUM(N211,N213,N215,N217,N219,N221,N223,N225,N227,N229,N231,N233,N235,N237,N239,N241,N243,N245,N247,N249,N251,N253,N255,N257,N259)+SUM(N261,N263,N265,N267,N269) -> 0 | O6: =SUM(O11,O13,O15,O17,O19,O21,O23,O25,O27,O29,O31,O33,O35,O37,O39,O41,O43,O45,O47,O49,O51,O53,O55,O57,O59)+SUM(O61,O63,O65,O67,O69,O71,O73,O75,O77,O79,O81,O83,O85,O87,O89,O91,O93,O95,O97,O99,O101,O103,O105,O107,O109)+SUM(O111,O113,O115,O117,O119,O121,O123,O125,O127,O129,O131,O133,O135,O137,O139,O141,O143,O145,O147,O149,O151,O153,O155,O157,O159)+SUM(O161,O163,O165,O167,O169,O171,O173,O175,O177,O179,O181,O183,O185,O187,O189,O191,O193,O195,O197,O199,O201,O203,O205,O207,O209)+SUM(O211,O213,O215,O217,O219,O221,O223,O225,O227,O229,O231,O233,O235,O237,O239,O241,O243,O245,O247,O249,O251,O253,O255,O257,O259)+SUM(O261,O263,O265,O267,O269) -> 0 | P6: =SUM(P11,P13,P15,P17,P19,P21,P23,P25,P27,P29,P31,P33,P35,P37,P39,P41,P43,P45,P47,P49,P51,P53,P55,P57,P59)+SUM(P61,P63,P65,P67,P69,P71,P73,P75,P77,P79,P81,P83,P85,P87,P89,P91,P93,P95,P97,P99,P101,P103,P105,P107,P109)+SUM(P111,P113,P115,P117,P119,P121,P123,P125,P127,P129,P131,P133,P135,P137,P139,P141,P143,P145,P147,P149,P151,P153,P155,P157,P159)+SUM(P161,P163,P165,P167,P169,P171,P173,P175,P177,P179,P181,P183,P185,P187,P189,P191,P193,P195,P197,P199,P201,P203,P205,P207,P209)+SUM(P211,P213,P215,P217,P219,P221,P223,P225,P227,P229,P231,P233,P235,P237,P239,P241,P243,P245,P247,P249,P251,P253,P255,P257,P259)+SUM(P261,P263,P265,P267,P269) -> 0 | ... AK6: =SUM(AK11,AK13,AK15,AK17,AK19,AK21,AK23,AK25,AK27,AK29,AK31,AK33,AK35,AK37,AK39,AK41,AK43,AK45,AK47,AK49,AK51,AK53,AK55,AK57,AK59)+SUM(AK61,AK63,AK65,AK67,AK69,AK71,AK73,AK75,AK77,AK79,AK81,AK83,AK85,AK87,AK89,AK91,AK93,AK95,AK97,AK99,AK101,AK103,AK105,AK107,AK109)+SUM(AK111,AK113,AK115,AK117,AK119,AK121,AK123,AK125,AK127,AK129,AK131,AK133,AK135,AK137,AK139,AK141,AK143,AK145,AK147,AK149,AK151,AK153,AK155,AK157,AK159)+SUM(AK161,AK163,AK165,AK167,AK169,AK171,AK173,AK175,AK177,AK179,AK181,AK183,AK185,AK187,AK189,AK191,AK193,AK195,AK197,AK199,AK201,AK203,AK205,AK207,AK209)+SUM(AK211,AK213,AK215,AK217,AK219,AK221,AK223,AK225,AK227,AK229,AK231,AK233,AK235,AK237,AK239,AK241,AK243,AK245,AK247,AK249,AK251,AK253,AK255,AK257,AK259)+SUM(AK261,AK263,AK265,AK267,AK269) -> 0
C7: ='Group Name and Year'!E8 -> 0 | D7: Starting DSE | F7: =Jan!AM7 -> 0 | H7: Stocking Rate | I7: =F7 -> 0 | J7: =I7 -> 0 | K7: =J7 -> 0 | L7: =K7 -> 0 | M7: =L7 -> 0 | N7: =M7 -> 0 | O7: =N7 -> 0 | P7: =O7 -> 0 | Q7: =P7 -> 0 | ... AK7: =AJ7 -> 0
C8: February | D8: Rainfall | E8: =IF(SUM(I8:AK8)>0,SUM(I8:AK8),"") | F8: (millimetres)
C9: on | D9: Grazing Days | F9: Herbage Mass | I9: =I10 -> 44593 | J9: =I10+1 -> 44594 | K9: =J10+1 -> 44595 | L9: =K10+1 -> 44596 | M9: =L10+1 -> 44597 | N9: =M10+1 -> 44598 | O9: =N10+1 -> 44599 | P9: =O10+1 -> 44600 | Q9: =P10+1 -> 44601 | ... AK9: =AJ10+1 -> 44621
B10: index | C10: Paddock | D10: Max | E10: Current | F10: Start | G10: Residual | I10: =VALUE(CONCATENATE("01/",B1,"/",'Group Name and Year'!E14)) -> 44593 | J10: =I10+1 -> 44594 | K10: =J10+1 -> 44595 | L10: =K10+1 -> 44596 | M10: =L10+1 -> 44597 | N10: =M10+1 -> 44598 | O10: =N10+1 -> 44599 | P10: =O10+1 -> 44600 | Q10: =P10+1 -> 44601 | ... AK10: =AJ10+1 -> 44621
B11: 1 | C11: =IF(VLOOKUP(B11,'Paddock Names'!$B$11:$C$140,2)>0,VLOOKUP(B11,'Paddock Names'!$B$11:$C$140,2),"") | D11: =IF(((F11-G11)/(((VLOOKUP(B11,'Growth Rates'!$B$11:$O$140,($B$1+2),FALSE)))+0.001-(((I$7/VLOOKUP(B11,'Paddock Names'!$B$11:$D$140,3))))))*-1>(VALUE(CONCATENATE("01/",$B$1+1,"/",'Group Name and Year'!$E$14))-VALUE(CONCATENATE("01/",$B$1,"/",'Group Name and Year'!$E$14))),(VALUE(CONCATENATE("01/",$B$1+1,"/",'Group Name and Year'!$E$14))-VALUE(CONCATENATE("01/",$B$1,"/",'Group Name and Year'!$E$14))),(IF(((F11-G11)/(((VLOOKUP(B11,'Growth Rates'!$B$11:$O$140,($B$1+2),FALSE)))+0.001-(((I$7/VLOOKUP(B11,'Paddock Names'!$B$11:$D$140,3))))))*-1>0,ROUNDDOWN(((F11-G11)/(((VLOOKUP(B11,'Growth Rates'!$B$11:$O$140,($B$1+2),FALSE)))-(((I$7/VLOOKUP(B11,'Paddock Names'!$B$11:$D$140,3))))))*-1,0),VALUE(CONCATENATE("01/",$B$1+1,"/",'Group Name and Year'!$E$14))-VALUE(CONCATENATE("01/",$B$1,"/",'Group Name and Year'!$E$14))))) -> #DIV/0! | E11: =IF(SUM(I11:AK11)>0,SUM(I11:AK11)," ") | F11: =Jan!AM12 -> #DIV/0! | G11: =VLOOKUP(B11,'Herbage Mass Residual'!$B$11:$O$140,($B$1+2),FALSE) -> 2500 | H11: =($F$7/VLOOKUP(B11,'Paddock Names'!$B$11:$D$140,3))*(SUM(I11:AK11)/31) -> #DIV/0!
B12: =B11+0.5 -> 1.5 | I12: =F11+(VLOOKUP(B11,'Growth Rates'!$B$11:$O$140,($B$1+2),FALSE))-(I11*(I$7/VLOOKUP(B11,'Paddock Names'!$B$11:$D$140,3))) -> #DIV/0! | J12: =I12+(VLOOKUP($B11,'Growth Rates'!$B$11:$O$140,($B$1+2),FALSE))-(J11*(J$7/VLOOKUP($B11,'Paddock Names'!$B$11:$D$140,3))) -> #DIV/0! | K12: =J12+(VLOOKUP($B11,'Growth Rates'!$B$11:$O$140,($B$1+2),FALSE))-(K11*(K$7/VLOOKUP($B11,'Paddock Names'!$B$11:$D$140,3))) -> #DIV/0! | L12: =K12+(VLOOKUP($B11,'Growth Rates'!$B$11:$O$140,($B$1+2),FALSE))-(L11*(L$7/VLOOKUP($B11,'Paddock Names'!$B$11:$D$140,3))) -> #DIV/0! | M12: =L12+(VLOOKUP($B11,'Growth Rates'!$B$11:$O$140,($B$1+2),FALSE))-(M11*(M$7/VLOOKUP($B11,'Paddock Names'!$B$11:$D$140,3))) -> #DIV/0! | N12: =M12+(VLOOKUP($B11,'Growth Rates'!$B$11:$O$140,($B$1+2),FALSE))-(N11*(N$7/VLOOKUP($B11,'Paddock Names'!$B$11:$D$140,3))) -> #DIV/0! | O12: =N12+(VLOOKUP($B11,'Growth Rates'!$B$11:$O$140,($B$1+2),FALSE))-(O11*(O$7/VLOOKUP($B11,'Paddock Names'!$B$11:$D$140,3))) -> #DIV/0! | P12: =O12+(VLOOKUP($B11,'Growth Rates'!$B$11:$O$140,($B$1+2),FALSE))-(P11*(P$7/VLOOKUP($B11,'Paddock Names'!$B$11:$D$140,3))) -> #DIV/0! | Q12: =P12+(VLOOKUP($B11,'Growth Rates'!$B$11:$O$140,($B$1+2),FALSE))-(Q11*(Q$7/VLOOKUP($B11,'Paddock Names'!$B$11:$D$140,3))) -> #DIV/0! | ... AK12: =AJ12+(VLOOKUP($B11,'Growth Rates'!$B$11:$O$140,($B$1+2),FALSE))-(AK11*(AK$7/VLOOKUP($B11,'Paddock Names'!$B$11:$D$140,3))) -> #DIV/0!
B13: =B12+0.5 -> 2 | C13: =IF(VLOOKUP(B13,'Paddock Names'!$B$11:$C$140,2)>0,VLOOKUP(B13,'Paddock Names'!$B$11:$C$140,2),"") | D13: =IF(((F13-G13)/(((VLOOKUP(B13,'Growth Rates'!$B$11:$O$140,($B$1+2),FALSE)))+0.001-(((I$7/VLOOKUP(B13,'Paddock Names'!$B$11:$D$140,3))))))*-1>(VALUE(CONCATENATE("01/",$B$1+1,"/",'Group Name and Year'!$E$14))-VALUE(CONCATENATE("01/",$B$1,"/",'Group Name and Year'!$E$14))),(VALUE(CONCATENATE("01/",$B$1+1,"/",'Group Name and Year'!$E$14))-VALUE(CONCATENATE("01/",$B$1,"/",'Group Name and Year'!$E$14))),(IF(((F13-G13)/(((VLOOKUP(B13,'Growth Rates'!$B$11:$O$140,($B$1+2),FALSE)))+0.001-(((I$7/VLOOKUP(B13,'Paddock Names'!$B$11:$D$140,3))))))*-1>0,ROUNDDOWN(((F13-G13)/(((VLOOKUP(B13,'Growth Rates'!$B$11:$O$140,($B$1+2),FALSE)))-(((I$7/VLOOKUP(B13,'Paddock Names'!$B$11:$D$140,3))))))*-1,0),VALUE(CONCATENATE("01/",$B$1+1,"/",'Group Name and Year'!$E$14))-VALUE(CONCATENATE("01/",$B$1,"/",'Group Name and Year'!$E$14))))) -> #DIV/0! | E13: =IF(SUM(I13:AK13)>0,SUM(I13:AK13)," ") | F13: =Jan!AM14 -> #DIV/0! | G13: =VLOOKUP(B13,'Herbage Mass Residual'!$B$11:$O$140,($B$1+2),FALSE) -> 2500 | H13: =($F$7/VLOOKUP(B13,'Paddock Names'!$B$11:$D$140,3))*(SUM(I13:AK13)/31) -> #DIV/0!
B14: =B13+0.5 -> 2.5 | I14: =F13+(VLOOKUP(B13,'Growth Rates'!$B$11:$O$140,($B$1+2),FALSE))-(I13*(I$7/VLOOKUP(B13,'Paddock Names'!$B$11:$D$140,3))) -> #DIV/0! | J14: =I14+(VLOOKUP($B13,'Growth Rates'!$B$11:$O$140,($B$1+2),FALSE))-(J13*(J$7/VLOOKUP($B13,'Paddock Names'!$B$11:$D$140,3))) -> #DIV/0! | K14: =J14+(VLOOKUP($B13,'Growth Rates'!$B$11:$O$140,($B$1+2),FALSE))-(K13*(K$7/VLOOKUP($B13,'Paddock Names'!$B$11:$D$140,3))) -> #DIV/0! | L14: =K14+(VLOOKUP($B13,'Growth Rates'!$B$11:$O$140,($B$1+2),FALSE))-(L13*(L$7/VLOOKUP($B13,'Paddock Names'!$B$11:$D$140,3))) -> #DIV/0! | M14: =L14+(VLOOKUP($B13,'Growth Rates'!$B$11:$O$140,($B$1+2),FALSE))-(M13*(M$7/VLOOKUP($B13,'Paddock Names'!$B$11:$D$140,3))) -> #DIV/0! | N14: =M14+(VLOOKUP($B13,'Growth Rates'!$B$11:$O$140,($B$1+2),FALSE))-(N13*(N$7/VLOOKUP($B13,'Paddock Names'!$B$11:$D$140,3))) -> #DIV/0! | O14: =N14+(VLOOKUP($B13,'Growth Rates'!$B$11:$O$140,($B$1+2),FALSE))-(O13*(O$7/VLOOKUP($B13,'Paddock Names'!$B$11:$D$140,3))) -> #DIV/0! | P14: =O14+(VLOOKUP($B13,'Growth Rates'!$B$11:$O$140,($B$1+2),FALSE))-(P13*(P$7/VLOOKUP($B13,'Paddock Names'!$B$11:$D$140,3))) -> #DIV/0! | Q14: =P14+(VLOOKUP($B13,'Growth Rates'!$B$11:$O$140,($B$1+2),FALSE))-(Q13*(Q$7/VLOOKUP($B13,'Paddock Names'!$B$11:$D$140,3))) -> #DIV/0! | ... AK14: =AJ14+(VLOOKUP($B13,'Growth Rates'!$B$11:$O$140,($B$1+2),FALSE))-(AK13*(AK$7/VLOOKUP($B13,'Paddock Names'!$B$11:$D$140,3))) -> #DIV/0!
B15: =B14+0.5 -> 3 | C15: =IF(VLOOKUP(B15,'Paddock Names'!$B$11:$C$140,2)>0,VLOOKUP(B15,'Paddock Names'!$B$11:$C$140,2),"") | D15: =IF(((F15-G15)/(((VLOOKUP(B15,'Growth Rates'!$B$11:$O$140,($B$1+2),FALSE)))+0.001-(((I$7/VLOOKUP(B15,'Paddock Names'!$B$11:$D$140,3))))))*-1>(VALUE(CONCATENATE("01/",$B$1+1,"/",'Group Name and Year'!$E$14))-VALUE(CONCATENATE("01/",$B$1,"/",'Group Name and Year'!$E$14))),(VALUE(CONCATENATE("01/",$B$1+1,"/",'Group Name and Year'!$E$14))-VALUE(CONCATENATE("01/",$B$1,"/",'Group Name and Year'!$E$14))),(IF(((F15-G15)/(((VLOOKUP(B15,'Growth Rates'!$B$11:$O$140,($B$1+2),FALSE)))+0.001-(((I$7/VLOOKUP(B15,'Paddock Names'!$B$11:$D$140,3))))))*-1>0,ROUNDDOWN(((F15-G15)/(((VLOOKUP(B15,'Growth Rates'!$B$11:$O$140,($B$1+2),FALSE)))-(((I$7/VLOOKUP(B15,'Paddock Names'!$B$11:$D$140,3))))))*-1,0),VALUE(CONCATENATE("01/",$B$1+1,"/",'Group Name and Year'!$E$14))-VALUE(CONCATENATE("01/",$B$1,"/",'Group Name and Year'!$E$14))))) -> #DIV/0! | E15: =IF(SUM(I15:AK15)>0,SUM(I15:AK15)," ") | F15: =Jan!AM16 -> #DIV/0! | G15: =VLOOKUP(B15,'Herbage Mass Residual'!$B$11:$O$140,($B$1+2),FALSE) -> 2500 | H15: =($F$7/VLOOKUP(B15,'Paddock Names'!$B$11:$D$140,3))*(SUM(I15:AK15)/31) -> #DIV/0!
B16: =B15+0.5 -> 3.5 | I16: =F15+(VLOOKUP(B15,'Growth Rates'!$B$11:$O$140,($B$1+2),FALSE))-(I15*(I$7/VLOOKUP(B15,'Paddock Names'!$B$11:$D$140,3))) -> #DIV/0! | J16: =I16+(VLOOKUP($B15,'Growth Rates'!$B$11:$O$140,($B$1+2),FALSE))-(J15*(J$7/VLOOKUP($B15,'Paddock Names'!$B$11:$D$140,3))) -> #DIV/0! | K16: =J16+(VLOOKUP($B15,'Growth Rates'!$B$11:$O$140,($B$1+2),FALSE))-(K15*(K$7/VLOOKUP($B15,'Paddock Names'!$B$11:$D$140,3))) -> #DIV/0! | L16: =K16+(VLOOKUP($B15,'Growth Rates'!$B$11:$O$140,($B$1+2),FALSE))-(L15*(L$7/VLOOKUP($B15,'Paddock Names'!$B$11:$D$140,3))) -> #DIV/0! | M16: =L16+(VLOOKUP($B15,'Growth Rates'!$B$11:$O$140,($B$1+2),FALSE))-(M15*(M$7/VLOOKUP($B15,'Paddock Names'!$B$11:$D$140,3))) -> #DIV/0! | N16: =M16+(VLOOKUP($B15,'Growth Rates'!$B$11:$O$140,($B$1+2),FALSE))-(N15*(N$7/VLOOKUP($B15,'Paddock Names'!$B$11:$D$140,3))) -> #DIV/0! | O16: =N16+(VLOOKUP($B15,'Growth Rates'!$B$11:$O$140,($B$1+2),FALSE))-(O15*(O$7/VLOOKUP($B15,'Paddock Names'!$B$11:$D$140,3))) -> #DIV/0! | P16: =O16+(VLOOKUP($B15,'Growth Rates'!$B$11:$O$140,($B$1+2),FALSE))-(P15*(P$7/VLOOKUP($B15,'Paddock Names'!$B$11:$D$140,3))) -> #DIV/0! | Q16: =P16+(VLOOKUP($B15,'Growth Rates'!$B$11:$O$140,($B$1+2),FALSE))-(Q15*(Q$7/VLOOKUP($B15,'Paddock Names'!$B$11:$D$140,3))) -> #DIV/0! | ... AK16: =AJ16+(VLOOKUP($B15,'Growth Rates'!$B$11:$O$140,($B$1+2),FALSE))-(AK15*(AK$7/VLOOKUP($B15,'Paddock Names'!$B$11:$D$140,3))) -> #DIV/0!
B17: =B16+0.5 -> 4 | C17: =IF(VLOOKUP(B17,'Paddock Names'!$B$11:$C$140,2)>0,VLOOKUP(B17,'Paddock Names'!$B$11:$C$140,2),"") | D17: =IF(((F17-G17)/(((VLOOKUP(B17,'Growth Rates'!$B$11:$O$140,($B$1+2),FALSE)))+0.001-(((I$7/VLOOKUP(B17,'Paddock Names'!$B$11:$D$140,3))))))*-1>(VALUE(CONCATENATE("01/",$B$1+1,"/",'Group Name and Year'!$E$14))-VALUE(CONCATENATE("01/",$B$1,"/",'Group Name and Year'!$E$14))),(VALUE(CONCATENATE("01/",$B$1+1,"/",'Group Name and Year'!$E$14))-VALUE(CONCATENATE("01/",$B$1,"/",'Group Name and Year'!$E$14))),(IF(((F17-G17)/(((VLOOKUP(B17,'Growth Rates'!$B$11:$O$140,($B$1+2),FALSE)))+0.001-(((I$7/VLOOKUP(B17,'Paddock Names'!$B$11:$D$140,3))))))*-1>0,ROUNDDOWN(((F17-G17)/(((VLOOKUP(B17,'Growth Rates'!$B$11:$O$140,($B$1+2),FALSE)))-(((I$7/VLOOKUP(B17,'Paddock Names'!$B$11:$D$140,3))))))*-1,0),VALUE(CONCATENATE("01/",$B$1+1,"/",'Group Name and Year'!$E$14))-VALUE(CONCATENATE("01/",$B$1,"/",'Group Name and Year'!$E$14))))) -> #DIV/0! | E17: =IF(SUM(I17:AK17)>0,SUM(I17:AK17)," ") | F17: =Jan!AM18 -> #DIV/0! | G17: =VLOOKUP(B17,'Herbage Mass Residual'!$B$11:$O$140,($B$1+2),FALSE) -> 2500 | H17: =($F$7/VLOOKUP(B17,'Paddock Names'!$B$11:$D$140,3))*(SUM(I17:AK17)/31) -> #DIV/0!
B18: =B17+0.5 -> 4.5 | I18: =F17+(VLOOKUP(B17,'Growth Rates'!$B$11:$O$140,($B$1+2),FALSE))-(I17*(I$7/VLOOKUP(B17,'Paddock Names'!$B$11:$D$140,3))) -> #DIV/0! | J18: =I18+(VLOOKUP($B17,'Growth Rates'!$B$11:$O$140,($B$1+2),FALSE))-(J17*(J$7/VLOOKUP($B17,'Paddock Names'!$B$11:$D$140,3))) -> #DIV/0! | K18: =J18+(VLOOKUP($B17,'Growth Rates'!$B$11:$O$140,($B$1+2),FALSE))-(K17*(K$7/VLOOKUP($B17,'Paddock Names'!$B$11:$D$140,3))) -> #DIV/0! | L18: =K18+(VLOOKUP($B17,'Growth Rates'!$B$11:$O$140,($B$1+2),FALSE))-(L17*(L$7/VLOOKUP($B17,'Paddock Names'!$B$11:$D$140,3))) -> #DIV/0! | M18: =L18+(VLOOKUP($B17,'Growth Rates'!$B$11:$O$140,($B$1+2),FALSE))-(M17*(M$7/VLOOKUP($B17,'Paddock Names'!$B$11:$D$140,3))) -> #DIV/0! | N18: =M18+(VLOOKUP($B17,'Growth Rates'!$B$11:$O$140,($B$1+2),FALSE))-(N17*(N$7/VLOOKUP($B17,'Paddock Names'!$B$11:$D$140,3))) -> #DIV/0! | O18: =N18+(VLOOKUP($B17,'Growth Rates'!$B$11:$O$140,($B$1+2),FALSE))-(O17*(O$7/VLOOKUP($B17,'Paddock Names'!$B$11:$D$140,3))) -> #DIV/0! | P18: =O18+(VLOOKUP($B17,'Growth Rates'!$B$11:$O$140,($B$1+2),FALSE))-(P17*(P$7/VLOOKUP($B17,'Paddock Names'!$B$11:$D$140,3))) -> #DIV/0! | Q18: =P18+(VLOOKUP($B17,'Growth Rates'!$B$11:$O$140,($B$1+2),FALSE))-(Q17*(Q$7/VLOOKUP($B17,'Paddock Names'!$B$11:$D$140,3))) -> #DIV/0! | ... AK18: =AJ18+(VLOOKUP($B17,'Growth Rates'!$B$11:$O$140,($B$1+2),FALSE))-(AK17*(AK$7/VLOOKUP($B17,'Paddock Names'!$B$11:$D$140,3))) -> #DIV/0!
B19: =B18+0.5 -> 5 | C19: =IF(VLOOKUP(B19,'Paddock Names'!$B$11:$C$140,2)>0,VLOOKUP(B19,'Paddock Names'!$B$11:$C$140,2),"") | D19: =IF(((F19-G19)/(((VLOOKUP(B19,'Growth Rates'!$B$11:$O$140,($B$1+2),FALSE)))+0.001-(((I$7/VLOOKUP(B19,'Paddock Names'!$B$11:$D$140,3))))))*-1>(VALUE(CONCATENATE("01/",$B$1+1,"/",'Group Name and Year'!$E$14))-VALUE(CONCATENATE("01/",$B$1,"/",'Group Name and Year'!$E$14))),(VALUE(CONCATENATE("01/",$B$1+1,"/",'Group Name and Year'!$E$14))-VALUE(CONCATENATE("01/",$B$1,"/",'Group Name and Year'!$E$14))),(IF(((F19-G19)/(((VLOOKUP(B19,'Growth Rates'!$B$11:$O$140,($B$1+2),FALSE)))+0.001-(((I$7/VLOOKUP(B19,'Paddock Names'!$B$11:$D$140,3))))))*-1>0,ROUNDDOWN(((F19-G19)/(((VLOOKUP(B19,'Growth Rates'!$B$11:$O$140,($B$1+2),FALSE)))-(((I$7/VLOOKUP(B19,'Paddock Names'!$B$11:$D$140,3))))))*-1,0),VALUE(CONCATENATE("01/",$B$1+1,"/",'Group Name and Year'!$E$14))-VALUE(CONCATENATE("01/",$B$1,"/",'Group Name and Year'!$E$14))))) -> #DIV/0! | E19: =IF(SUM(I19:AK19)>0,SUM(I19:AK19)," ") | F19: =Jan!AM20 -> #DIV/0! | G19: =VLOOKUP(B19,'Herbage Mass Residual'!$B$11:$O$140,($B$1+2),FALSE) -> 2500 | H19: =($F$7/VLOOKUP(B19,'Paddock Names'!$B$11:$D$140,3))*(SUM(I19:AK19)/31) -> #DIV/0!
B20: =B19+0.5 -> 5.5 | I20: =F19+(VLOOKUP(B19,'Growth Rates'!$B$11:$O$140,($B$1+2),FALSE))-(I19*(I$7/VLOOKUP(B19,'Paddock Names'!$B$11:$D$140,3))) -> #DIV/0! | J20: =I20+(VLOOKUP($B19,'Growth Rates'!$B$11:$O$140,($B$1+2),FALSE))-(J19*(J$7/VLOOKUP($B19,'Paddock Names'!$B$11:$D$140,3))) -> #DIV/0! | K20: =J20+(VLOOKUP($B19,'Growth Rates'!$B$11:$O$140,($B$1+2),FALSE))-(K19*(K$7/VLOOKUP($B19,'Paddock Names'!$B$11:$D$140,3))) -> #DIV/0! | L20: =K20+(VLOOKUP($B19,'Growth Rates'!$B$11:$O$140,($B$1+2),FALSE))-(L19*(L$7/VLOOKUP($B19,'Paddock Names'!$B$11:$D$140,3))) -> #DIV/0! | M20: =L20+(VLOOKUP($B19,'Growth Rates'!$B$11:$O$140,($B$1+2),FALSE))-(M19*(M$7/VLOOKUP($B19,'Paddock Names'!$B$11:$D$140,3))) -> #DIV/0! | N20: =M20+(VLOOKUP($B19,'Growth Rates'!$B$11:$O$140,($B$1+2),FALSE))-(N19*(N$7/VLOOKUP($B19,'Paddock Names'!$B$11:$D$140,3))) -> #DIV/0! | O20: =N20+(VLOOKUP($B19,'Growth Rates'!$B$11:$O$140,($B$1+2),FALSE))-(O19*(O$7/VLOOKUP($B19,'Paddock Names'!$B$11:$D$140,3))) -> #DIV/0! | P20: =O20+(VLOOKUP($B19,'Growth Rates'!$B$11:$O$140,($B$1+2),FALSE))-(P19*(P$7/VLOOKUP($B19,'Paddock Names'!$B$11:$D$140,3))) -> #DIV/0! | Q20: =P20+(VLOOKUP($B19,'Growth Rates'!$B$11:$O$140,($B$1+2),FALSE))-(Q19*(Q$7/VLOOKUP($B19,'Paddock Names'!$B$11:$D$140,3))) -> #DIV/0! | ... AK20: =AJ20+(VLOOKUP($B19,'Growth Rates'!$B$11:$O$140,($B$1+2),FALSE))-(AK19*(AK$7/VLOOKUP($B19,'Paddock Names'!$B$11:$D$140,3))) -> #DIV/0!
B21: =B20+0.5 -> 6 | C21: =IF(VLOOKUP(B21,'Paddock Names'!$B$11:$C$140,2)>0,VLOOKUP(B21,'Paddock Names'!$B$11:$C$140,2),"") | D21: =IF(((F21-G21)/(((VLOOKUP(B21,'Growth Rates'!$B$11:$O$140,($B$1+2),FALSE)))+0.001-(((I$7/VLOOKUP(B21,'Paddock Names'!$B$11:$D$140,3))))))*-1>(VALUE(CONCATENATE("01/",$B$1+1,"/",'Group Name and Year'!$E$14))-VALUE(CONCATENATE("01/",$B$1,"/",'Group Name and Year'!$E$14))),(VALUE(CONCATENATE("01/",$B$1+1,"/",'Group Name and Year'!$E$14))-VALUE(CONCATENATE("01/",$B$1,"/",'Group Name and Year'!$E$14))),(IF(((F21-G21)/(((VLOOKUP(B21,'Growth Rates'!$B$11:$O$140,($B$1+2),FALSE)))+0.001-(((I$7/VLOOKUP(B21,'Paddock Names'!$B$11:$D$140,3))))))*-1>0,ROUNDDOWN(((F21-G21)/(((VLOOKUP(B21,'Growth Rates'!$B$11:$O$140,($B$1+2),FALSE)))-(((I$7/VLOOKUP(B21,'Paddock Names'!$B$11:$D$140,3))))))*-1,0),VALUE(CONCATENATE("01/",$B$1+1,"/",'Group Name and Year'!$E$14))-VALUE(CONCATENATE("01/",$B$1,"/",'Group Name and Year'!$E$14))))) -> #DIV/0! | E21: =IF(SUM(I21:AK21)>0,SUM(I21:AK21)," ") | F21: =Jan!AM22 -> #DIV/0! | G21: =VLOOKUP(B21,'Herbage Mass Residual'!$B$11:$O$140,($B$1+2),FALSE) -> 2500 | H21: =($F$7/VLOOKUP(B21,'Paddock Names'!$B$11:$D$140,3))*(SUM(I21:AK21)/31) -> #DIV/0!
B22: =B21+0.5 -> 6.5 | I22: =F21+(VLOOKUP(B21,'Growth Rates'!$B$11:$O$140,($B$1+2),FALSE))-(I21*(I$7/VLOOKUP(B21,'Paddock Names'!$B$11:$D$140,3))) -> #DIV/0! | J22: =I22+(VLOOKUP($B21,'Growth Rates'!$B$11:$O$140,($B$1+2),FALSE))-(J21*(J$7/VLOOKUP($B21,'Paddock Names'!$B$11:$D$140,3))) -> #DIV/0! | K22: =J22+(VLOOKUP($B21,'Growth Rates'!$B$11:$O$140,($B$1+2),FALSE))-(K21*(K$7/VLOOKUP($B21,'Paddock Names'!$B$11:$D$140,3))) -> #DIV/0! | L22: =K22+(VLOOKUP($B21,'Growth Rates'!$B$11:$O$140,($B$1+2),FALSE))-(L21*(L$7/VLOOKUP($B21,'Paddock Names'!$B$11:$D$140,3))) -> #DIV/0! | M22: =L22+(VLOOKUP($B21,'Growth Rates'!$B$11:$O$140,($B$1+2),FALSE))-(M21*(M$7/VLOOKUP($B21,'Paddock Names'!$B$11:$D$140,3))) -> #DIV/0! | N22: =M22+(VLOOKUP($B21,'Growth Rates'!$B$11:$O$140,($B$1+2),FALSE))-(N21*(N$7/VLOOKUP($B21,'Paddock Names'!$B$11:$D$140,3))) -> #DIV/0! | O22: =N22+(VLOOKUP($B21,'Growth Rates'!$B$11:$O$140,($B$1+2),FALSE))-(O21*(O$7/VLOOKUP($B21,'Paddock Names'!$B$11:$D$140,3))) -> #DIV/0! | P22: =O22+(VLOOKUP($B21,'Growth Rates'!$B$11:$O$140,($B$1+2),FALSE))-(P21*(P$7/VLOOKUP($B21,'Paddock Names'!$B$11:$D$140,3))) -> #DIV/0! | Q22: =P22+(VLOOKUP($B21,'Growth Rates'!$B$11:$O$140,($B$1+2),FALSE))-(Q21*(Q$7/VLOOKUP($B21,'Paddock Names'!$B$11:$D$140,3))) -> #DIV/0! | ... AK22: =AJ22+(VLOOKUP($B21,'Growth Rates'!$B$11:$O$140,($B$1+2),FALSE))-(AK21*(AK$7/VLOOKUP($B21,'Paddock Names'!$B$11:$D$140,3))) -> #DIV/0!
B23: =B22+0.5 -> 7 | C23: =IF(VLOOKUP(B23,'Paddock Names'!$B$11:$C$140,2)>0,VLOOKUP(B23,'Paddock Names'!$B$11:$C$140,2),"") | D23: =IF(((F23-G23)/(((VLOOKUP(B23,'Growth Rates'!$B$11:$O$140,($B$1+2),FALSE)))+0.001-(((I$7/VLOOKUP(B23,'Paddock Names'!$B$11:$D$140,3))))))*-1>(VALUE(CONCATENATE("01/",$B$1+1,"/",'Group Name and Year'!$E$14))-VALUE(CONCATENATE("01/",$B$1,"/",'Group Name and Year'!$E$14))),(VALUE(CONCATENATE("01/",$B$1+1,"/",'Group Name and Year'!$E$14))-VALUE(CONCATENATE("01/",$B$1,"/",'Group Name and Year'!$E$14))),(IF(((F23-G23)/(((VLOOKUP(B23,'Growth Rates'!$B$11:$O$140,($B$1+2),FALSE)))+0.001-(((I$7/VLOOKUP(B23,'Paddock Names'!$B$11:$D$140,3))))))*-1>0,ROUNDDOWN(((F23-G23)/(((VLOOKUP(B23,'Growth Rates'!$B$11:$O$140,($B$1+2),FALSE)))-(((I$7/VLOOKUP(B23,'Paddock Names'!$B$11:$D$140,3))))))*-1,0),VALUE(CONCATENATE("01/",$B$1+1,"/",'Group Name and Year'!$E$14))-VALUE(CONCATENATE("01/",$B$1,"/",'Group Name and Year'!$E$14))))) -> #DIV/0! | E23: =IF(SUM(I23:AK23)>0,SUM(I23:AK23)," ") | F23: =Jan!AM24 -> #DIV/0! | G23: =VLOOKUP(B23,'Herbage Mass Residual'!$B$11:$O$140,($B$1+2),FALSE) -> 2500 | H23: =($F$7/VLOOKUP(B23,'Paddock Names'!$B$11:$D$140,3))*(SUM(I23:AK23)/31) -> #DIV/0!
B24: =B23+0.5 -> 7.5 | I24: =F23+(VLOOKUP(B23,'Growth Rates'!$B$11:$O$140,($B$1+2),FALSE))-(I23*(I$7/VLOOKUP(B23,'Paddock Names'!$B$11:$D$140,3))) -> #DIV/0! | J24: =I24+(VLOOKUP($B23,'Growth Rates'!$B$11:$O$140,($B$1+2),FALSE))-(J23*(J$7/VLOOKUP($B23,'Paddock Names'!$B$11:$D$140,3))) -> #DIV/0! | K24: =J24+(VLOOKUP($B23,'Growth Rates'!$B$11:$O$140,($B$1+2),FALSE))-(K23*(K$7/VLOOKUP($B23,'Paddock Names'!$B$11:$D$140,3))) -> #DIV/0! | L24: =K24+(VLOOKUP($B23,'Growth Rates'!$B$11:$O$140,($B$1+2),FALSE))-(L23*(L$7/VLOOKUP($B23,'Paddock Names'!$B$11:$D$140,3))) -> #DIV/0! | M24: =L24+(VLOOKUP($B23,'Growth Rates'!$B$11:$O$140,($B$1+2),FALSE))-(M23*(M$7/VLOOKUP($B23,'Paddock Names'!$B$11:$D$140,3))) -> #DIV/0! | N24: =M24+(VLOOKUP($B23,'Growth Rates'!$B$11:$O$140,($B$1+2),FALSE))-(N23*(N$7/VLOOKUP($B23,'Paddock Names'!$B$11:$D$140,3))) -> #DIV/0! | O24: =N24+(VLOOKUP($B23,'Growth Rates'!$B$11:$O$140,($B$1+2),FALSE))-(O23*(O$7/VLOOKUP($B23,'Paddock Names'!$B$11:$D$140,3))) -> #DIV/0! | P24: =O24+(VLOOKUP($B23,'Growth Rates'!$B$11:$O$140,($B$1+2),FALSE))-(P23*(P$7/VLOOKUP($B23,'Paddock Names'!$B$11:$D$140,3))) -> #DIV/0! | Q24: =P24+(VLOOKUP($B23,'Growth Rates'!$B$11:$O$140,($B$1+2),FALSE))-(Q23*(Q$7/VLOOKUP($B23,'Paddock Names'!$B$11:$D$140,3))) -> #DIV/0! | ... AK24: =AJ24+(VLOOKUP($B23,'Growth Rates'!$B$11:$O$140,($B$1+2),FALSE))-(AK23*(AK$7/VLOOKUP($B23,'Paddock Names'!$B$11:$D$140,3))) -> #DIV/0!
B25: =B24+0.5 -> 8 | C25: =IF(VLOOKUP(B25,'Paddock Names'!$B$11:$C$140,2)>0,VLOOKUP(B25,'Paddock Names'!$B$11:$C$140,2),"") | D25: =IF(((F25-G25)/(((VLOOKUP(B25,'Growth Rates'!$B$11:$O$140,($B$1+2),FALSE)))+0.001-(((I$7/VLOOKUP(B25,'Paddock Names'!$B$11:$D$140,3))))))*-1>(VALUE(CONCATENATE("01/",$B$1+1,"/",'Group Name and Year'!$E$14))-VALUE(CONCATENATE("01/",$B$1,"/",'Group Name and Year'!$E$14))),(VALUE(CONCATENATE("01/",$B$1+1,"/",'Group Name and Year'!$E$14))-VALUE(CONCATENATE("01/",$B$1,"/",'Group Name and Year'!$E$14))),(IF(((F25-G25)/(((VLOOKUP(B25,'Growth Rates'!$B$11:$O$140,($B$1+2),FALSE)))+0.001-(((I$7/VLOOKUP(B25,'Paddock Names'!$B$11:$D$140,3))))))*-1>0,ROUNDDOWN(((F25-G25)/(((VLOOKUP(B25,'Growth Rates'!$B$11:$O$140,($B$1+2),FALSE)))-(((I$7/VLOOKUP(B25,'Paddock Names'!$B$11:$D$140,3))))))*-1,0),VALUE(CONCATENATE("01/",$B$1+1,"/",'Group Name and Year'!$E$14))-VALUE(CONCATENATE("01/",$B$1,"/",'Group Name and Year'!$E$14))))) -> #DIV/0! | E25: =IF(SUM(I25:AK25)>0,SUM(I25:AK25)," ") | F25: =Jan!AM26 -> #DIV/0! | G25: =VLOOKUP(B25,'Herbage Mass Residual'!$B$11:$O$140,($B$1+2),FALSE) -> 2500 | H25: =($F$7/VLOOKUP(B25,'Paddock Names'!$B$11:$D$140,3))*(SUM(I25:AK25)/31) -> #DIV/0!
B26: =B25+0.5 -> 8.5 | I26: =F25+(VLOOKUP(B25,'Growth Rates'!$B$11:$O$140,($B$1+2),FALSE))-(I25*(I$7/VLOOKUP(B25,'Paddock Names'!$B$11:$D$140,3))) -> #DIV/0! | J26: =I26+(VLOOKUP($B25,'Growth Rates'!$B$11:$O$140,($B$1+2),FALSE))-(J25*(J$7/VLOOKUP($B25,'Paddock Names'!$B$11:$D$140,3))) -> #DIV/0! | K26: =J26+(VLOOKUP($B25,'Growth Rates'!$B$11:$O$140,($B$1+2),FALSE))-(K25*(K$7/VLOOKUP($B25,'Paddock Names'!$B$11:$D$140,3))) -> #DIV/0! | L26: =K26+(VLOOKUP($B25,'Growth Rates'!$B$11:$O$140,($B$1+2),FALSE))-(L25*(L$7/VLOOKUP($B25,'Paddock Names'!$B$11:$D$140,3))) -> #DIV/0! | M26: =L26+(VLOOKUP($B25,'Growth Rates'!$B$11:$O$140,($B$1+2),FALSE))-(M25*(M$7/VLOOKUP($B25,'Paddock Names'!$B$11:$D$140,3))) -> #DIV/0! | N26: =M26+(VLOOKUP($B25,'Growth Rates'!$B$11:$O$140,($B$1+2),FALSE))-(N25*(N$7/VLOOKUP($B25,'Paddock Names'!$B$11:$D$140,3))) -> #DIV/0! | O26: =N26+(VLOOKUP($B25,'Growth Rates'!$B$11:$O$140,($B$1+2),FALSE))-(O25*(O$7/VLOOKUP($B25,'Paddock Names'!$B$11:$D$140,3))) -> #DIV/0! | P26: =O26+(VLOOKUP($B25,'Growth Rates'!$B$11:$O$140,($B$1+2),FALSE))-(P25*(P$7/VLOOKUP($B25,'Paddock Names'!$B$11:$D$140,3))) -> #DIV/0! | Q26: =P26+(VLOOKUP($B25,'Growth Rates'!$B$11:$O$140,($B$1+2),FALSE))-(Q25*(Q$7/VLOOKUP($B25,'Paddock Names'!$B$11:$D$140,3))) -> #DIV/0! | ... AK26: =AJ26+(VLOOKUP($B25,'Growth Rates'!$B$11:$O$140,($B$1+2),FALSE))-(AK25*(AK$7/VLOOKUP($B25,'Paddock Names'!$B$11:$D$140,3))) -> #DIV/0!
B27: =B26+0.5 -> 9 | C27: =IF(VLOOKUP(B27,'Paddock Names'!$B$11:$C$140,2)>0,VLOOKUP(B27,'Paddock Names'!$B$11:$C$140,2),"") | D27: =IF(((F27-G27)/(((VLOOKUP(B27,'Growth Rates'!$B$11:$O$140,($B$1+2),FALSE)))+0.001-(((I$7/VLOOKUP(B27,'Paddock Names'!$B$11:$D$140,3))))))*-1>(VALUE(CONCATENATE("01/",$B$1+1,"/",'Group Name and Year'!$E$14))-VALUE(CONCATENATE("01/",$B$1,"/",'Group Name and Year'!$E$14))),(VALUE(CONCATENATE("01/",$B$1+1,"/",'Group Name and Year'!$E$14))-VALUE(CONCATENATE("01/",$B$1,"/",'Group Name and Year'!$E$14))),(IF(((F27-G27)/(((VLOOKUP(B27,'Growth Rates'!$B$11:$O$140,($B$1+2),FALSE)))+0.001-(((I$7/VLOOKUP(B27,'Paddock Names'!$B$11:$D$140,3))))))*-1>0,ROUNDDOWN(((F27-G27)/(((VLOOKUP(B27,'Growth Rates'!$B$11:$O$140,($B$1+2),FALSE)))-(((I$7/VLOOKUP(B27,'Paddock Names'!$B$11:$D$140,3))))))*-1,0),VALUE(CONCATENATE("01/",$B$1+1,"/",'Group Name and Year'!$E$14))-VALUE(CONCATENATE("01/",$B$1,"/",'Group Name and Year'!$E$14))))) -> #DIV/0! | E27: =IF(SUM(I27:AK27)>0,SUM(I27:AK27)," ") | F27: =Jan!AM28 -> #DIV/0! | G27: =VLOOKUP(B27,'Herbage Mass Residual'!$B$11:$O$140,($B$1+2),FALSE) -> 2500 | H27: =($F$7/VLOOKUP(B27,'Paddock Names'!$B$11:$D$140,3))*(SUM(I27:AK27)/31) -> #DIV/0!
B28: =B27+0.5 -> 9.5 | I28: =F27+(VLOOKUP(B27,'Growth Rates'!$B$11:$O$140,($B$1+2),FALSE))-(I27*(I$7/VLOOKUP(B27,'Paddock Names'!$B$11:$D$140,3))) -> #DIV/0! | J28: =I28+(VLOOKUP($B27,'Growth Rates'!$B$11:$O$140,($B$1+2),FALSE))-(J27*(J$7/VLOOKUP($B27,'Paddock Names'!$B$11:$D$140,3))) -> #DIV/0! | K28: =J28+(VLOOKUP($B27,'Growth Rates'!$B$11:$O$140,($B$1+2),FALSE))-(K27*(K$7/VLOOKUP($B27,'Paddock Names'!$B$11:$D$140,3))) -> #DIV/0! | L28: =K28+(VLOOKUP($B27,'Growth Rates'!$B$11:$O$140,($B$1+2),FALSE))-(L27*(L$7/VLOOKUP($B27,'Paddock Names'!$B$11:$D$140,3))) -> #DIV/0! | M28: =L28+(VLOOKUP($B27,'Growth Rates'!$B$11:$O$140,($B$1+2),FALSE))-(M27*(M$7/VLOOKUP($B27,'Paddock Names'!$B$11:$D$140,3))) -> #DIV/0! | N28: =M28+(VLOOKUP($B27,'Growth Rates'!$B$11:$O$140,($B$1+2),FALSE))-(N27*(N$7/VLOOKUP($B27,'Paddock Names'!$B$11:$D$140,3))) -> #DIV/0! | O28: =N28+(VLOOKUP($B27,'Growth Rates'!$B$11:$O$140,($B$1+2),FALSE))-(O27*(O$7/VLOOKUP($B27,'Paddock Names'!$B$11:$D$140,3))) -> #DIV/0! | P28: =O28+(VLOOKUP($B27,'Growth Rates'!$B$11:$O$140,($B$1+2),FALSE))-(P27*(P$7/VLOOKUP($B27,'Paddock Names'!$B$11:$D$140,3))) -> #DIV/0! | Q28: =P28+(VLOOKUP($B27,'Growth Rates'!$B$11:$O$140,($B$1+2),FALSE))-(Q27*(Q$7/VLOOKUP($B27,'Paddock Names'!$B$11:$D$140,3))) -> #DIV/0! | ... AK28: =AJ28+(VLOOKUP($B27,'Growth Rates'!$B$11:$O$140,($B$1+2),FALSE))-(AK27*(AK$7/VLOOKUP($B27,'Paddock Names'!$B$11:$D$140,3))) -> #DIV/0!
B29: =B28+0.5 -> 10 | C29: =IF(VLOOKUP(B29,'Paddock Names'!$B$11:$C$140,2)>0,VLOOKUP(B29,'Paddock Names'!$B$11:$C$140,2),"") | D29: =IF(((F29-G29)/(((VLOOKUP(B29,'Growth Rates'!$B$11:$O$140,($B$1+2),FALSE)))+0.001-(((I$7/VLOOKUP(B29,'Paddock Names'!$B$11:$D$140,3))))))*-1>(VALUE(CONCATENATE("01/",$B$1+1,"/",'Group Name and Year'!$E$14))-VALUE(CONCATENATE("01/",$B$1,"/",'Group Name and Year'!$E$14))),(VALUE(CONCATENATE("01/",$B$1+1,"/",'Group Name and Year'!$E$14))-VALUE(CONCATENATE("01/",$B$1,"/",'Group Name and Year'!$E$14))),(IF(((F29-G29)/(((VLOOKUP(B29,'Growth Rates'!$B$11:$O$140,($B$1+2),FALSE)))+0.001-(((I$7/VLOOKUP(B29,'Paddock Names'!$B$11:$D$140,3))))))*-1>0,ROUNDDOWN(((F29-G29)/(((VLOOKUP(B29,'Growth Rates'!$B$11:$O$140,($B$1+2),FALSE)))-(((I$7/VLOOKUP(B29,'Paddock Names'!$B$11:$D$140,3))))))*-1,0),VALUE(CONCATENATE("01/",$B$1+1,"/",'Group Name and Year'!$E$14))-VALUE(CONCATENATE("01/",$B$1,"/",'Group Name and Year'!$E$14))))) -> #DIV/0! | E29: =IF(SUM(I29:AK29)>0,SUM(I29:AK29)," ") | F29: =Jan!AM30 -> #DIV/0! | G29: =VLOOKUP(B29,'Herbage Mass Residual'!$B$11:$O$140,($B$1+2),FALSE) -> 2500 | H29: =($F$7/VLOOKUP(B29,'Paddock Names'!$B$11:$D$140,3))*(SUM(I29:AK29)/31) -> #DIV/0!
B30: =B29+0.5 -> 10.5 | I30: =F29+(VLOOKUP(B29,'Growth Rates'!$B$11:$O$140,($B$1+2),FALSE))-(I29*(I$7/VLOOKUP(B29,'Paddock Names'!$B$11:$D$140,3))) -> #DIV/0! | J30: =I30+(VLOOKUP($B29,'Growth Rates'!$B$11:$O$140,($B$1+2),FALSE))-(J29*(J$7/VLOOKUP($B29,'Paddock Names'!$B$11:$D$140,3))) -> #DIV/0! | K30: =J30+(VLOOKUP($B29,'Growth Rates'!$B$11:$O$140,($B$1+2),FALSE))-(K29*(K$7/VLOOKUP($B29,'Paddock Names'!$B$11:$D$140,3))) -> #DIV/0! | L30: =K30+(VLOOKUP($B29,'Growth Rates'!$B$11:$O$140,($B$1+2),FALSE))-(L29*(L$7/VLOOKUP($B29,'Paddock Names'!$B$11:$D$140,3))) -> #DIV/0! | M30: =L30+(VLOOKUP($B29,'Growth Rates'!$B$11:$O$140,($B$1+2),FALSE))-(M29*(M$7/VLOOKUP($B29,'Paddock Names'!$B$11:$D$140,3))) -> #DIV/0! | N30: =M30+(VLOOKUP($B29,'Growth Rates'!$B$11:$O$140,($B$1+2),FALSE))-(N29*(N$7/VLOOKUP($B29,'Paddock Names'!$B$11:$D$140,3))) -> #DIV/0! | O30: =N30+(VLOOKUP($B29,'Growth Rates'!$B$11:$O$140,($B$1+2),FALSE))-(O29*(O$7/VLOOKUP($B29,'Paddock Names'!$B$11:$D$140,3))) -> #DIV/0! | P30: =O30+(VLOOKUP($B29,'Growth Rates'!$B$11:$O$140,($B$1+2),FALSE))-(P29*(P$7/VLOOKUP($B29,'Paddock Names'!$B$11:$D$140,3))) -> #DIV/0! | Q30: =P30+(VLOOKUP($B29,'Growth Rates'!$B$11:$O$140,($B$1+2),FALSE))-(Q29*(Q$7/VLOOKUP($B29,'Paddock Names'!$B$11:$D$140,3))) -> #DIV/0! | ... AK30: =AJ30+(VLOOKUP($B29,'Growth Rates'!$B$11:$O$140,($B$1+2),FALSE))-(AK29*(AK$7/VLOOKUP($B29,'Paddock Names'!$B$11:$D$140,3))) -> #DIV/0!
B31: =B30+0.5 -> 11 | C31: =IF(VLOOKUP(B31,'Paddock Names'!$B$11:$C$140,2)>0,VLOOKUP(B31,'Paddock Names'!$B$11:$C$140,2),"") | D31: =IF(((F31-G31)/(((VLOOKUP(B31,'Growth Rates'!$B$11:$O$140,($B$1+2),FALSE)))+0.001-(((I$7/VLOOKUP(B31,'Paddock Names'!$B$11:$D$140,3))))))*-1>(VALUE(CONCATENATE("01/",$B$1+1,"/",'Group Name and Year'!$E$14))-VALUE(CONCATENATE("01/",$B$1,"/",'Group Name and Year'!$E$14))),(VALUE(CONCATENATE("01/",$B$1+1,"/",'Group Name and Year'!$E$14))-VALUE(CONCATENATE("01/",$B$1,"/",'Group Name and Year'!$E$14))),(IF(((F31-G31)/(((VLOOKUP(B31,'Growth Rates'!$B$11:$O$140,($B$1+2),FALSE)))+0.001-(((I$7/VLOOKUP(B31,'Paddock Names'!$B$11:$D$140,3))))))*-1>0,ROUNDDOWN(((F31-G31)/(((VLOOKUP(B31,'Growth Rates'!$B$11:$O$140,($B$1+2),FALSE)))-(((I$7/VLOOKUP(B31,'Paddock Names'!$B$11:$D$140,3))))))*-1,0),VALUE(CONCATENATE("01/",$B$1+1,"/",'Group Name and Year'!$E$14))-VALUE(CONCATENATE("01/",$B$1,"/",'Group Name and Year'!$E$14))))) -> #DIV/0! | E31: =IF(SUM(I31:AK31)>0,SUM(I31:AK31)," ") | F31: =Jan!AM32 -> #DIV/0! | G31: =VLOOKUP(B31,'Herbage Mass Residual'!$B$11:$O$140,($B$1+2),FALSE) -> 2500 | H31: =($F$7/VLOOKUP(B31,'Paddock Names'!$B$11:$D$140,3))*(SUM(I31:AK31)/31) -> #DIV/0!
B32: =B31+0.5 -> 11.5 | I32: =F31+(VLOOKUP(B31,'Growth Rates'!$B$11:$O$140,($B$1+2),FALSE))-(I31*(I$7/VLOOKUP(B31,'Paddock Names'!$B$11:$D$140,3))) -> #DIV/0! | J32: =I32+(VLOOKUP($B31,'Growth Rates'!$B$11:$O$140,($B$1+2),FALSE))-(J31*(J$7/VLOOKUP($B31,'Paddock Names'!$B$11:$D$140,3))) -> #DIV/0! | K32: =J32+(VLOOKUP($B31,'Growth Rates'!$B$11:$O$140,($B$1+2),FALSE))-(K31*(K$7/VLOOKUP($B31,'Paddock Names'!$B$11:$D$140,3))) -> #DIV/0! | L32: =K32+(VLOOKUP($B31,'Growth Rates'!$B$11:$O$140,($B$1+2),FALSE))-(L31*(L$7/VLOOKUP($B31,'Paddock Names'!$B$11:$D$140,3))) -> #DIV/0! | M32: =L32+(VLOOKUP($B31,'Growth Rates'!$B$11:$O$140,($B$1+2),FALSE))-(M31*(M$7/VLOOKUP($B31,'Paddock Names'!$B$11:$D$140,3))) -> #DIV/0! | N32: =M32+(VLOOKUP($B31,'Growth Rates'!$B$11:$O$140,($B$1+2),FALSE))-(N31*(N$7/VLOOKUP($B31,'Paddock Names'!$B$11:$D$140,3))) -> #DIV/0! | O32: =N32+(VLOOKUP($B31,'Growth Rates'!$B$11:$O$140,($B$1+2),FALSE))-(O31*(O$7/VLOOKUP($B31,'Paddock Names'!$B$11:$D$140,3))) -> #DIV/0! | P32: =O32+(VLOOKUP($B31,'Growth Rates'!$B$11:$O$140,($B$1+2),FALSE))-(P31*(P$7/VLOOKUP($B31,'Paddock Names'!$B$11:$D$140,3))) -> #DIV/0! | Q32: =P32+(VLOOKUP($B31,'Growth Rates'!$B$11:$O$140,($B$1+2),FALSE))-(Q31*(Q$7/VLOOKUP($B31,'Paddock Names'!$B$11:$D$140,3))) -> #DIV/0! | ... AK32: =AJ32+(VLOOKUP($B31,'Growth Rates'!$B$11:$O$140,($B$1+2),FALSE))-(AK31*(AK$7/VLOOKUP($B31,'Paddock Names'!$B$11:$D$140,3))) -> #DIV/0!
B33: =B32+0.5 -> 12 | C33: =IF(VLOOKUP(B33,'Paddock Names'!$B$11:$C$140,2)>0,VLOOKUP(B33,'Paddock Names'!$B$11:$C$140,2),"") | D33: =IF(((F33-G33)/(((VLOOKUP(B33,'Growth Rates'!$B$11:$O$140,($B$1+2),FALSE)))+0.001-(((I$7/VLOOKUP(B33,'Paddock Names'!$B$11:$D$140,3))))))*-1>(VALUE(CONCATENATE("01/",$B$1+1,"/",'Group Name and Year'!$E$14))-VALUE(CONCATENATE("01/",$B$1,"/",'Group Name and Year'!$E$14))),(VALUE(CONCATENATE("01/",$B$1+1,"/",'Group Name and Year'!$E$14))-VALUE(CONCATENATE("01/",$B$1,"/",'Group Name and Year'!$E$14))),(IF(((F33-G33)/(((VLOOKUP(B33,'Growth Rates'!$B$11:$O$140,($B$1+2),FALSE)))+0.001-(((I$7/VLOOKUP(B33,'Paddock Names'!$B$11:$D$140,3))))))*-1>0,ROUNDDOWN(((F33-G33)/(((VLOOKUP(B33,'Growth Rates'!$B$11:$O$140,($B$1+2),FALSE)))-(((I$7/VLOOKUP(B33,'Paddock Names'!$B$11:$D$140,3))))))*-1,0),VALUE(CONCATENATE("01/",$B$1+1,"/",'Group Name and Year'!$E$14))-VALUE(CONCATENATE("01/",$B$1,"/",'Group Name and Year'!$E$14))))) -> #DIV/0! | E33: =IF(SUM(I33:AK33)>0,SUM(I33:AK33)," ") | F33: =Jan!AM34 -> #DIV/0! | G33: =VLOOKUP(B33,'Herbage Mass Residual'!$B$11:$O$140,($B$1+2),FALSE) -> 2500 | H33: =($F$7/VLOOKUP(B33,'Paddock Names'!$B$11:$D$140,3))*(SUM(I33:AK33)/31) -> #DIV/0!
B34: =B33+0.5 -> 12.5 | I34: =F33+(VLOOKUP(B33,'Growth Rates'!$B$11:$O$140,($B$1+2),FALSE))-(I33*(I$7/VLOOKUP(B33,'Paddock Names'!$B$11:$D$140,3))) -> #DIV/0! | J34: =I34+(VLOOKUP($B33,'Growth Rates'!$B$11:$O$140,($B$1+2),FALSE))-(J33*(J$7/VLOOKUP($B33,'Paddock Names'!$B$11:$D$140,3))) -> #DIV/0! | K34: =J34+(VLOOKUP($B33,'Growth Rates'!$B$11:$O$140,($B$1+2),FALSE))-(K33*(K$7/VLOOKUP($B33,'Paddock Names'!$B$11:$D$140,3))) -> #DIV/0! | L34: =K34+(VLOOKUP($B33,'Growth Rates'!$B$11:$O$140,($B$1+2),FALSE))-(L33*(L$7/VLOOKUP($B33,'Paddock Names'!$B$11:$D$140,3))) -> #DIV/0! | M34: =L34+(VLOOKUP($B33,'Growth Rates'!$B$11:$O$140,($B$1+2),FALSE))-(M33*(M$7/VLOOKUP($B33,'Paddock Names'!$B$11:$D$140,3))) -> #DIV/0! | N34: =M34+(VLOOKUP($B33,'Growth Rates'!$B$11:$O$140,($B$1+2),FALSE))-(N33*(N$7/VLOOKUP($B33,'Paddock Names'!$B$11:$D$140,3))) -> #DIV/0! | O34: =N34+(VLOOKUP($B33,'Growth Rates'!$B$11:$O$140,($B$1+2),FALSE))-(O33*(O$7/VLOOKUP($B33,'Paddock Names'!$B$11:$D$140,3))) -> #DIV/0! | P34: =O34+(VLOOKUP($B33,'Growth Rates'!$B$11:$O$140,($B$1+2),FALSE))-(P33*(P$7/VLOOKUP($B33,'Paddock Names'!$B$11:$D$140,3))) -> #DIV/0! | Q34: =P34+(VLOOKUP($B33,'Growth Rates'!$B$11:$O$140,($B$1+2),FALSE))-(Q33*(Q$7/VLOOKUP($B33,'Paddock Names'!$B$11:$D$140,3))) -> #DIV/0! | ... AK34: =AJ34+(VLOOKUP($B33,'Growth Rates'!$B$11:$O$140,($B$1+2),FALSE))-(AK33*(AK$7/VLOOKUP($B33,'Paddock Names'!$B$11:$D$140,3))) -> #DIV/0!
B35: =B34+0.5 -> 13 | C35: =IF(VLOOKUP(B35,'Paddock Names'!$B$11:$C$140,2)>0,VLOOKUP(B35,'Paddock Names'!$B$11:$C$140,2),"") | D35: =IF(((F35-G35)/(((VLOOKUP(B35,'Growth Rates'!$B$11:$O$140,($B$1+2),FALSE)))+0.001-(((I$7/VLOOKUP(B35,'Paddock Names'!$B$11:$D$140,3))))))*-1>(VALUE(CONCATENATE("01/",$B$1+1,"/",'Group Name and Year'!$E$14))-VALUE(CONCATENATE("01/",$B$1,"/",'Group Name and Year'!$E$14))),(VALUE(CONCATENATE("01/",$B$1+1,"/",'Group Name and Year'!$E$14))-VALUE(CONCATENATE("01/",$B$1,"/",'Group Name and Year'!$E$14))),(IF(((F35-G35)/(((VLOOKUP(B35,'Growth Rates'!$B$11:$O$140,($B$1+2),FALSE)))+0.001-(((I$7/VLOOKUP(B35,'Paddock Names'!$B$11:$D$140,3))))))*-1>0,ROUNDDOWN(((F35-G35)/(((VLOOKUP(B35,'Growth Rates'!$B$11:$O$140,($B$1+2),FALSE)))-(((I$7/VLOOKUP(B35,'Paddock Names'!$B$11:$D$140,3))))))*-1,0),VALUE(CONCATENATE("01/",$B$1+1,"/",'Group Name and Year'!$E$14))-VALUE(CONCATENATE("01/",$B$1,"/",'Group Name and Year'!$E$14))))) -> #DIV/0! | E35: =IF(SUM(I35:AK35)>0,SUM(I35:AK35)," ") | F35: =Jan!AM36 -> #DIV/0! | G35: =VLOOKUP(B35,'Herbage Mass Residual'!$B$11:$O$140,($B$1+2),FALSE) -> 2500 | H35: =($F$7/VLOOKUP(B35,'Paddock Names'!$B$11:$D$140,3))*(SUM(I35:AK35)/31) -> #DIV/0!
B36: =B35+0.5 -> 13.5 | I36: =F35+(VLOOKUP(B35,'Growth Rates'!$B$11:$O$140,($B$1+2),FALSE))-(I35*(I$7/VLOOKUP(B35,'Paddock Names'!$B$11:$D$140,3))) -> #DIV/0! | J36: =I36+(VLOOKUP($B35,'Growth Rates'!$B$11:$O$140,($B$1+2),FALSE))-(J35*(J$7/VLOOKUP($B35,'Paddock Names'!$B$11:$D$140,3))) -> #DIV/0! | K36: =J36+(VLOOKUP($B35,'Growth Rates'!$B$11:$O$140,($B$1+2),FALSE))-(K35*(K$7/VLOOKUP($B35,'Paddock Names'!$B$11:$D$140,3))) -> #DIV/0! | L36: =K36+(VLOOKUP($B35,'Growth Rates'!$B$11:$O$140,($B$1+2),FALSE))-(L35*(L$7/VLOOKUP($B35,'Paddock Names'!$B$11:$D$140,3))) -> #DIV/0! | M36: =L36+(VLOOKUP($B35,'Growth Rates'!$B$11:$O$140,($B$1+2),FALSE))-(M35*(M$7/VLOOKUP($B35,'Paddock Names'!$B$11:$D$140,3))) -> #DIV/0! | N36: =M36+(VLOOKUP($B35,'Growth Rates'!$B$11:$O$140,($B$1+2),FALSE))-(N35*(N$7/VLOOKUP($B35,'Paddock Names'!$B$11:$D$140,3))) -> #DIV/0! | O36: =N36+(VLOOKUP($B35,'Growth Rates'!$B$11:$O$140,($B$1+2),FALSE))-(O35*(O$7/VLOOKUP($B35,'Paddock Names'!$B$11:$D$140,3))) -> #DIV/0! | P36: =O36+(VLOOKUP($B35,'Growth Rates'!$B$11:$O$140,($B$1+2),FALSE))-(P35*(P$7/VLOOKUP($B35,'Paddock Names'!$B$11:$D$140,3))) -> #DIV/0! | Q36: =P36+(VLOOKUP($B35,'Growth Rates'!$B$11:$O$140,($B$1+2),FALSE))-(Q35*(Q$7/VLOOKUP($B35,'Paddock Names'!$B$11:$D$140,3))) -> #DIV/0! | ... AK36: =AJ36+(VLOOKUP($B35,'Growth Rates'!$B$11:$O$140,($B$1+2),FALSE))-(AK35*(AK$7/VLOOKUP($B35,'Paddock Names'!$B$11:$D$140,3))) -> #DIV/0!
B37: =B36+0.5 -> 14 | C37: =IF(VLOOKUP(B37,'Paddock Names'!$B$11:$C$140,2)>0,VLOOKUP(B37,'Paddock Names'!$B$11:$C$140,2),"") | D37: =IF(((F37-G37)/(((VLOOKUP(B37,'Growth Rates'!$B$11:$O$140,($B$1+2),FALSE)))+0.001-(((I$7/VLOOKUP(B37,'Paddock Names'!$B$11:$D$140,3))))))*-1>(VALUE(CONCATENATE("01/",$B$1+1,"/",'Group Name and Year'!$E$14))-VALUE(CONCATENATE("01/",$B$1,"/",'Group Name and Year'!$E$14))),(VALUE(CONCATENATE("01/",$B$1+1,"/",'Group Name and Year'!$E$14))-VALUE(CONCATENATE("01/",$B$1,"/",'Group Name and Year'!$E$14))),(IF(((F37-G37)/(((VLOOKUP(B37,'Growth Rates'!$B$11:$O$140,($B$1+2),FALSE)))+0.001-(((I$7/VLOOKUP(B37,'Paddock Names'!$B$11:$D$140,3))))))*-1>0,ROUNDDOWN(((F37-G37)/(((VLOOKUP(B37,'Growth Rates'!$B$11:$O$140,($B$1+2),FALSE)))-(((I$7/VLOOKUP(B37,'Paddock Names'!$B$11:$D$140,3))))))*-1,0),VALUE(CONCATENATE("01/",$B$1+1,"/",'Group Name and Year'!$E$14))-VALUE(CONCATENATE("01/",$B$1,"/",'Group Name and Year'!$E$14))))) -> #DIV/0! | E37: =IF(SUM(I37:AK37)>0,SUM(I37:AK37)," ") | F37: =Jan!AM38 -> #DIV/0! | G37: =VLOOKUP(B37,'Herbage Mass Residual'!$B$11:$O$140,($B$1+2),FALSE) -> 2500 | H37: =($F$7/VLOOKUP(B37,'Paddock Names'!$B$11:$D$140,3))*(SUM(I37:AK37)/31) -> #DIV/0!
B38: =B37+0.5 -> 14.5 | I38: =F37+(VLOOKUP(B37,'Growth Rates'!$B$11:$O$140,($B$1+2),FALSE))-(I37*(I$7/VLOOKUP(B37,'Paddock Names'!$B$11:$D$140,3))) -> #DIV/0! | J38: =I38+(VLOOKUP($B37,'Growth Rates'!$B$11:$O$140,($B$1+2),FALSE))-(J37*(J$7/VLOOKUP($B37,'Paddock Names'!$B$11:$D$140,3))) -> #DIV/0! | K38: =J38+(VLOOKUP($B37,'Growth Rates'!$B$11:$O$140,($B$1+2),FALSE))-(K37*(K$7/VLOOKUP($B37,'Paddock Names'!$B$11:$D$140,3))) -> #DIV/0! | L38: =K38+(VLOOKUP($B37,'Growth Rates'!$B$11:$O$140,($B$1+2),FALSE))-(L37*(L$7/VLOOKUP($B37,'Paddock Names'!$B$11:$D$140,3))) -> #DIV/0! | M38: =L38+(VLOOKUP($B37,'Growth Rates'!$B$11:$O$140,($B$1+2),FALSE))-(M37*(M$7/VLOOKUP($B37,'Paddock Names'!$B$11:$D$140,3))) -> #DIV/0! | N38: =M38+(VLOOKUP($B37,'Growth Rates'!$B$11:$O$140,($B$1+2),FALSE))-(N37*(N$7/VLOOKUP($B37,'Paddock Names'!$B$11:$D$140,3))) -> #DIV/0! | O38: =N38+(VLOOKUP($B37,'Growth Rates'!$B$11:$O$140,($B$1+2),FALSE))-(O37*(O$7/VLOOKUP($B37,'Paddock Names'!$B$11:$D$140,3))) -> #DIV/0! | P38: =O38+(VLOOKUP($B37,'Growth Rates'!$B$11:$O$140,($B$1+2),FALSE))-(P37*(P$7/VLOOKUP($B37,'Paddock Names'!$B$11:$D$140,3))) -> #DIV/0! | Q38: =P38+(VLOOKUP($B37,'Growth Rates'!$B$11:$O$140,($B$1+2),FALSE))-(Q37*(Q$7/VLOOKUP($B37,'Paddock Names'!$B$11:$D$140,3))) -> #DIV/0! | ... AK38: =AJ38+(VLOOKUP($B37,'Growth Rates'!$B$11:$O$140,($B$1+2),FALSE))-(AK37*(AK$7/VLOOKUP($B37,'Paddock Names'!$B$11:$D$140,3))) -> #DIV/0!
B39: =B38+0.5 -> 15 | C39: =IF(VLOOKUP(B39,'Paddock Names'!$B$11:$C$140,2)>0,VLOOKUP(B39,'Paddock Names'!$B$11:$C$140,2),"") | D39: =IF(((F39-G39)/(((VLOOKUP(B39,'Growth Rates'!$B$11:$O$140,($B$1+2),FALSE)))+0.001-(((I$7/VLOOKUP(B39,'Paddock Names'!$B$11:$D$140,3))))))*-1>(VALUE(CONCATENATE("01/",$B$1+1,"/",'Group Name and Year'!$E$14))-VALUE(CONCATENATE("01/",$B$1,"/",'Group Name and Year'!$E$14))),(VALUE(CONCATENATE("01/",$B$1+1,"/",'Group Name and Year'!$E$14))-VALUE(CONCATENATE("01/",$B$1,"/",'Group Name and Year'!$E$14))),(IF(((F39-G39)/(((VLOOKUP(B39,'Growth Rates'!$B$11:$O$140,($B$1+2),FALSE)))+0.001-(((I$7/VLOOKUP(B39,'Paddock Names'!$B$11:$D$140,3))))))*-1>0,ROUNDDOWN(((F39-G39)/(((VLOOKUP(B39,'Growth Rates'!$B$11:$O$140,($B$1+2),FALSE)))-(((I$7/VLOOKUP(B39,'Paddock Names'!$B$11:$D$140,3))))))*-1,0),VALUE(CONCATENATE("01/",$B$1+1,"/",'Group Name and Year'!$E$14))-VALUE(CONCATENATE("01/",$B$1,"/",'Group Name and Year'!$E$14))))) -> #DIV/0! | E39: =IF(SUM(I39:AK39)>0,SUM(I39:AK39)," ") | F39: =Jan!AM40 -> #DIV/0! | G39: =VLOOKUP(B39,'Herbage Mass Residual'!$B$11:$O$140,($B$1+2),FALSE) -> 2500 | H39: =($F$7/VLOOKUP(B39,'Paddock Names'!$B$11:$D$140,3))*(SUM(I39:AK39)/31) -> #DIV/0!
B40: =B39+0.5 -> 15.5 | I40: =F39+(VLOOKUP(B39,'Growth Rates'!$B$11:$O$140,($B$1+2),FALSE))-(I39*(I$7/VLOOKUP(B39,'Paddock Names'!$B$11:$D$140,3))) -> #DIV/0! | J40: =I40+(VLOOKUP($B39,'Growth Rates'!$B$11:$O$140,($B$1+2),FALSE))-(J39*(J$7/VLOOKUP($B39,'Paddock Names'!$B$11:$D$140,3))) -> #DIV/0! | K40: =J40+(VLOOKUP($B39,'Growth Rates'!$B$11:$O$140,($B$1+2),FALSE))-(K39*(K$7/VLOOKUP($B39,'Paddock Names'!$B$11:$D$140,3))) -> #DIV/0! | L40: =K40+(VLOOKUP($B39,'Growth Rates'!$B$11:$O$140,($B$1+2),FALSE))-(L39*(L$7/VLOOKUP($B39,'Paddock Names'!$B$11:$D$140,3))) -> #DIV/0! | M40: =L40+(VLOOKUP($B39,'Growth Rates'!$B$11:$O$140,($B$1+2),FALSE))-(M39*(M$7/VLOOKUP($B39,'Paddock Names'!$B$11:$D$140,3))) -> #DIV/0! | N40: =M40+(VLOOKUP($B39,'Growth Rates'!$B$11:$O$140,($B$1+2),FALSE))-(N39*(N$7/VLOOKUP($B39,'Paddock Names'!$B$11:$D$140,3))) -> #DIV/0! | O40: =N40+(VLOOKUP($B39,'Growth Rates'!$B$11:$O$140,($B$1+2),FALSE))-(O39*(O$7/VLOOKUP($B39,'Paddock Names'!$B$11:$D$140,3))) -> #DIV/0! | P40: =O40+(VLOOKUP($B39,'Growth Rates'!$B$11:$O$140,($B$1+2),FALSE))-(P39*(P$7/VLOOKUP($B39,'Paddock Names'!$B$11:$D$140,3))) -> #DIV/0! | Q40: =P40+(VLOOKUP($B39,'Growth Rates'!$B$11:$O$140,($B$1+2),FALSE))-(Q39*(Q$7/VLOOKUP($B39,'Paddock Names'!$B$11:$D$140,3))) -> #DIV/0! | ... AK40: =AJ40+(VLOOKUP($B39,'Growth Rates'!$B$11:$O$140,($B$1+2),FALSE))-(AK39*(AK$7/VLOOKUP($B39,'Paddock Names'!$B$11:$D$140,3))) -> #DIV/0!
B41: =B40+0.5 -> 16 | C41: =IF(VLOOKUP(B41,'Paddock Names'!$B$11:$C$140,2)>0,VLOOKUP(B41,'Paddock Names'!$B$11:$C$140,2),"") | D41: =IF(((F41-G41)/(((VLOOKUP(B41,'Growth Rates'!$B$11:$O$140,($B$1+2),FALSE)))+0.001-(((I$7/VLOOKUP(B41,'Paddock Names'!$B$11:$D$140,3))))))*-1>(VALUE(CONCATENATE("01/",$B$1+1,"/",'Group Name and Year'!$E$14))-VALUE(CONCATENATE("01/",$B$1,"/",'Group Name and Year'!$E$14))),(VALUE(CONCATENATE("01/",$B$1+1,"/",'Group Name and Year'!$E$14))-VALUE(CONCATENATE("01/",$B$1,"/",'Group Name and Year'!$E$14))),(IF(((F41-G41)/(((VLOOKUP(B41,'Growth Rates'!$B$11:$O$140,($B$1+2),FALSE)))+0.001-(((I$7/VLOOKUP(B41,'Paddock Names'!$B$11:$D$140,3))))))*-1>0,ROUNDDOWN(((F41-G41)/(((VLOOKUP(B41,'Growth Rates'!$B$11:$O$140,($B$1+2),FALSE)))-(((I$7/VLOOKUP(B41,'Paddock Names'!$B$11:$D$140,3))))))*-1,0),VALUE(CONCATENATE("01/",$B$1+1,"/",'Group Name and Year'!$E$14))-VALUE(CONCATENATE("01/",$B$1,"/",'Group Name and Year'!$E$14))))) -> #DIV/0! | E41: =IF(SUM(I41:AK41)>0,SUM(I41:AK41)," ") | F41: =Jan!AM42 -> #DIV/0! | G41: =VLOOKUP(B41,'Herbage Mass Residual'!$B$11:$O$140,($B$1+2),FALSE) -> 2500 | H41: =($F$7/VLOOKUP(B41,'Paddock Names'!$B$11:$D$140,3))*(SUM(I41:AK41)/31) -> #DIV/0!
B42: =B41+0.5 -> 16.5 | I42: =F41+(VLOOKUP(B41,'Growth Rates'!$B$11:$O$140,($B$1+2),FALSE))-(I41*(I$7/VLOOKUP(B41,'Paddock Names'!$B$11:$D$140,3))) -> #DIV/0! | J42: =I42+(VLOOKUP($B41,'Growth Rates'!$B$11:$O$140,($B$1+2),FALSE))-(J41*(J$7/VLOOKUP($B41,'Paddock Names'!$B$11:$D$140,3))) -> #DIV/0! | K42: =J42+(VLOOKUP($B41,'Growth Rates'!$B$11:$O$140,($B$1+2),FALSE))-(K41*(K$7/VLOOKUP($B41,'Paddock Names'!$B$11:$D$140,3))) -> #DIV/0! | L42: =K42+(VLOOKUP($B41,'Growth Rates'!$B$11:$O$140,($B$1+2),FALSE))-(L41*(L$7/VLOOKUP($B41,'Paddock Names'!$B$11:$D$140,3))) -> #DIV/0! | M42: =L42+(VLOOKUP($B41,'Growth Rates'!$B$11:$O$140,($B$1+2),FALSE))-(M41*(M$7/VLOOKUP($B41,'Paddock Names'!$B$11:$D$140,3))) -> #DIV/0! | N42: =M42+(VLOOKUP($B41,'Growth Rates'!$B$11:$O$140,($B$1+2),FALSE))-(N41*(N$7/VLOOKUP($B41,'Paddock Names'!$B$11:$D$140,3))) -> #DIV/0! | O42: =N42+(VLOOKUP($B41,'Growth Rates'!$B$11:$O$140,($B$1+2),FALSE))-(O41*(O$7/VLOOKUP($B41,'Paddock Names'!$B$11:$D$140,3))) -> #DIV/0! | P42: =O42+(VLOOKUP($B41,'Growth Rates'!$B$11:$O$140,($B$1+2),FALSE))-(P41*(P$7/VLOOKUP($B41,'Paddock Names'!$B$11:$D$140,3))) -> #DIV/0! | Q42: =P42+(VLOOKUP($B41,'Growth Rates'!$B$11:$O$140,($B$1+2),FALSE))-(Q41*(Q$7/VLOOKUP($B41,'Paddock Names'!$B$11:$D$140,3))) -> #DIV/0! | ... AK42: =AJ42+(VLOOKUP($B41,'Growth Rates'!$B$11:$O$140,($B$1+2),FALSE))-(AK41*(AK$7/VLOOKUP($B41,'Paddock Names'!$B$11:$D$140,3))) -> #DIV/0!
B43: =B42+0.5 -> 17 | C43: =IF(VLOOKUP(B43,'Paddock Names'!$B$11:$C$140,2)>0,VLOOKUP(B43,'Paddock Names'!$B$11:$C$140,2),"") | D43: =IF(((F43-G43)/(((VLOOKUP(B43,'Growth Rates'!$B$11:$O$140,($B$1+2),FALSE)))+0.001-(((I$7/VLOOKUP(B43,'Paddock Names'!$B$11:$D$140,3))))))*-1>(VALUE(CONCATENATE("01/",$B$1+1,"/",'Group Name and Year'!$E$14))-VALUE(CONCATENATE("01/",$B$1,"/",'Group Name and Year'!$E$14))),(VALUE(CONCATENATE("01/",$B$1+1,"/",'Group Name and Year'!$E$14))-VALUE(CONCATENATE("01/",$B$1,"/",'Group Name and Year'!$E$14))),(IF(((F43-G43)/(((VLOOKUP(B43,'Growth Rates'!$B$11:$O$140,($B$1+2),FALSE)))+0.001-(((I$7/VLOOKUP(B43,'Paddock Names'!$B$11:$D$140,3))))))*-1>0,ROUNDDOWN(((F43-G43)/(((VLOOKUP(B43,'Growth Rates'!$B$11:$O$140,($B$1+2),FALSE)))-(((I$7/VLOOKUP(B43,'Paddock Names'!$B$11:$D$140,3))))))*-1,0),VALUE(CONCATENATE("01/",$B$1+1,"/",'Group Name and Year'!$E$14))-VALUE(CONCATENATE("01/",$B$1,"/",'Group Name and Year'!$E$14))))) -> #DIV/0! | E43: =IF(SUM(I43:AK43)>0,SUM(I43:AK43)," ") | F43: =Jan!AM44 -> #DIV/0! | G43: =VLOOKUP(B43,'Herbage Mass Residual'!$B$11:$O$140,($B$1+2),FALSE) -> 2500 | H43: =($F$7/VLOOKUP(B43,'Paddock Names'!$B$11:$D$140,3))*(SUM(I43:AK43)/31) -> #DIV/0!
B44: =B43+0.5 -> 17.5 | I44: =F43+(VLOOKUP(B43,'Growth Rates'!$B$11:$O$140,($B$1+2),FALSE))-(I43*(I$7/VLOOKUP(B43,'Paddock Names'!$B$11:$D$140,3))) -> #DIV/0! | J44: =I44+(VLOOKUP($B43,'Growth Rates'!$B$11:$O$140,($B$1+2),FALSE))-(J43*(J$7/VLOOKUP($B43,'Paddock Names'!$B$11:$D$140,3))) -> #DIV/0! | K44: =J44+(VLOOKUP($B43,'Growth Rates'!$B$11:$O$140,($B$1+2),FALSE))-(K43*(K$7/VLOOKUP($B43,'Paddock Names'!$B$11:$D$140,3))) -> #DIV/0! | L44: =K44+(VLOOKUP($B43,'Growth Rates'!$B$11:$O$140,($B$1+2),FALSE))-(L43*(L$7/VLOOKUP($B43,'Paddock Names'!$B$11:$D$140,3))) -> #DIV/0! | M44: =L44+(VLOOKUP($B43,'Growth Rates'!$B$11:$O$140,($B$1+2),FALSE))-(M43*(M$7/VLOOKUP($B43,'Paddock Names'!$B$11:$D$140,3))) -> #DIV/0! | N44: =M44+(VLOOKUP($B43,'Growth Rates'!$B$11:$O$140,($B$1+2),FALSE))-(N43*(N$7/VLOOKUP($B43,'Paddock Names'!$B$11:$D$140,3))) -> #DIV/0! | O44: =N44+(VLOOKUP($B43,'Growth Rates'!$B$11:$O$140,($B$1+2),FALSE))-(O43*(O$7/VLOOKUP($B43,'Paddock Names'!$B$11:$D$140,3))) -> #DIV/0! | P44: =O44+(VLOOKUP($B43,'Growth Rates'!$B$11:$O$140,($B$1+2),FALSE))-(P43*(P$7/VLOOKUP($B43,'Paddock Names'!$B$11:$D$140,3))) -> #DIV/0! | Q44: =P44+(VLOOKUP($B43,'Growth Rates'!$B$11:$O$140,($B$1+2),FALSE))-(Q43*(Q$7/VLOOKUP($B43,'Paddock Names'!$B$11:$D$140,3))) -> #DIV/0! | ... AK44: =AJ44+(VLOOKUP($B43,'Growth Rates'!$B$11:$O$140,($B$1+2),FALSE))-(AK43*(AK$7/VLOOKUP($B43,'Paddock Names'!$B$11:$D$140,3))) -> #DIV/0!
B45: =B44+0.5 -> 18 | C45: =IF(VLOOKUP(B45,'Paddock Names'!$B$11:$C$140,2)>0,VLOOKUP(B45,'Paddock Names'!$B$11:$C$140,2),"") | D45: =IF(((F45-G45)/(((VLOOKUP(B45,'Growth Rates'!$B$11:$O$140,($B$1+2),FALSE)))+0.001-(((I$7/VLOOKUP(B45,'Paddock Names'!$B$11:$D$140,3))))))*-1>(VALUE(CONCATENATE("01/",$B$1+1,"/",'Group Name and Year'!$E$14))-VALUE(CONCATENATE("01/",$B$1,"/",'Group Name and Year'!$E$14))),(VALUE(CONCATENATE("01/",$B$1+1,"/",'Group Name and Year'!$E$14))-VALUE(CONCATENATE("01/",$B$1,"/",'Group Name and Year'!$E$14))),(IF(((F45-G45)/(((VLOOKUP(B45,'Growth Rates'!$B$11:$O$140,($B$1+2),FALSE)))+0.001-(((I$7/VLOOKUP(B45,'Paddock Names'!$B$11:$D$140,3))))))*-1>0,ROUNDDOWN(((F45-G45)/(((VLOOKUP(B45,'Growth Rates'!$B$11:$O$140,($B$1+2),FALSE)))-(((I$7/VLOOKUP(B45,'Paddock Names'!$B$11:$D$140,3))))))*-1,0),VALUE(CONCATENATE("01/",$B$1+1,"/",'Group Name and Year'!$E$14))-VALUE(CONCATENATE("01/",$B$1,"/",'Group Name and Year'!$E$14))))) -> #DIV/0! | E45: =IF(SUM(I45:AK45)>0,SUM(I45:AK45)," ") | F45: =Jan!AM46 -> #DIV/0! | G45: =VLOOKUP(B45,'Herbage Mass Residual'!$B$11:$O$140,($B$1+2),FALSE) -> 2500 | H45: =($F$7/VLOOKUP(B45,'Paddock Names'!$B$11:$D$140,3))*(SUM(I45:AK45)/31) -> #DIV/0!
B46: =B45+0.5 -> 18.5 | I46: =F45+(VLOOKUP(B45,'Growth Rates'!$B$11:$O$140,($B$1+2),FALSE))-(I45*(I$7/VLOOKUP(B45,'Paddock Names'!$B$11:$D$140,3))) -> #DIV/0! | J46: =I46+(VLOOKUP($B45,'Growth Rates'!$B$11:$O$140,($B$1+2),FALSE))-(J45*(J$7/VLOOKUP($B45,'Paddock Names'!$B$11:$D$140,3))) -> #DIV/0! | K46: =J46+(VLOOKUP($B45,'Growth Rates'!$B$11:$O$140,($B$1+2),FALSE))-(K45*(K$7/VLOOKUP($B45,'Paddock Names'!$B$11:$D$140,3))) -> #DIV/0! | L46: =K46+(VLOOKUP($B45,'Growth Rates'!$B$11:$O$140,($B$1+2),FALSE))-(L45*(L$7/VLOOKUP($B45,'Paddock Names'!$B$11:$D$140,3))) -> #DIV/0! | M46: =L46+(VLOOKUP($B45,'Growth Rates'!$B$11:$O$140,($B$1+2),FALSE))-(M45*(M$7/VLOOKUP($B45,'Paddock Names'!$B$11:$D$140,3))) -> #DIV/0! | N46: =M46+(VLOOKUP($B45,'Growth Rates'!$B$11:$O$140,($B$1+2),FALSE))-(N45*(N$7/VLOOKUP($B45,'Paddock Names'!$B$11:$D$140,3))) -> #DIV/0! | O46: =N46+(VLOOKUP($B45,'Growth Rates'!$B$11:$O$140,($B$1+2),FALSE))-(O45*(O$7/VLOOKUP($B45,'Paddock Names'!$B$11:$D$140,3))) -> #DIV/0! | P46: =O46+(VLOOKUP($B45,'Growth Rates'!$B$11:$O$140,($B$1+2),FALSE))-(P45*(P$7/VLOOKUP($B45,'Paddock Names'!$B$11:$D$140,3))) -> #DIV/0! | Q46: =P46+(VLOOKUP($B45,'Growth Rates'!$B$11:$O$140,($B$1+2),FALSE))-(Q45*(Q$7/VLOOKUP($B45,'Paddock Names'!$B$11:$D$140,3))) -> #DIV/0! | ... AK46: =AJ46+(VLOOKUP($B45,'Growth Rates'!$B$11:$O$140,($B$1+2),FALSE))-(AK45*(AK$7/VLOOKUP($B45,'Paddock Names'!$B$11:$D$140,3))) -> #DIV/0!
B47: =B46+0.5 -> 19 | C47: =IF(VLOOKUP(B47,'Paddock Names'!$B$11:$C$140,2)>0,VLOOKUP(B47,'Paddock Names'!$B$11:$C$140,2),"") | D47: =IF(((F47-G47)/(((VLOOKUP(B47,'Growth Rates'!$B$11:$O$140,($B$1+2),FALSE)))+0.001-(((I$7/VLOOKUP(B47,'Paddock Names'!$B$11:$D$140,3))))))*-1>(VALUE(CONCATENATE("01/",$B$1+1,"/",'Group Name and Year'!$E$14))-VALUE(CONCATENATE("01/",$B$1,"/",'Group Name and Year'!$E$14))),(VALUE(CONCATENATE("01/",$B$1+1,"/",'Group Name and Year'!$E$14))-VALUE(CONCATENATE("01/",$B$1,"/",'Group Name and Year'!$E$14))),(IF(((F47-G47)/(((VLOOKUP(B47,'Growth Rates'!$B$11:$O$140,($B$1+2),FALSE)))+0.001-(((I$7/VLOOKUP(B47,'Paddock Names'!$B$11:$D$140,3))))))*-1>0,ROUNDDOWN(((F47-G47)/(((VLOOKUP(B47,'Growth Rates'!$B$11:$O$140,($B$1+2),FALSE)))-(((I$7/VLOOKUP(B47,'Paddock Names'!$B$11:$D$140,3))))))*-1,0),VALUE(CONCATENATE("01/",$B$1+1,"/",'Group Name and Year'!$E$14))-VALUE(CONCATENATE("01/",$B$1,"/",'Group Name and Year'!$E$14))))) -> #DIV/0! | E47: =IF(SUM(I47:AK47)>0,SUM(I47:AK47)," ") | F47: =Jan!AM48 -> #DIV/0! | G47: =VLOOKUP(B47,'Herbage Mass Residual'!$B$11:$O$140,($B$1+2),FALSE) -> 2500 | H47: =($F$7/VLOOKUP(B47,'Paddock Names'!$B$11:$D$140,3))*(SUM(I47:AK47)/31) -> #DIV/0!
